BEGIN:VCALENDAR
VERSION:2.0
PRODID:-//Kulturbühne Hinterhalt - ECPv6.15.20//NONSGML v1.0//EN
CALSCALE:GREGORIAN
METHOD:PUBLISH
X-WR-CALNAME:Kulturbühne Hinterhalt
X-ORIGINAL-URL:https://hinterhalt.de
X-WR-CALDESC:Veranstaltungen für Kulturbühne Hinterhalt
REFRESH-INTERVAL;VALUE=DURATION:PT1H
X-Robots-Tag:noindex
X-PUBLISHED-TTL:PT1H
BEGIN:VTIMEZONE
TZID:Europe/Berlin
BEGIN:DAYLIGHT
TZOFFSETFROM:+0100
TZOFFSETTO:+0200
TZNAME:CEST
DTSTART:20220327T010000
END:DAYLIGHT
BEGIN:STANDARD
TZOFFSETFROM:+0200
TZOFFSETTO:+0100
TZNAME:CET
DTSTART:20221030T010000
END:STANDARD
BEGIN:DAYLIGHT
TZOFFSETFROM:+0100
TZOFFSETTO:+0200
TZNAME:CEST
DTSTART:20230326T010000
END:DAYLIGHT
BEGIN:STANDARD
TZOFFSETFROM:+0200
TZOFFSETTO:+0100
TZNAME:CET
DTSTART:20231029T010000
END:STANDARD
BEGIN:DAYLIGHT
TZOFFSETFROM:+0100
TZOFFSETTO:+0200
TZNAME:CEST
DTSTART:20240331T010000
END:DAYLIGHT
BEGIN:STANDARD
TZOFFSETFROM:+0200
TZOFFSETTO:+0100
TZNAME:CET
DTSTART:20241027T010000
END:STANDARD
END:VTIMEZONE
BEGIN:VEVENT
DTSTART;TZID=Europe/Berlin:20231115T200000
DTEND;TZID=Europe/Berlin:20231115T220000
DTSTAMP:20260425T165103
CREATED:20230807T124906Z
LAST-MODIFIED:20231031T081805Z
UID:6348-1700078400-1700085600@hinterhalt.de
SUMMARY:Konstantin Wecker - "Gut\, wieder hier zu sein!"
DESCRIPTION:Lesung\, Rezitation und Acapella-Gesang von und mit Konstantin Wecker – hautnah zu erleben. Ein Komponist\, Musiker und Sänger\, der künstlerisch unglaublich erfolgreich war und ist und dazwischen – trotz der Erfolge (oder gerade deshalb) – auch gründlich „baden“ gegangen ist.  \n\n\n\nEr bringt ein ganz besonderes Programm mit… \n\n\n\n\n\nEinlass 19 Uhr
URL:https://hinterhalt.de/veranstaltung/konstantig-weckergut-wieder-hier-zu-sein/
LOCATION:Kulturbühne Hinterhalt\, Leitenstraße 40\, Geretsried\, 82538\, Deutschland
CATEGORIES:Konzert
ATTACH;FMTTYPE=image/jpeg:https://hinterhalt.de/wp-content/uploads/2023/08/Foto1_Konstantin_Wecker_copyright_Thomas_Karsten.jpg
END:VEVENT
END:VCALENDAR