BEGIN:VCALENDAR
VERSION:2.0
PRODID:-//Kulturbühne Hinterhalt - ECPv6.15.20//NONSGML v1.0//EN
CALSCALE:GREGORIAN
METHOD:PUBLISH
X-WR-CALNAME:Kulturbühne Hinterhalt
X-ORIGINAL-URL:https://hinterhalt.de
X-WR-CALDESC:Veranstaltungen für Kulturbühne Hinterhalt
REFRESH-INTERVAL;VALUE=DURATION:PT1H
X-Robots-Tag:noindex
X-PUBLISHED-TTL:PT1H
BEGIN:VTIMEZONE
TZID:Europe/Berlin
BEGIN:DAYLIGHT
TZOFFSETFROM:+0100
TZOFFSETTO:+0200
TZNAME:CEST
DTSTART:20240331T010000
END:DAYLIGHT
BEGIN:STANDARD
TZOFFSETFROM:+0200
TZOFFSETTO:+0100
TZNAME:CET
DTSTART:20241027T010000
END:STANDARD
BEGIN:DAYLIGHT
TZOFFSETFROM:+0100
TZOFFSETTO:+0200
TZNAME:CEST
DTSTART:20250330T010000
END:DAYLIGHT
BEGIN:STANDARD
TZOFFSETFROM:+0200
TZOFFSETTO:+0100
TZNAME:CET
DTSTART:20251026T010000
END:STANDARD
BEGIN:DAYLIGHT
TZOFFSETFROM:+0100
TZOFFSETTO:+0200
TZNAME:CEST
DTSTART:20260329T010000
END:DAYLIGHT
BEGIN:STANDARD
TZOFFSETFROM:+0200
TZOFFSETTO:+0100
TZNAME:CET
DTSTART:20261025T010000
END:STANDARD
END:VTIMEZONE
BEGIN:VEVENT
DTSTART;TZID=Europe/Berlin:20251016T200000
DTEND;TZID=Europe/Berlin:20251016T230000
DTSTAMP:20260426T043008
CREATED:20250326T124051Z
LAST-MODIFIED:20251007T113232Z
UID:9787-1760644800-1760655600@hinterhalt.de
SUMMARY:Schäfer Brustmann Horn - Konzert der Stadt Geretsried
DESCRIPTION:Hurra\, sie sind wieder da! Ihr Programm\, zu dem sich drei vogelwilde Künstler zusammen gefunden haben (die unterschiedlicher nicht sein können)\, heißt „Isara Rapidus“. Was bedeutet es\, auf der Welt zu sein? In ihren Ausflügen in die Volksmusik geht das Trio „Isara Rapidus“ großen Fragen nach. Viele der Lieder haben einen persönlichen Bezug\, alle kommen aus dem echten Leben\, sind verwurzelt in der Region. „Das ist der Sebastian Horn (Bananafishbones/Dreiviertelblut)\, das ist der Benni Schäfer (max.bab/Dreiviertelblut) und i bin der Josef (Josef Brustmann) ….“ stellt Brustmann dieses Trio in der Regel vor. Namen dreier Künstler\, die sicherlich selber bis vor kurzer Zeit nicht erwartet hätten\, dass sie sich zusammen auf der Bühne wieder finden. Die Musiker sind in Waldram\, Lenggries und Geretsried groß geworden\, also in Flußnähe Isar\, und sie wissen\, wovon sie singen\, erzählen und worüber sie Scherze machen.  \n\n\n\nEin unterhaltsamer\, nicht heimeliger Heimatabend der besonderen Art. Eine Veranstaltung der Stadt Geretsried in Kooperation mit der Kulturbühne Hinterhalt; Reservierungen über kultur@geretsried.de \n\n\n\nEinlass 19:00
URL:https://hinterhalt.de/veranstaltung/konzert-der-stadt-geretsried/
LOCATION:Kulturbühne Hinterhalt\, Leitenstraße 40\, Geretsried\, 82538\, Deutschland
CATEGORIES:Konzert
ATTACH;FMTTYPE=image/jpeg:https://hinterhalt.de/wp-content/uploads/2023/08/Brustmann-Schaefer-Horn-2.jpg
END:VEVENT
END:VCALENDAR