BEGIN:VCALENDAR
VERSION:2.0
PRODID:-//Kulturbühne Hinterhalt - ECPv6.15.20//NONSGML v1.0//EN
CALSCALE:GREGORIAN
METHOD:PUBLISH
X-WR-CALNAME:Kulturbühne Hinterhalt
X-ORIGINAL-URL:https://hinterhalt.de
X-WR-CALDESC:Veranstaltungen für Kulturbühne Hinterhalt
REFRESH-INTERVAL;VALUE=DURATION:PT1H
X-Robots-Tag:noindex
X-PUBLISHED-TTL:PT1H
BEGIN:VTIMEZONE
TZID:Europe/Berlin
BEGIN:DAYLIGHT
TZOFFSETFROM:+0100
TZOFFSETTO:+0200
TZNAME:CEST
DTSTART:20230326T010000
END:DAYLIGHT
BEGIN:STANDARD
TZOFFSETFROM:+0200
TZOFFSETTO:+0100
TZNAME:CET
DTSTART:20231029T010000
END:STANDARD
BEGIN:DAYLIGHT
TZOFFSETFROM:+0100
TZOFFSETTO:+0200
TZNAME:CEST
DTSTART:20240331T010000
END:DAYLIGHT
BEGIN:STANDARD
TZOFFSETFROM:+0200
TZOFFSETTO:+0100
TZNAME:CET
DTSTART:20241027T010000
END:STANDARD
BEGIN:DAYLIGHT
TZOFFSETFROM:+0100
TZOFFSETTO:+0200
TZNAME:CEST
DTSTART:20250330T010000
END:DAYLIGHT
BEGIN:STANDARD
TZOFFSETFROM:+0200
TZOFFSETTO:+0100
TZNAME:CET
DTSTART:20251026T010000
END:STANDARD
END:VTIMEZONE
BEGIN:VEVENT
DTSTART;TZID=Europe/Berlin:20240512T180000
DTEND;TZID=Europe/Berlin:20240512T191500
DTSTAMP:20260424T203751
CREATED:20240301T144049Z
LAST-MODIFIED:20240510T110650Z
UID:7497-1715536800-1715541300@hinterhalt.de
SUMMARY:Verschoben auf 9. Juni 19 Uhr! Kopf über Stöckelschuh‘ - Martina Burger & Claudia Sommer
DESCRIPTION:Bereits gekaufte Karten behalten ihre Gültigkeit. Reservierungen gelten automatisch weiter. \n\n\n\nEs ist eben so wie es ist… nur manchmal fühlt es sich ganz anders an \n\n\n\nEine musikalisch-szenische Lesung \n\n\n\nEmotional – rational. \n\n\n\nNachdenklich – humorvoll. \n\n\n\nEin experimentelles Spiel. \n\n\n\nPoesie\, Geschichten und Lieder sind voller Gefühle. \n\n\n\nMartina Burger und Claudia Sommer sind es auch. \n\n\n\nMartina Burger\, Sprechtrainerin\, ausgebildete Sprecherin und Trauerrednerin liest Literarisches von Gustave Flaubert bis Bertolt Brecht\, von Konstantin Wecker bis Julia Engelmann. \n\n\n\nDie Sängerin Claudia Sommer tritt seit Jahren im In- und Ausland auf. In diesem Programm singt sie Eigenkompositionen und interpretiert Lieder  bekannter Künstler. \n\n\n\n\n\nDauer: ca. 60 Minuten
URL:https://hinterhalt.de/veranstaltung/kopf-ueber-stoeckelschuh-claudia-sommer-und-martina-burger/
LOCATION:Hinterhalt I\, Leitenstraße 40\, Geretsried\, 82538
CATEGORIES:Konzert
ATTACH;FMTTYPE=image/jpeg:https://hinterhalt.de/wp-content/uploads/2024/03/Claudia-Sommer.jpg
END:VEVENT
END:VCALENDAR