BEGIN:VCALENDAR
VERSION:2.0
PRODID:-//Kulturbühne Hinterhalt - ECPv6.15.20//NONSGML v1.0//EN
CALSCALE:GREGORIAN
METHOD:PUBLISH
X-WR-CALNAME:Kulturbühne Hinterhalt
X-ORIGINAL-URL:https://hinterhalt.de
X-WR-CALDESC:Veranstaltungen für Kulturbühne Hinterhalt
REFRESH-INTERVAL;VALUE=DURATION:PT1H
X-Robots-Tag:noindex
X-PUBLISHED-TTL:PT1H
BEGIN:VTIMEZONE
TZID:Europe/Berlin
BEGIN:DAYLIGHT
TZOFFSETFROM:+0100
TZOFFSETTO:+0200
TZNAME:CEST
DTSTART:20250330T010000
END:DAYLIGHT
BEGIN:STANDARD
TZOFFSETFROM:+0200
TZOFFSETTO:+0100
TZNAME:CET
DTSTART:20251026T010000
END:STANDARD
BEGIN:DAYLIGHT
TZOFFSETFROM:+0100
TZOFFSETTO:+0200
TZNAME:CEST
DTSTART:20260329T010000
END:DAYLIGHT
BEGIN:STANDARD
TZOFFSETFROM:+0200
TZOFFSETTO:+0100
TZNAME:CET
DTSTART:20261025T010000
END:STANDARD
BEGIN:DAYLIGHT
TZOFFSETFROM:+0100
TZOFFSETTO:+0200
TZNAME:CEST
DTSTART:20270328T010000
END:DAYLIGHT
BEGIN:STANDARD
TZOFFSETFROM:+0200
TZOFFSETTO:+0100
TZNAME:CET
DTSTART:20271031T010000
END:STANDARD
END:VTIMEZONE
BEGIN:VEVENT
DTSTART;TZID=Europe/Berlin:20260130T200000
DTEND;TZID=Europe/Berlin:20260130T223000
DTSTAMP:20260424T105900
CREATED:20251002T181938Z
LAST-MODIFIED:20260127T080653Z
UID:10647-1769803200-1769812200@hinterhalt.de
SUMMARY:Abgesagt wg. Erkrankung! Lisa Fitzek
DESCRIPTION:Lisa Fitzek hat sich mit ihrer warmen\, unverwechselbaren Stimme und tiefgründigen Songs als feste Größe in der deutschen Folk-Szene etabliert. \n\n\n\nSeit ihren Anfängen als Straßenmusikerin 2016 begeistert sie heute auf größeren Bühnen – solo\, im Duo oder mit Band – und bewegt ihr Publikum mit ehrlichen Geschichten in englischer\, deutscher und französischer Sprache. Ihre Musik ist geprägt von britisch-irischen Folk-Einflüssen und erinnert in Atmosphäre und Intensität an Künstlerinnen wie Joan Baez oder Tracy Chapman. \n\n\n\n\n\n\n\n\n\nEinlass ab 19 Uhr
URL:https://hinterhalt.de/veranstaltung/lisa-fitzek/
LOCATION:Hinterhalt I\, Leitenstraße 40\, Geretsried\, 82538
CATEGORIES:Konzert
ATTACH;FMTTYPE=image/jpeg:https://hinterhalt.de/wp-content/uploads/2025/10/Lisa-Fitzek.jpg
END:VEVENT
END:VCALENDAR