BEGIN:VCALENDAR
VERSION:2.0
PRODID:-//Kulturbühne Hinterhalt - ECPv6.15.20//NONSGML v1.0//EN
CALSCALE:GREGORIAN
METHOD:PUBLISH
X-WR-CALNAME:Kulturbühne Hinterhalt
X-ORIGINAL-URL:https://hinterhalt.de
X-WR-CALDESC:Veranstaltungen für Kulturbühne Hinterhalt
REFRESH-INTERVAL;VALUE=DURATION:PT1H
X-Robots-Tag:noindex
X-PUBLISHED-TTL:PT1H
BEGIN:VTIMEZONE
TZID:Europe/Berlin
BEGIN:DAYLIGHT
TZOFFSETFROM:+0100
TZOFFSETTO:+0200
TZNAME:CEST
DTSTART:20220327T010000
END:DAYLIGHT
BEGIN:STANDARD
TZOFFSETFROM:+0200
TZOFFSETTO:+0100
TZNAME:CET
DTSTART:20221030T010000
END:STANDARD
BEGIN:DAYLIGHT
TZOFFSETFROM:+0100
TZOFFSETTO:+0200
TZNAME:CEST
DTSTART:20230326T010000
END:DAYLIGHT
BEGIN:STANDARD
TZOFFSETFROM:+0200
TZOFFSETTO:+0100
TZNAME:CET
DTSTART:20231029T010000
END:STANDARD
BEGIN:DAYLIGHT
TZOFFSETFROM:+0100
TZOFFSETTO:+0200
TZNAME:CEST
DTSTART:20240331T010000
END:DAYLIGHT
BEGIN:STANDARD
TZOFFSETFROM:+0200
TZOFFSETTO:+0100
TZNAME:CET
DTSTART:20241027T010000
END:STANDARD
END:VTIMEZONE
BEGIN:VEVENT
DTSTART;TZID=Europe/Berlin:20231112T110000
DTEND;TZID=Europe/Berlin:20231112T120000
DTSTAMP:20260424T210600
CREATED:20230810T134623Z
LAST-MODIFIED:20231105T131026Z
UID:6370-1699786800-1699790400@hinterhalt.de
SUMMARY:Loisachtaler Bauernbühne: Männer und Frauen passen einfach nicht zusammen
DESCRIPTION:Beziehungen\, auch zwischen Frauen und Männern\, können baden gehen… müssen aber nicht! Szenische Lesung als Matinée mit Wiggerl Gollwitzer und Mel Tobian (Loisachtaler Bauernbühne) aus dem Werk des großen deutschen Humoristen LORIOT\, der wie kein zweiter sich der Beziehungen der Geschlechter zueinander angenommen hatte. \n\n\n\nKlassiker über menschliche Beziehungen\, die durchaus dabei sind\, „baden“ zu gehen\, mit anschließendem Sitz- und Stehausklang.(ca. 55 Minuten ohne Pause)
URL:https://hinterhalt.de/veranstaltung/maenner-und-frauen-passen-einfach-nicht-zusammen/
LOCATION:Kulturbühne Hinterhalt\, Leitenstraße 40\, Geretsried\, 82538\, Deutschland
CATEGORIES:Konzert
END:VEVENT
END:VCALENDAR