BEGIN:VCALENDAR
VERSION:2.0
PRODID:-//Kulturbühne Hinterhalt - ECPv6.15.20//NONSGML v1.0//EN
CALSCALE:GREGORIAN
METHOD:PUBLISH
X-WR-CALNAME:Kulturbühne Hinterhalt
X-ORIGINAL-URL:https://hinterhalt.de
X-WR-CALDESC:Veranstaltungen für Kulturbühne Hinterhalt
REFRESH-INTERVAL;VALUE=DURATION:PT1H
X-Robots-Tag:noindex
X-PUBLISHED-TTL:PT1H
BEGIN:VTIMEZONE
TZID:Europe/Berlin
BEGIN:DAYLIGHT
TZOFFSETFROM:+0100
TZOFFSETTO:+0200
TZNAME:CEST
DTSTART:20240331T010000
END:DAYLIGHT
BEGIN:STANDARD
TZOFFSETFROM:+0200
TZOFFSETTO:+0100
TZNAME:CET
DTSTART:20241027T010000
END:STANDARD
BEGIN:DAYLIGHT
TZOFFSETFROM:+0100
TZOFFSETTO:+0200
TZNAME:CEST
DTSTART:20250330T010000
END:DAYLIGHT
BEGIN:STANDARD
TZOFFSETFROM:+0200
TZOFFSETTO:+0100
TZNAME:CET
DTSTART:20251026T010000
END:STANDARD
BEGIN:DAYLIGHT
TZOFFSETFROM:+0100
TZOFFSETTO:+0200
TZNAME:CEST
DTSTART:20260329T010000
END:DAYLIGHT
BEGIN:STANDARD
TZOFFSETFROM:+0200
TZOFFSETTO:+0100
TZNAME:CET
DTSTART:20261025T010000
END:STANDARD
END:VTIMEZONE
BEGIN:VEVENT
DTSTART;TZID=Europe/Berlin:20250418T200000
DTEND;TZID=Europe/Berlin:20250418T223000
DTSTAMP:20260424T134329
CREATED:20250127T101428Z
LAST-MODIFIED:20250403T095105Z
UID:9330-1745006400-1745015400@hinterhalt.de
SUMMARY:Mathias Kellner: Can you BOARISCH\, please?!
DESCRIPTION:Karfreitags-Special der ungeahnten Art.  \n\n\n\nEr ist wieder da! Mathias Kellner und „Can you boarisch\, please?“ Am sog. Stillen Tag gibt es bei uns dieses Jahr keine Tanzmusik (im letzten Jahr waren die „The Stimulators“ da!)\, sondern beste musikalische Unterhaltung. Ein gerne gesehener Gast auf unserer kleinen Bühne ist dieser sagenhafte Liedermacher und famose Geschichtenerzähler Mathias Kellner https://www.kellner-music.de/. Er hat in liebevoller Hingabe Songs von Musikgrößen wie Tom Petty\, Eagles\, Bob Dylan aber auch Green Day und Coldplay in ein wirkmächtiges Boarisch übersetzt und ein packendes Programm zusammengestellt.  \n\n\n\nZuletzt war er während der Coronazeit bei einem LIVE-Stream bei uns\, und aus Anlass des erneuten Einmarsches der russischen Armee in die Ukraine gab er auf unsere Einladung hin am Faschingsdienstag 2022 ein spontanes Friedenskonzert auf dem Karl-Lederer-Platz in Geretsried. \n\n\n\n\n\n\n\n\n\nAls einer der bekanntesten Liedermacher Bayerns ist Mathias Kellner seit vielen Jahren fester Bestandteil der Musik-und Kabarettszene. Seine unterhaltsamen Konzerte sind so legendär wie seine rauchig-bluesige Stimme und sein spitzbübischer Humor. \n\n\n\nMit seinem neuen Programm „Can you BOARISCH\, please?!“ lädt Kellner nun zu einer Reise durch die Musikgeschichte. Allerdings mit einem bemerkenswerten Kniff: Die Songs sind allesamt auf Bairisch. \n\n\n\nDer Liedermacher hat in liebevoller Hingabe Songs von Musikgrößen wie Tom Petty\, Eagles\, Bob Dylan aber auch Green Day und Coldplay übersetzt und ein packendes Programm zusammengestellt. Von Mitsingen über Schwelgen bis hin zum faszinierten Wiederentdecken alter Klassiker im neuen Mundart-Gewand ist alles geboten. \n\n\n\nKellner versteht es meisterhaft humoristisch durch den Abend zu führen und das Erlebnis perfekt zu machen. Wer sich schon immer gefragt hat: „Was singen die da eigentlich?“ ist hier an der richtigen Adresse.
URL:https://hinterhalt.de/veranstaltung/mathias-kellner-can-you-boarisch-please/
LOCATION:Kulturbühne Hinterhalt\, Leitenstraße 40\, Geretsried\, 82538\, Deutschland
CATEGORIES:Konzert
ATTACH;FMTTYPE=image/jpeg:https://hinterhalt.de/wp-content/uploads/2025/01/mathias_kellner_hero24_07.jpg
END:VEVENT
END:VCALENDAR