BEGIN:VCALENDAR
VERSION:2.0
PRODID:-//Kulturbühne Hinterhalt - ECPv6.15.20//NONSGML v1.0//EN
CALSCALE:GREGORIAN
METHOD:PUBLISH
X-WR-CALNAME:Kulturbühne Hinterhalt
X-ORIGINAL-URL:https://hinterhalt.de
X-WR-CALDESC:Veranstaltungen für Kulturbühne Hinterhalt
REFRESH-INTERVAL;VALUE=DURATION:PT1H
X-Robots-Tag:noindex
X-PUBLISHED-TTL:PT1H
BEGIN:VTIMEZONE
TZID:Europe/Berlin
BEGIN:DAYLIGHT
TZOFFSETFROM:+0100
TZOFFSETTO:+0200
TZNAME:CEST
DTSTART:20240331T010000
END:DAYLIGHT
BEGIN:STANDARD
TZOFFSETFROM:+0200
TZOFFSETTO:+0100
TZNAME:CET
DTSTART:20241027T010000
END:STANDARD
BEGIN:DAYLIGHT
TZOFFSETFROM:+0100
TZOFFSETTO:+0200
TZNAME:CEST
DTSTART:20250330T010000
END:DAYLIGHT
BEGIN:STANDARD
TZOFFSETFROM:+0200
TZOFFSETTO:+0100
TZNAME:CET
DTSTART:20251026T010000
END:STANDARD
BEGIN:DAYLIGHT
TZOFFSETFROM:+0100
TZOFFSETTO:+0200
TZNAME:CEST
DTSTART:20260329T010000
END:DAYLIGHT
BEGIN:STANDARD
TZOFFSETFROM:+0200
TZOFFSETTO:+0100
TZNAME:CET
DTSTART:20261025T010000
END:STANDARD
END:VTIMEZONE
BEGIN:VEVENT
DTSTART;TZID=Europe/Berlin:20250918T200000
DTEND;TZID=Europe/Berlin:20250918T230000
DTSTAMP:20260424T235903
CREATED:20250515T091403Z
LAST-MODIFIED:20250516T084908Z
UID:10021-1758225600-1758236400@hinterhalt.de
SUMMARY:Matthias Kiefersauer „Gerade Anekdoten und krumme Liebesgeschichten“
DESCRIPTION:Kiefersauer macht lustig.Und Thomas ungert herum. \n\n\n\nDer erste Film\, den Matthias Kiefersauer an der Münchner Filmhochschule drehte\, hieß „Ein kurzer Film übers Küssen“ und erklärte\, wie ungesund und peinlich es werden kann\, sobald sich zwei Menschen küssen. Das war im Jahr 1997. Aus dem Studenten von damals ist mittlerweile ein erfolgreicher Drehbuchautor und Spielfilmregisseur geworden („Das große Hobeditzn“\, „Die Bestatterin“\, „München Mord“). \n\n\n\nEines hat sich seit seinem Erstlingswerk nicht geändert: Sein Spaß an krummen Liebesgeschichten. An Flirts\, die krachend scheitern. An Paaren\, die nicht zusammenkommen\, weil sich eine(r) nicht zusammenreißen will oder kann. Mittlerweile schreibt Matthias Kiefersauer lustige Kurzgeschichten darüber. Eine wöchentliche Kolumne im „Münchner Merkur“ erscheint außerdem ununterbrochen seit 2008. Am Donnerstag\, den 18. September\, gastiert er mit seinem Leseprogramm „Kiefersauer macht lustig“ im „Hinterhalt“. Ein Heimspiel sozusagen\, denn Matthias Kiefersauer wuchs in Waldram auf – und in gewisser Weise auch im „Hinterhalt“. \n\n\n\nBegleitet wird er bei seiner Lesung von Thomas Unger. Die beiden kennen sich seit 2003. Unger übernahm mehrmals Hauptrollen in Kiefersauers Filmen\, beispielsweise in „Das große Hobeditzn“\, „Baching“ oder auch „Was machen Frauen morgens um halb vier?“. Außerdem war Thomas Unger in der Reihe „Daheim in den Bergen“ zu sehen – und vor allem seit zwei Jahren als Markus Söder beim Singspiel auf dem Nockherberg. Diesmal aber erlebt man Thomas Unger nicht als Schauspieler\, sondern als Musiker. \n\n\n\n\n\n\n\nZwei Freunde auf der Bühne\, mit ihrem kreativen Ausgleichssport.  \n\n\n\nEinlass 19:00
URL:https://hinterhalt.de/veranstaltung/matthias-kiefersauer-gerade-anekdoten-und-krumme-liebesgeschichten/
LOCATION:Kulturbühne Hinterhalt\, Leitenstraße 40\, Geretsried\, 82538\, Deutschland
CATEGORIES:Konzert
ATTACH;FMTTYPE=image/jpeg:https://hinterhalt.de/wp-content/uploads/2025/05/MATTHIAS-AUG-21-klein-018.jpg
END:VEVENT
END:VCALENDAR