BEGIN:VCALENDAR
VERSION:2.0
PRODID:-//Kulturbühne Hinterhalt - ECPv6.15.20//NONSGML v1.0//EN
CALSCALE:GREGORIAN
METHOD:PUBLISH
X-WR-CALNAME:Kulturbühne Hinterhalt
X-ORIGINAL-URL:https://hinterhalt.de
X-WR-CALDESC:Veranstaltungen für Kulturbühne Hinterhalt
REFRESH-INTERVAL;VALUE=DURATION:PT1H
X-Robots-Tag:noindex
X-PUBLISHED-TTL:PT1H
BEGIN:VTIMEZONE
TZID:Europe/Berlin
BEGIN:DAYLIGHT
TZOFFSETFROM:+0100
TZOFFSETTO:+0200
TZNAME:CEST
DTSTART:20230326T010000
END:DAYLIGHT
BEGIN:STANDARD
TZOFFSETFROM:+0200
TZOFFSETTO:+0100
TZNAME:CET
DTSTART:20231029T010000
END:STANDARD
BEGIN:DAYLIGHT
TZOFFSETFROM:+0100
TZOFFSETTO:+0200
TZNAME:CEST
DTSTART:20240331T010000
END:DAYLIGHT
BEGIN:STANDARD
TZOFFSETFROM:+0200
TZOFFSETTO:+0100
TZNAME:CET
DTSTART:20241027T010000
END:STANDARD
BEGIN:DAYLIGHT
TZOFFSETFROM:+0100
TZOFFSETTO:+0200
TZNAME:CEST
DTSTART:20250330T010000
END:DAYLIGHT
BEGIN:STANDARD
TZOFFSETFROM:+0200
TZOFFSETTO:+0100
TZNAME:CET
DTSTART:20251026T010000
END:STANDARD
END:VTIMEZONE
BEGIN:VEVENT
DTSTART;TZID=Europe/Berlin:20240419T200000
DTEND;TZID=Europe/Berlin:20240419T220000
DTSTAMP:20260423T085639
CREATED:20240206T075951Z
LAST-MODIFIED:20240213T080747Z
UID:7382-1713556800-1713564000@hinterhalt.de
SUMMARY:Maxi Pongratz
DESCRIPTION:MAXI PONGRATZ – MEINE ÄNGSTEVÖ: Mai 2022. US530. CD-Vinyl-DownloadsAufgestanden wird nicht\, wenn der Wecker klingelt – sondern dann\, wenn der Traum ein Happy End hat. Maxi Pongratz wird auf seinem zweiten Soloalbum zum Regisseur seiner Träume und Dompteur seiner Ängste. »Meine Ängste« ist eine Liebeserklärung an die ureigenen (engsten) Ängste. Es ist aber auch eine Auseinandersetzung mit der selten ordentlichen\, häufiger chaotischen Frage danach\, wer man eigentlich ist – oder zumindestsein will. Jeder Mensch kommt ja irgendwo her. Wie ist das aber\, wenn das Herkommen ein Dorf am Fuß des Kofels ist\, eingepfercht zwischen (Theater-)Leiden(-schaft)\, Schuhplatteln und Touristenbussen?Erst mit seiner Band Kofelgschroa\, zuletzt mit Micha Acher (The Notwist) & Verstärkung\, jetzt wieder solo: Maxi Pongratz trägt seine Herkunft mit einem Schifferklavier durch Stadt und Land und geht den großen Fragen an den Kragen:»I bin geboren und ko mi gar ned erinnern\, dass mi irgendwer gefragt hat\, ob I gern geboren werden dad« – so ist das mit dem Leben. Wir werden hineingeworfen und müssen dann irgendwie damit klarkommen. Was für ein Glück für uns\, dass bei Maxi Pongratz` neuem Programm immer wieder das Leichte und verspielte um die Ecke biegt und dem Schweren ein wenig Platz stiehlt. \n\n\n\n\n\n\n\n\n\nVideo zur Single „Ängste“: \n\n\n\n\n\n\n\n\n\n\n\nPressezitate zum ersten Maxi-Pongratz-Solo-Album:„… So raubeinig\, authentisch und groovy hat kaum jemand das Lebensgefühl zwischen Berufsbucklerei\, Biergarten und Berg bespielt.“ Musikexpress„..wunderbar schimmernde\, hintersinnige Klang-Pretiosen sind das jedenfalls. Der Ruhe in seinen Texten setzt Maxi Pongratz ein temperamentvolles Akkordeonspiel entgegen – getragen von poetischen Gedanken eines Selbst-Befreiers und Entfesselungs-Künstlers.“ Süddeutsche Zeitung„..Mit seinem Klavierspiel entsteht ein unerwarteter Klangkosmos – eine Erweiterung\, die fantastisch mit seinen Texten korrespondiert. Ein ordentliches Pfund Karl Valentin angereichert mit einem frischen Spritzer Georg Kreisler.“ MUH„..Und als Maxi Pongratz vom Regentropfen sang\, der in die Regenrinne und von dort in die Regentonne rann oder von der Wäsche\, die in der Sonne trocknet\, da hatte man plötzlich großes Verständnis dafür\, dass solche Dinge genug Bedeutsamkeit haben\, um ein ganzes Lied zu tragen.„Weil i mi ned festlegn ko\, sag i mal so und mal so“\, klang es fast schon philosophisch im Lied über das Entschen.“ Bayerischer Rundfunk..“Wie er da mit tastendem Tiefsinn hochphilosophisch das Leben durchleuchtet und die Leute mit sprunghaften\, spröden und assoziativen Ansagen begeistert.“ Abendzeitung-München„..Feine Miniaturen\, poetische Kleinode\, intensiv\, liebevoll und definitiv zärtlich.“ Concerto-Wien \n\n\n\nEinlass 19 Uhr
URL:https://hinterhalt.de/veranstaltung/maxi-pongratz-3/
LOCATION:Kulturbühne Hinterhalt\, Leitenstraße 40\, Geretsried\, 82538\, Deutschland
CATEGORIES:Konzert
ATTACH;FMTTYPE=image/jpeg:https://hinterhalt.de/wp-content/uploads/2024/02/Maxi-Pongratz.jpg
END:VEVENT
END:VCALENDAR