BEGIN:VCALENDAR
VERSION:2.0
PRODID:-//Kulturbühne Hinterhalt - ECPv6.15.20//NONSGML v1.0//EN
CALSCALE:GREGORIAN
METHOD:PUBLISH
X-WR-CALNAME:Kulturbühne Hinterhalt
X-ORIGINAL-URL:https://hinterhalt.de
X-WR-CALDESC:Veranstaltungen für Kulturbühne Hinterhalt
REFRESH-INTERVAL;VALUE=DURATION:PT1H
X-Robots-Tag:noindex
X-PUBLISHED-TTL:PT1H
BEGIN:VTIMEZONE
TZID:Europe/Berlin
BEGIN:DAYLIGHT
TZOFFSETFROM:+0100
TZOFFSETTO:+0200
TZNAME:CEST
DTSTART:20240331T010000
END:DAYLIGHT
BEGIN:STANDARD
TZOFFSETFROM:+0200
TZOFFSETTO:+0100
TZNAME:CET
DTSTART:20241027T010000
END:STANDARD
BEGIN:DAYLIGHT
TZOFFSETFROM:+0100
TZOFFSETTO:+0200
TZNAME:CEST
DTSTART:20250330T010000
END:DAYLIGHT
BEGIN:STANDARD
TZOFFSETFROM:+0200
TZOFFSETTO:+0100
TZNAME:CET
DTSTART:20251026T010000
END:STANDARD
BEGIN:DAYLIGHT
TZOFFSETFROM:+0100
TZOFFSETTO:+0200
TZNAME:CEST
DTSTART:20260329T010000
END:DAYLIGHT
BEGIN:STANDARD
TZOFFSETFROM:+0200
TZOFFSETTO:+0100
TZNAME:CET
DTSTART:20261025T010000
END:STANDARD
END:VTIMEZONE
BEGIN:VEVENT
DTSTART;TZID=Europe/Berlin:20250321T200000
DTEND;TZID=Europe/Berlin:20250321T230000
DTSTAMP:20260424T152704
CREATED:20241115T083954Z
LAST-MODIFIED:20250318T083804Z
UID:9006-1742587200-1742598000@hinterhalt.de
SUMMARY:Das ultimative Metal Concert! "Shadows Devouring Light Europe Tour"
DESCRIPTION:Es kommen the one and only POWER FROM HELL aus Brasilien mit LUCIFERICON aus den Niederlanden. Local support ist EWIGEIS aus München.  \n\n\n\nDa geht was los im Hinterhalt\, dass das ganze Oberland wackelt. Endlich mal wieder richtige Lautstärke 😊 \n\n\n\nAchtung! Geänderte Eintrittspreise!Nachdem ja nicht nur eine Band spielt\, sondern dreie\, kostet der Abend im VVK 20\,00 €\, an der AK 25\,00 €! \n\n\n\nEinlass 19 Uhr
URL:https://hinterhalt.de/veranstaltung/metal-konzert-shadows-devouring-light-europe-tour/
LOCATION:Hinterhalt I und II\, Leitenstrasse 40\, Geretsried-Gelting\, 82538
CATEGORIES:Konzert
ATTACH;FMTTYPE=image/jpeg:https://hinterhalt.de/wp-content/uploads/2024/11/nachzehrer.jpg
END:VEVENT
END:VCALENDAR