BEGIN:VCALENDAR
VERSION:2.0
PRODID:-//Kulturbühne Hinterhalt - ECPv6.15.20//NONSGML v1.0//EN
CALSCALE:GREGORIAN
METHOD:PUBLISH
X-WR-CALNAME:Kulturbühne Hinterhalt
X-ORIGINAL-URL:https://hinterhalt.de
X-WR-CALDESC:Veranstaltungen für Kulturbühne Hinterhalt
REFRESH-INTERVAL;VALUE=DURATION:PT1H
X-Robots-Tag:noindex
X-PUBLISHED-TTL:PT1H
BEGIN:VTIMEZONE
TZID:Europe/Berlin
BEGIN:DAYLIGHT
TZOFFSETFROM:+0100
TZOFFSETTO:+0200
TZNAME:CEST
DTSTART:20220327T010000
END:DAYLIGHT
BEGIN:STANDARD
TZOFFSETFROM:+0200
TZOFFSETTO:+0100
TZNAME:CET
DTSTART:20221030T010000
END:STANDARD
BEGIN:DAYLIGHT
TZOFFSETFROM:+0100
TZOFFSETTO:+0200
TZNAME:CEST
DTSTART:20230326T010000
END:DAYLIGHT
BEGIN:STANDARD
TZOFFSETFROM:+0200
TZOFFSETTO:+0100
TZNAME:CET
DTSTART:20231029T010000
END:STANDARD
BEGIN:DAYLIGHT
TZOFFSETFROM:+0100
TZOFFSETTO:+0200
TZNAME:CEST
DTSTART:20240331T010000
END:DAYLIGHT
BEGIN:STANDARD
TZOFFSETFROM:+0200
TZOFFSETTO:+0100
TZNAME:CET
DTSTART:20241027T010000
END:STANDARD
END:VTIMEZONE
BEGIN:VEVENT
DTSTART;TZID=Europe/Berlin:20231129T200000
DTEND;TZID=Europe/Berlin:20231129T220000
DTSTAMP:20260425T150319
CREATED:20230810T140615Z
LAST-MODIFIED:20231127T082413Z
UID:6390-1701288000-1701295200@hinterhalt.de
SUMMARY:„Alles im Wunderland“ - Kabarett-Abend mit Max Uthoff im HINTERHALT Gelting
DESCRIPTION:Eine Studie hat ergeben\, dass die durchschnittliche Aufmerksamkeitsspanne von Internetnutzer:innen für einen bestimmten Inhalt bei 2\,5 Sekunden liegt. Das Lesen des vorherigen Satzes hat ca. 4 Sekunden gedauert. Ich dürfte Sie also schon verloren haben. Und deswegen kann ich jetzt\, nur für mich\, erzählen\, worum es in meinem nächsten Programm nicht gehen wird. Um Studien\, die sich mit der durchschnittlichen Aufmerksamkeitsspanne von irgendjemand beschäftigt. Und um Inhalte\, die in 2\,5 Sekunden erfasst werden können\, also Christian Lindner.Worum es tatsächlich geht? Vielleicht um den Tod\, Kaninchenlöcher und die Frage\, wie wir das alles eigentlich aushalten? Vielleicht aber auch nicht. Vielleicht um die Frage\, wer nutzloser für diese Gesellschaft ist\, der Rechtsanwalt oder die FDP-Wählerin? Vielleicht aber auch nicht. Vielleicht wird der Wahnsinn unserer Zeit wieder wie gewohnt hinterhältig\, absurd\, linksextrem und albern aufgearbeitet. Vielleicht aber auch nicht. Vielleicht lüfte ich dann sogar das Geheimnis\, ob es sich bei diesem Pressetext nur um den schamlosen Versuch handelt\, Sie neugierig zu machen und Ihnen Ihre Barschaft aus der Tasche zu ziehen. Vielleicht aber auch nicht. \n\n\n\nWie dem auch sei\, ich freue mich auf Sie. Vielleicht. \n\n\n\nEinlass 18:30 Uhr
URL:https://hinterhalt.de/veranstaltung/moskauer-hunde-kabarett-abend-mit-max-uthoff/
LOCATION:Hinterhalt I\, Leitenstraße 40\, Geretsried\, 82538
CATEGORIES:Konzert
ATTACH;FMTTYPE=image/jpeg:https://hinterhalt.de/wp-content/uploads/2023/08/max_uthoff_ausverkauft-hinterhalt-scaled.jpg
END:VEVENT
END:VCALENDAR