BEGIN:VCALENDAR
VERSION:2.0
PRODID:-//Kulturbühne Hinterhalt - ECPv6.15.20//NONSGML v1.0//EN
CALSCALE:GREGORIAN
METHOD:PUBLISH
X-WR-CALNAME:Kulturbühne Hinterhalt
X-ORIGINAL-URL:https://hinterhalt.de
X-WR-CALDESC:Veranstaltungen für Kulturbühne Hinterhalt
REFRESH-INTERVAL;VALUE=DURATION:PT1H
X-Robots-Tag:noindex
X-PUBLISHED-TTL:PT1H
BEGIN:VTIMEZONE
TZID:Europe/Berlin
BEGIN:DAYLIGHT
TZOFFSETFROM:+0100
TZOFFSETTO:+0200
TZNAME:CEST
DTSTART:20230326T010000
END:DAYLIGHT
BEGIN:STANDARD
TZOFFSETFROM:+0200
TZOFFSETTO:+0100
TZNAME:CET
DTSTART:20231029T010000
END:STANDARD
BEGIN:DAYLIGHT
TZOFFSETFROM:+0100
TZOFFSETTO:+0200
TZNAME:CEST
DTSTART:20240331T010000
END:DAYLIGHT
BEGIN:STANDARD
TZOFFSETFROM:+0200
TZOFFSETTO:+0100
TZNAME:CET
DTSTART:20241027T010000
END:STANDARD
BEGIN:DAYLIGHT
TZOFFSETFROM:+0100
TZOFFSETTO:+0200
TZNAME:CEST
DTSTART:20250330T010000
END:DAYLIGHT
BEGIN:STANDARD
TZOFFSETFROM:+0200
TZOFFSETTO:+0100
TZNAME:CET
DTSTART:20251026T010000
END:STANDARD
END:VTIMEZONE
BEGIN:VEVENT
DTSTART;TZID=Europe/Berlin:20240724T170000
DTEND;TZID=Europe/Berlin:20240724T200000
DTSTAMP:20260424T221808
CREATED:20240418T111135Z
LAST-MODIFIED:20240512T085603Z
UID:7987-1721840400-1721851200@hinterhalt.de
SUMMARY:Musikschule "Blechtrommel" - Abschlußkonzert
DESCRIPTION:Es ist wieder soweit. Die Musikschule Blechtrommel aus Eurasburg präsentiert ihr 31. Abschlusskonzert! \n\n\n\nAm Dienstag und Mittwoch spielen je 15 Bands (bestehend aus Schülern und Lehrern der privaten Musikschule) ihre Favoriten aus Pop und Rock vor.  \n\n\n\nWoodstock-Feeling garantiert und Getränke gibt es von der Crew des Hinterhalts. Der Eintritt ist frei\, aber wir freuen uns über Spenden für den Kulturverein Hinterhalt. \n\n\n\nLos geht um 17 Uhr\, das Ende des Konzertes wird gegen 20 Uhr erwartet. \n\n\n\nInfos zur Musikschule Blechtrommel findest Du unter www.blechtrommel.de
URL:https://hinterhalt.de/veranstaltung/musikschule-blechtrommel-abschlusskonzert-2/
LOCATION:Kulturbühne Hinterhalt\, Leitenstraße 40\, Geretsried\, 82538\, Deutschland
CATEGORIES:Konzert
ATTACH;FMTTYPE=image/png:https://hinterhalt.de/wp-content/uploads/2023/06/Blechtrommel.png
END:VEVENT
END:VCALENDAR