BEGIN:VCALENDAR
VERSION:2.0
PRODID:-//Kulturbühne Hinterhalt - ECPv6.15.20//NONSGML v1.0//EN
CALSCALE:GREGORIAN
METHOD:PUBLISH
X-WR-CALNAME:Kulturbühne Hinterhalt
X-ORIGINAL-URL:https://hinterhalt.de
X-WR-CALDESC:Veranstaltungen für Kulturbühne Hinterhalt
REFRESH-INTERVAL;VALUE=DURATION:PT1H
X-Robots-Tag:noindex
X-PUBLISHED-TTL:PT1H
BEGIN:VTIMEZONE
TZID:Europe/Berlin
BEGIN:DAYLIGHT
TZOFFSETFROM:+0100
TZOFFSETTO:+0200
TZNAME:CEST
DTSTART:20240331T010000
END:DAYLIGHT
BEGIN:STANDARD
TZOFFSETFROM:+0200
TZOFFSETTO:+0100
TZNAME:CET
DTSTART:20241027T010000
END:STANDARD
BEGIN:DAYLIGHT
TZOFFSETFROM:+0100
TZOFFSETTO:+0200
TZNAME:CEST
DTSTART:20250330T010000
END:DAYLIGHT
BEGIN:STANDARD
TZOFFSETFROM:+0200
TZOFFSETTO:+0100
TZNAME:CET
DTSTART:20251026T010000
END:STANDARD
BEGIN:DAYLIGHT
TZOFFSETFROM:+0100
TZOFFSETTO:+0200
TZNAME:CEST
DTSTART:20260329T010000
END:DAYLIGHT
BEGIN:STANDARD
TZOFFSETFROM:+0200
TZOFFSETTO:+0100
TZNAME:CET
DTSTART:20261025T010000
END:STANDARD
END:VTIMEZONE
BEGIN:VEVENT
DTSTART;TZID=Europe/Berlin:20250214T200000
DTEND;TZID=Europe/Berlin:20250214T230000
DTSTAMP:20260424T181752
CREATED:20241204T075415Z
LAST-MODIFIED:20250213T123815Z
UID:9096-1739563200-1739574000@hinterhalt.de
SUMMARY:KINO Wolfratshausen - ONE BILLION RISING – Eine Milliarde erhebt sich
DESCRIPTION:2012 wurde von der US-amerikanischen Künstlerin Eve Ensler am sog. Valentinstag (14.Feb.) ein Aktionstag gegen Gewalt an Frauen ins Leben gerufen. Auch wir im Landkreis Bad Tölz-Wolfratshausen haben uns in einem lockeren Bündnis bereits vor der  Pandemie zusammen getan\, um uns an Aktionen an diesem Tag zu beteiligen. Während der Pandemie haben wir diesen Tag als Aktionstag – da eben im LIVE-Stream bzw. jeweils als Aufzeichnungen – beibehalten können.  \n\n\n\nIn diesem Jahr sind wir im Kino Wolfratshausen zu Gast. In bewährter Kooperation fordern wir zum Handeln auf angesichts der Tatsache\, dass in Deutschland täglich (!) eine Frau von einem Mann aus ihrem Umfeld (Ehemann\, Ex-Partner\, Freund…) getötet wird\, aktuelle Statistik!  \n\n\n\nDer von uns ausgewählte Film „Hidden Figures“ zeigt auf durchaus unterhaltsame Weise\, dass die Geringschätzung von Frauen – in diesem Fall der drei verantwortlichen US-afrikanischen Mathematikerinnen beim Erfolg des ersten bemannten Erdumflugs einer US-Rakete 1962 – der Anfang von Unterdrückung und dann u.U. irgendwann körperlicher Gewalt darstellt. Ein Film\, der trotz dieses nicht einfachen Themas allen Mut macht!  \n\n\n\nBeginn 20h00\, ca. 19h40 Begrüßung mit einem Glaserl (alkoholfrei/mit Alkohol)\, Eintritt 10\,00 (Begrüßungsgetränk inbegriffen)… Diskussion nach dem Film erwünscht!  \n\n\n\nEine Veranstaltung des Kulturverein Isar Loisach e.V.\, Frauen helfen Frauen\, Soroptimisten Isartal\, Landratsamt Bad Tölz/Wolfratshausen (Gleichstellungsstelle)\, Kino Wolfratshausen. ACHTUNG: alle Menschen egal welchen Geschlechts\, welcher Weltanschauung\, welchen sozialen Standes\, welcher sexuellen Orientierung\, welcher Herkunft … sind herzlichst eingeladen!  \n\n\n\nBitte direkt im Kino reservieren!
URL:https://hinterhalt.de/veranstaltung/one-billion-rising-3/
LOCATION:Kino Wolfratshausen\, Bahnhofstraße 10\, Wolfratshausen\, 82515\, Deutschland
CATEGORIES:Konzert
ATTACH;FMTTYPE=image/jpeg:https://hinterhalt.de/wp-content/uploads/2024/12/one-billion-rising.jpg
END:VEVENT
END:VCALENDAR