BEGIN:VCALENDAR
VERSION:2.0
PRODID:-//Kulturbühne Hinterhalt - ECPv6.15.20//NONSGML v1.0//EN
CALSCALE:GREGORIAN
METHOD:PUBLISH
X-WR-CALNAME:Kulturbühne Hinterhalt
X-ORIGINAL-URL:https://hinterhalt.de
X-WR-CALDESC:Veranstaltungen für Kulturbühne Hinterhalt
REFRESH-INTERVAL;VALUE=DURATION:PT1H
X-Robots-Tag:noindex
X-PUBLISHED-TTL:PT1H
BEGIN:VTIMEZONE
TZID:Europe/Berlin
BEGIN:DAYLIGHT
TZOFFSETFROM:+0100
TZOFFSETTO:+0200
TZNAME:CEST
DTSTART:20230326T010000
END:DAYLIGHT
BEGIN:STANDARD
TZOFFSETFROM:+0200
TZOFFSETTO:+0100
TZNAME:CET
DTSTART:20231029T010000
END:STANDARD
BEGIN:DAYLIGHT
TZOFFSETFROM:+0100
TZOFFSETTO:+0200
TZNAME:CEST
DTSTART:20240331T010000
END:DAYLIGHT
BEGIN:STANDARD
TZOFFSETFROM:+0200
TZOFFSETTO:+0100
TZNAME:CET
DTSTART:20241027T010000
END:STANDARD
BEGIN:DAYLIGHT
TZOFFSETFROM:+0100
TZOFFSETTO:+0200
TZNAME:CEST
DTSTART:20250330T010000
END:DAYLIGHT
BEGIN:STANDARD
TZOFFSETFROM:+0200
TZOFFSETTO:+0100
TZNAME:CET
DTSTART:20251026T010000
END:STANDARD
END:VTIMEZONE
BEGIN:VEVENT
DTSTART;TZID=Europe/Berlin:20241212T200000
DTEND;TZID=Europe/Berlin:20241212T230000
DTSTAMP:20260424T185928
CREATED:20230802T120628Z
LAST-MODIFIED:20241210T072533Z
UID:6339-1734033600-1734044400@hinterhalt.de
SUMMARY:Peter Schneider & "Sir" Oliver Mally
DESCRIPTION:Zwei akustische Gitarren\, eine Mundharmonika und die Stimme von Oliver Mally ist alles\, was die beiden Bluesfachmänner brauchen\, um ihr Publikum in den Bann zu schlagen und zu begeistern. Manchmal wird es so leise\, dass man eine Stecknadel fallen hört und dann wieder toben Mally & Schneider auf ihren akustischen sechssaitigen Bluesmaschinen\, dass es die Zuhörer fast von den Hockern reißt.Mally ist ein genialer Geschichtenerzähler\, der in seinen Songs mit warmer sonorer Stimme den Zuhörer in seine wilde Blueswelt entführt und sich raffiniert an der Gitarre begleitet.Was Peter Schneider wie beiläufig von den Gitarrensaiten pflückt\, ist ein besonderer Genuss. Egal ob er nur ein paar fast schüchtern wirkende\, minimalistische Schnörkel zu Mallys Songs beisteuert\, per Bottleneck ganze Arien voller fein abgestimmter Glisandi erklingen lässt oder rasende Fingerfertigkeit aufblitzt: In jedem Ton ist die Klasse des Münchner Gitarristen zu hören\, die er sich in den Bands von Ike Turner\, Willy Michl\, Westernhagen\, Söllner und seiner Band The Stimulators erworben hat. \n\n\n\n›Sir‹ Oliver Mally: guit\, vocPeter Schneider: guit\, harp \n\n\n\nBOOKING: www.sir-oliver.comwww.holzmann.stoffice@united-sounds.de \n\n\n\n \n\n\n\n\nMally ist ein packender Songwriter\, impulsiver Sänger und er versteht es\, Geschichten zu erzählen. \nPASSAUER NEUE PRESSE (D) \n\n\n\n\nSchneider klingt wie eine Mischung aller jemals in den Chess-Studios aufgenommenen Gitarristen. \nBLUES NEWS MAGAZIN (D)
URL:https://hinterhalt.de/veranstaltung/peter-schneider-oliver-mally/
LOCATION:Kulturbühne Hinterhalt\, Leitenstraße 40\, Geretsried\, 82538\, Deutschland
CATEGORIES:Konzert
ATTACH;FMTTYPE=image/jpeg:https://hinterhalt.de/wp-content/uploads/2023/08/MallySchneiderPresseBerndSatzinger-klein.jpg
END:VEVENT
END:VCALENDAR