BEGIN:VCALENDAR
VERSION:2.0
PRODID:-//Kulturbühne Hinterhalt - ECPv6.15.20//NONSGML v1.0//EN
CALSCALE:GREGORIAN
METHOD:PUBLISH
X-WR-CALNAME:Kulturbühne Hinterhalt
X-ORIGINAL-URL:https://hinterhalt.de
X-WR-CALDESC:Veranstaltungen für Kulturbühne Hinterhalt
REFRESH-INTERVAL;VALUE=DURATION:PT1H
X-Robots-Tag:noindex
X-PUBLISHED-TTL:PT1H
BEGIN:VTIMEZONE
TZID:Europe/Berlin
BEGIN:DAYLIGHT
TZOFFSETFROM:+0100
TZOFFSETTO:+0200
TZNAME:CEST
DTSTART:20220327T010000
END:DAYLIGHT
BEGIN:STANDARD
TZOFFSETFROM:+0200
TZOFFSETTO:+0100
TZNAME:CET
DTSTART:20221030T010000
END:STANDARD
BEGIN:DAYLIGHT
TZOFFSETFROM:+0100
TZOFFSETTO:+0200
TZNAME:CEST
DTSTART:20230326T010000
END:DAYLIGHT
BEGIN:STANDARD
TZOFFSETFROM:+0200
TZOFFSETTO:+0100
TZNAME:CET
DTSTART:20231029T010000
END:STANDARD
BEGIN:DAYLIGHT
TZOFFSETFROM:+0100
TZOFFSETTO:+0200
TZNAME:CEST
DTSTART:20240331T010000
END:DAYLIGHT
BEGIN:STANDARD
TZOFFSETFROM:+0200
TZOFFSETTO:+0100
TZNAME:CET
DTSTART:20241027T010000
END:STANDARD
END:VTIMEZONE
BEGIN:VEVENT
DTSTART;TZID=Europe/Berlin:20231117T200000
DTEND;TZID=Europe/Berlin:20231117T220000
DTSTAMP:20260425T164955
CREATED:20230329T061640Z
LAST-MODIFIED:20231114T084109Z
UID:6061-1700251200-1700258400@hinterhalt.de
SUMMARY:Peter Schneider und Ingo Mützel - "Ingo and Pete" -Herbstflimmern
DESCRIPTION:Der Herbst ist farbenfroh und macht auch nachdenklich. Lieder wie „Hau ab“\, „Lass es los“ und „Faulheit“ beschreiben diese Stimmung treffend.  \n\n\n\nIngo Mützel (Cuba Vista) und Peter Schneider (The Stimulators) schreiben deutsche Texte\, verpackt in Latin\, Soul und jazzigen Klängen. Zwei Gitarren\, mal im Gleichklang\, mal im Wechselspiel wie die herbstliche Jahreszeit. Dazwischen die unterhaltsame Plauderei der beiden Musiker.  \n\n\n\nGarantiert kein Herbst-Blues! \n\n\n\n\n \n\n\n\n\nEinlaß 19 Uhr
URL:https://hinterhalt.de/veranstaltung/peter-schneider-und-ingo-muetzel-ingo-and-pete-herbstflimmern/
LOCATION:Hinterhalt I\, Leitenstraße 40\, Geretsried\, 82538
CATEGORIES:Konzert
ATTACH;FMTTYPE=image/jpeg:https://hinterhalt.de/wp-content/uploads/2023/08/2642_3153_1_g.jpg
END:VEVENT
END:VCALENDAR