BEGIN:VCALENDAR
VERSION:2.0
PRODID:-//Kulturbühne Hinterhalt - ECPv6.15.20//NONSGML v1.0//EN
CALSCALE:GREGORIAN
METHOD:PUBLISH
X-WR-CALNAME:Kulturbühne Hinterhalt
X-ORIGINAL-URL:https://hinterhalt.de
X-WR-CALDESC:Veranstaltungen für Kulturbühne Hinterhalt
REFRESH-INTERVAL;VALUE=DURATION:PT1H
X-Robots-Tag:noindex
X-PUBLISHED-TTL:PT1H
BEGIN:VTIMEZONE
TZID:Europe/Berlin
BEGIN:DAYLIGHT
TZOFFSETFROM:+0100
TZOFFSETTO:+0200
TZNAME:CEST
DTSTART:20250330T010000
END:DAYLIGHT
BEGIN:STANDARD
TZOFFSETFROM:+0200
TZOFFSETTO:+0100
TZNAME:CET
DTSTART:20251026T010000
END:STANDARD
BEGIN:DAYLIGHT
TZOFFSETFROM:+0100
TZOFFSETTO:+0200
TZNAME:CEST
DTSTART:20260329T010000
END:DAYLIGHT
BEGIN:STANDARD
TZOFFSETFROM:+0200
TZOFFSETTO:+0100
TZNAME:CET
DTSTART:20261025T010000
END:STANDARD
BEGIN:DAYLIGHT
TZOFFSETFROM:+0100
TZOFFSETTO:+0200
TZNAME:CEST
DTSTART:20270328T010000
END:DAYLIGHT
BEGIN:STANDARD
TZOFFSETFROM:+0200
TZOFFSETTO:+0100
TZNAME:CET
DTSTART:20271031T010000
END:STANDARD
END:VTIMEZONE
BEGIN:VEVENT
DTSTART;TZID=Europe/Berlin:20261107T200000
DTEND;TZID=Europe/Berlin:20261107T230000
DTSTAMP:20260419T223830
CREATED:20260320T171151Z
LAST-MODIFIED:20260324T171706Z
UID:12503-1794081600-1794092400@hinterhalt.de
SUMMARY:Pogo Gadgetto & IRON SNAG JOE
DESCRIPTION:Pogo Gadgetto \n\n\n\nEs waren einmal ein Gammelmeister und ein Murmeltier. Der Gammelmeister hatte ein Moped\, mit dem raste er um die Welt. Das Murmeltier wollte einen Toaster heiraten\, doch der Toaster hatte kein Interesse. Eines Tages hätte der Gammelmeister mit seinem Moped fast das Murmeltier überfahren. Und während sich auch das Moped in den Toaster verliebte\, gründeten Murmeltier und Gammelmeister eine Band: Pogo Gadgetto sollte sie heißen. Inspiriert von einem trotteligen Zeichentrickinspektor und dem schönsten Tanz der Welt sollten sie fortan als Duo dem Lärm in all seinen Facetten frönen. \n\n\n\nPogo Gadgetto haben Punk verstanden\, aber sie wissen beim besten Willen nicht\, was er von ihnen will. \n\n\n\nGründung: 2023Live aktiv seit: 2024Debütalbum: Das Ende hat ein Warten 2025 \n\n\n\nwww.pogo-gadgetto.de \n\n\n\n\n\n\n\nIRON SNAG JOE \n\n\n\n\n\n\n\nist deutschsprachiger Fun-Punk-Rotz’n’Roll seit 2004. Die vier Burschen machen Party-Punk seit über 20 Jahren mit lustigen Bühnenoutfits und einer extra Portion wiener Schmäh! Jeder noch so kleine Gig ein Kabarett. Prädikat: Wertlos!!!
URL:https://hinterhalt.de/veranstaltung/pogo-gadgetto/
LOCATION:Hinterhalt I\, Leitenstraße 40\, Geretsried\, 82538
CATEGORIES:Konzert
ATTACH;FMTTYPE=image/jpeg:https://hinterhalt.de/wp-content/uploads/2026/03/Pogo-Gadgetto2.jpeg
END:VEVENT
END:VCALENDAR