BEGIN:VCALENDAR
VERSION:2.0
PRODID:-//Kulturbühne Hinterhalt - ECPv6.15.20//NONSGML v1.0//EN
CALSCALE:GREGORIAN
METHOD:PUBLISH
X-WR-CALNAME:Kulturbühne Hinterhalt
X-ORIGINAL-URL:https://hinterhalt.de
X-WR-CALDESC:Veranstaltungen für Kulturbühne Hinterhalt
REFRESH-INTERVAL;VALUE=DURATION:PT1H
X-Robots-Tag:noindex
X-PUBLISHED-TTL:PT1H
BEGIN:VTIMEZONE
TZID:Europe/Berlin
BEGIN:DAYLIGHT
TZOFFSETFROM:+0100
TZOFFSETTO:+0200
TZNAME:CEST
DTSTART:20250330T010000
END:DAYLIGHT
BEGIN:STANDARD
TZOFFSETFROM:+0200
TZOFFSETTO:+0100
TZNAME:CET
DTSTART:20251026T010000
END:STANDARD
BEGIN:DAYLIGHT
TZOFFSETFROM:+0100
TZOFFSETTO:+0200
TZNAME:CEST
DTSTART:20260329T010000
END:DAYLIGHT
BEGIN:STANDARD
TZOFFSETFROM:+0200
TZOFFSETTO:+0100
TZNAME:CET
DTSTART:20261025T010000
END:STANDARD
BEGIN:DAYLIGHT
TZOFFSETFROM:+0100
TZOFFSETTO:+0200
TZNAME:CEST
DTSTART:20270328T010000
END:DAYLIGHT
BEGIN:STANDARD
TZOFFSETFROM:+0200
TZOFFSETTO:+0100
TZNAME:CET
DTSTART:20271031T010000
END:STANDARD
END:VTIMEZONE
BEGIN:VEVENT
DTSTART;TZID=Europe/Berlin:20260625T200000
DTEND;TZID=Europe/Berlin:20260625T230000
DTSTAMP:20260424T090534
CREATED:20251010T074138Z
LAST-MODIFIED:20260122T094240Z
UID:10821-1782417600-1782428400@hinterhalt.de
SUMMARY:"Sir" Oliver Mally Group & Peter Schneider
DESCRIPTION:„Shake up the world“„Sir“ Oliver Mally Group und Peter Schneider – Niemand ist öfter im Hinterhalt aufgetreten als der Bandleader der „Stimulators“\, der mit zahlreichen\, wechselnden Formationen seit Gründung der Bühne immer und immer wieder kommt und spielt.Dieses Mal mit seinem langjährigen österreichischen „Blues-Bruder“\, „Sir“ Oliver Mally und seiner Band. Und auch der österreichische Blues-Gott „Sir“ Oliver Mally ist ein gerne gesehener Gast im Geltinger Hinterhalt. Zwei Gitarren\, eine nachdrückliche Stimme\, eine Mundharmonika – und mehr braucht es nicht für einen wunderbaren Tag im Juni im oberbayerischen Oberland. \n\n\n\n\n\n\n\n\n\n\n\n\n\n\n\nEinlass 19:00
URL:https://hinterhalt.de/veranstaltung/sir-oliver-mally-group-peter-schneider/
LOCATION:Kulturbühne Hinterhalt\, Leitenstraße 40\, Geretsried\, 82538\, Deutschland
CATEGORIES:Konzert
ATTACH;FMTTYPE=image/jpeg:https://hinterhalt.de/wp-content/uploads/2024/12/WhatsApp-Bild-2024-12-15-um-14.39.19_1e583fcf.jpg
END:VEVENT
END:VCALENDAR