BEGIN:VCALENDAR
VERSION:2.0
PRODID:-//Kulturbühne Hinterhalt - ECPv6.15.20//NONSGML v1.0//EN
CALSCALE:GREGORIAN
METHOD:PUBLISH
X-WR-CALNAME:Kulturbühne Hinterhalt
X-ORIGINAL-URL:https://hinterhalt.de
X-WR-CALDESC:Veranstaltungen für Kulturbühne Hinterhalt
REFRESH-INTERVAL;VALUE=DURATION:PT1H
X-Robots-Tag:noindex
X-PUBLISHED-TTL:PT1H
BEGIN:VTIMEZONE
TZID:Europe/Berlin
BEGIN:DAYLIGHT
TZOFFSETFROM:+0100
TZOFFSETTO:+0200
TZNAME:CEST
DTSTART:20230326T010000
END:DAYLIGHT
BEGIN:STANDARD
TZOFFSETFROM:+0200
TZOFFSETTO:+0100
TZNAME:CET
DTSTART:20231029T010000
END:STANDARD
BEGIN:DAYLIGHT
TZOFFSETFROM:+0100
TZOFFSETTO:+0200
TZNAME:CEST
DTSTART:20240331T010000
END:DAYLIGHT
BEGIN:STANDARD
TZOFFSETFROM:+0200
TZOFFSETTO:+0100
TZNAME:CET
DTSTART:20241027T010000
END:STANDARD
BEGIN:DAYLIGHT
TZOFFSETFROM:+0100
TZOFFSETTO:+0200
TZNAME:CEST
DTSTART:20250330T010000
END:DAYLIGHT
BEGIN:STANDARD
TZOFFSETFROM:+0200
TZOFFSETTO:+0100
TZNAME:CET
DTSTART:20251026T010000
END:STANDARD
END:VTIMEZONE
BEGIN:VEVENT
DTSTART;TZID=Europe/Berlin:20240407T140000
DTEND;TZID=Europe/Berlin:20240407T170000
DTSTAMP:20260424T134446
CREATED:20240323T170242Z
LAST-MODIFIED:20240323T170255Z
UID:7793-1712498400-1712509200@hinterhalt.de
SUMMARY:Sirenenchor des Kulturvereins Isar Loisach e.V.
DESCRIPTION:Öffentliche Probe – Unter der Leitung von Carolin Roth https://caro-vox.de/ üben wir aktuell zum Thema „Baden gehen“ – Gesungen werden bekannte Schlager\, Evergreens\, Schnulzen etc. – Alle\, die gerne singen\, sind herzlichst eingeladen.  \n\n\n\nAuch Instrumentalisten sind herzlichst eingeladen\, vorbei zu kommen. Besondere Vorkenntnisse/Erfahrungen bei den Sängerinnen und Sängern sind nicht erforderlich.  \n\n\n\nAnmeldung gerne unter assunta@hinterhalt.de\, gerne schicken wir auch Zugang zur Dropbox zur Information und kleinen Vorbereitung auf das\, was da kommt.  \n\n\n\nDie Proben des Sirenenchors sind in der Regel einmal monatlich!  \n\n\n\nDer Eintritt ist frei\, über Spenden freuen wir uns!
URL:https://hinterhalt.de/veranstaltung/sirenenchor-des-kulturvereins-isar-loisach-e-v/
LOCATION:Kulturbühne Hinterhalt\, Leitenstraße 40\, Geretsried\, 82538\, Deutschland
CATEGORIES:Konzert
ATTACH;FMTTYPE=image/jpeg:https://hinterhalt.de/wp-content/uploads/2024/01/sirenen.jpg
END:VEVENT
END:VCALENDAR