BEGIN:VCALENDAR
VERSION:2.0
PRODID:-//Kulturbühne Hinterhalt - ECPv6.15.20//NONSGML v1.0//EN
CALSCALE:GREGORIAN
METHOD:PUBLISH
X-WR-CALNAME:Kulturbühne Hinterhalt
X-ORIGINAL-URL:https://hinterhalt.de
X-WR-CALDESC:Veranstaltungen für Kulturbühne Hinterhalt
REFRESH-INTERVAL;VALUE=DURATION:PT1H
X-Robots-Tag:noindex
X-PUBLISHED-TTL:PT1H
BEGIN:VTIMEZONE
TZID:Europe/Berlin
BEGIN:DAYLIGHT
TZOFFSETFROM:+0100
TZOFFSETTO:+0200
TZNAME:CEST
DTSTART:20230326T010000
END:DAYLIGHT
BEGIN:STANDARD
TZOFFSETFROM:+0200
TZOFFSETTO:+0100
TZNAME:CET
DTSTART:20231029T010000
END:STANDARD
BEGIN:DAYLIGHT
TZOFFSETFROM:+0100
TZOFFSETTO:+0200
TZNAME:CEST
DTSTART:20240331T010000
END:DAYLIGHT
BEGIN:STANDARD
TZOFFSETFROM:+0200
TZOFFSETTO:+0100
TZNAME:CET
DTSTART:20241027T010000
END:STANDARD
BEGIN:DAYLIGHT
TZOFFSETFROM:+0100
TZOFFSETTO:+0200
TZNAME:CEST
DTSTART:20250330T010000
END:DAYLIGHT
BEGIN:STANDARD
TZOFFSETFROM:+0200
TZOFFSETTO:+0100
TZNAME:CET
DTSTART:20251026T010000
END:STANDARD
END:VTIMEZONE
BEGIN:VEVENT
DTSTART;TZID=Europe/Berlin:20240609T140000
DTEND;TZID=Europe/Berlin:20240609T170000
DTSTAMP:20260424T205639
CREATED:20240528T072842Z
LAST-MODIFIED:20240528T072853Z
UID:8254-1717941600-1717952400@hinterhalt.de
SUMMARY:Sirenenchor – öffentliche Probe
DESCRIPTION:Sirenenchor – öffentliche Probe des Chors des Kulturverein Isar Loisach e.V. (KIL). Alle Singbegeisterten jeglichen Geschlechts sind herzlich willkommen. Zum Motto „Baden gehen“ singen wir ausgewählte Lieder\, Schlager\, Chansons (allesamt in deutscher Sprache)\, die Texte werden in einer Dropbox hinterlegt. Geprobt wird ca. ein Mal im Monat im Hinterhalt (Leitenstraße 40\, Gelting).  \n\n\n\nUnsere Leitung macht die Profi-Musikerin Carolin Roth https://caro-vox.de/ – Mitmachen ist gewünscht gegen Spende für die Chorleiterin. Auch gewünscht ist\, dass alle möglichst regelmäßig kommen zu den öffentlichen Proben und natürlich auch üben anhand der Unterlagen in der Dropbox! Anmeldung gewünscht (aber nicht erforderlich) über dansa-art@web.de
URL:https://hinterhalt.de/veranstaltung/sirenenchor-oeffentliche-probe/
LOCATION:Kulturbühne Hinterhalt\, Leitenstraße 40\, Geretsried\, 82538\, Deutschland
CATEGORIES:Konzert
ATTACH;FMTTYPE=image/jpeg:https://hinterhalt.de/wp-content/uploads/2024/01/sirenen.jpg
END:VEVENT
END:VCALENDAR