BEGIN:VCALENDAR
VERSION:2.0
PRODID:-//Kulturbühne Hinterhalt - ECPv6.15.20//NONSGML v1.0//EN
CALSCALE:GREGORIAN
METHOD:PUBLISH
X-WR-CALNAME:Kulturbühne Hinterhalt
X-ORIGINAL-URL:https://hinterhalt.de
X-WR-CALDESC:Veranstaltungen für Kulturbühne Hinterhalt
REFRESH-INTERVAL;VALUE=DURATION:PT1H
X-Robots-Tag:noindex
X-PUBLISHED-TTL:PT1H
BEGIN:VTIMEZONE
TZID:Europe/Berlin
BEGIN:DAYLIGHT
TZOFFSETFROM:+0100
TZOFFSETTO:+0200
TZNAME:CEST
DTSTART:20230326T010000
END:DAYLIGHT
BEGIN:STANDARD
TZOFFSETFROM:+0200
TZOFFSETTO:+0100
TZNAME:CET
DTSTART:20231029T010000
END:STANDARD
BEGIN:DAYLIGHT
TZOFFSETFROM:+0100
TZOFFSETTO:+0200
TZNAME:CEST
DTSTART:20240331T010000
END:DAYLIGHT
BEGIN:STANDARD
TZOFFSETFROM:+0200
TZOFFSETTO:+0100
TZNAME:CET
DTSTART:20241027T010000
END:STANDARD
BEGIN:DAYLIGHT
TZOFFSETFROM:+0100
TZOFFSETTO:+0200
TZNAME:CEST
DTSTART:20250330T010000
END:DAYLIGHT
BEGIN:STANDARD
TZOFFSETFROM:+0200
TZOFFSETTO:+0100
TZNAME:CET
DTSTART:20251026T010000
END:STANDARD
END:VTIMEZONE
BEGIN:VEVENT
DTSTART;TZID=Europe/Berlin:20241124T140000
DTEND;TZID=Europe/Berlin:20241124T170000
DTSTAMP:20260424T185756
CREATED:20241119T151120Z
LAST-MODIFIED:20241119T151122Z
UID:9020-1732456800-1732467600@hinterhalt.de
SUMMARY:Sirenenchor
DESCRIPTION:Probe des Laienchors des Kulturvereins Isar Loisach e.V. (KIL)\, wie immer bzw. meistens im Hinterhalt. Ein fröhlicher Haufen von Menschen\, die gerne singen (und nicht zwingend perfekt) und auch musizieren\, aber nicht auch noch Zeit finden\, wöchentlich zu proben\, hat sich vor gut 8 Jahren zusammen getan. Geprobt wird ein Mal im Monat unter professioneller Anleitung (Carolin Roth; caro-vox.de)  und möglichst viel zu Hause (Unterlagen in einer Dropbox); und immer wieder singen zu besonderen Anlässen oder wenns zum Aufheulen ist!  \n\n\n\nGerne nehmen wir neue Sänger/innen und/oder Musiker/innen auf (gegen Unkostenbeitrag von 10\,00 € pro Übungstermin). Hierzu erbitten wir natürlich die Anmeldung bei dansa-art@web.de (Daniela Satzinger). Kommt vorbei und singt mit!
URL:https://hinterhalt.de/veranstaltung/sirenenchor/
LOCATION:Kulturbühne Hinterhalt\, Leitenstraße 40\, Geretsried\, 82538\, Deutschland
CATEGORIES:Konzert
ATTACH;FMTTYPE=image/jpeg:https://hinterhalt.de/wp-content/uploads/2021/11/PiPaPo_Sirenenchor.jpg
END:VEVENT
END:VCALENDAR