BEGIN:VCALENDAR
VERSION:2.0
PRODID:-//Kulturbühne Hinterhalt - ECPv6.15.20//NONSGML v1.0//EN
CALSCALE:GREGORIAN
METHOD:PUBLISH
X-WR-CALNAME:Kulturbühne Hinterhalt
X-ORIGINAL-URL:https://hinterhalt.de
X-WR-CALDESC:Veranstaltungen für Kulturbühne Hinterhalt
REFRESH-INTERVAL;VALUE=DURATION:PT1H
X-Robots-Tag:noindex
X-PUBLISHED-TTL:PT1H
BEGIN:VTIMEZONE
TZID:Europe/Berlin
BEGIN:DAYLIGHT
TZOFFSETFROM:+0100
TZOFFSETTO:+0200
TZNAME:CEST
DTSTART:20220327T010000
END:DAYLIGHT
BEGIN:STANDARD
TZOFFSETFROM:+0200
TZOFFSETTO:+0100
TZNAME:CET
DTSTART:20221030T010000
END:STANDARD
BEGIN:DAYLIGHT
TZOFFSETFROM:+0100
TZOFFSETTO:+0200
TZNAME:CEST
DTSTART:20230326T010000
END:DAYLIGHT
BEGIN:STANDARD
TZOFFSETFROM:+0200
TZOFFSETTO:+0100
TZNAME:CET
DTSTART:20231029T010000
END:STANDARD
BEGIN:DAYLIGHT
TZOFFSETFROM:+0100
TZOFFSETTO:+0200
TZNAME:CEST
DTSTART:20240331T010000
END:DAYLIGHT
BEGIN:STANDARD
TZOFFSETFROM:+0200
TZOFFSETTO:+0100
TZNAME:CET
DTSTART:20241027T010000
END:STANDARD
END:VTIMEZONE
BEGIN:VEVENT
DTSTART;TZID=Europe/Berlin:20231114T193000
DTEND;TZID=Europe/Berlin:20231114T210000
DTSTAMP:20260425T164744
CREATED:20230811T144733Z
LAST-MODIFIED:20231109T123604Z
UID:6408-1699990200-1699995600@hinterhalt.de
SUMMARY:Prof. Dr. Götz Aly - Statt-Akademie: "Unser Nationalsozialismus"
DESCRIPTION:Vortrag mit Diskussion „Unser Nationalsozialismus“ von und mit Prof. Dr. Götz Aly.  \n\n\n\nBezeichnendes Zitat des Satirikers Gerhard Polt: „Damals haben wir Deutsche gemeinsam mit den Alliierten die Nazis besiegt“ oder – ebenso – des Satirikers Wiglaf Droste „Anders gesagt: war Hitler nicht eigentlich doch ein Einzeltäter?“ Keine Satire\, sondern klare Worte zum Thema findet der Referent vor Ort. \n\n\n\nEinlass 19:00
URL:https://hinterhalt.de/veranstaltung/statt-akademieunser-nationalsozialismus/
LOCATION:Erinnerungsort Badehaus Waldram\, Kolpingplatz 1\, Wolfratshausen\, 82515\, Deutschland
CATEGORIES:Konzert
END:VEVENT
END:VCALENDAR