BEGIN:VCALENDAR
VERSION:2.0
PRODID:-//Kulturbühne Hinterhalt - ECPv6.15.20//NONSGML v1.0//EN
CALSCALE:GREGORIAN
METHOD:PUBLISH
X-WR-CALNAME:Kulturbühne Hinterhalt
X-ORIGINAL-URL:https://hinterhalt.de
X-WR-CALDESC:Veranstaltungen für Kulturbühne Hinterhalt
REFRESH-INTERVAL;VALUE=DURATION:PT1H
X-Robots-Tag:noindex
X-PUBLISHED-TTL:PT1H
BEGIN:VTIMEZONE
TZID:Europe/Berlin
BEGIN:DAYLIGHT
TZOFFSETFROM:+0100
TZOFFSETTO:+0200
TZNAME:CEST
DTSTART:20240331T010000
END:DAYLIGHT
BEGIN:STANDARD
TZOFFSETFROM:+0200
TZOFFSETTO:+0100
TZNAME:CET
DTSTART:20241027T010000
END:STANDARD
BEGIN:DAYLIGHT
TZOFFSETFROM:+0100
TZOFFSETTO:+0200
TZNAME:CEST
DTSTART:20250330T010000
END:DAYLIGHT
BEGIN:STANDARD
TZOFFSETFROM:+0200
TZOFFSETTO:+0100
TZNAME:CET
DTSTART:20251026T010000
END:STANDARD
BEGIN:DAYLIGHT
TZOFFSETFROM:+0100
TZOFFSETTO:+0200
TZNAME:CEST
DTSTART:20260329T010000
END:DAYLIGHT
BEGIN:STANDARD
TZOFFSETFROM:+0200
TZOFFSETTO:+0100
TZNAME:CET
DTSTART:20261025T010000
END:STANDARD
END:VTIMEZONE
BEGIN:VEVENT
DTSTART;TZID=Europe/Berlin:20251017T100000
DTEND;TZID=Europe/Berlin:20251017T123000
DTSTAMP:20260426T055821
CREATED:20250326T121413Z
LAST-MODIFIED:20251008T083540Z
UID:9765-1760695200-1760704200@hinterhalt.de
SUMMARY:„Die Deutsche Eiche – eine besondere Führung“
DESCRIPTION:Der bfg München und der Kulturverein Isar Loisach e.V laden ein ins großartige Gasthaus\, Hotel und wohl „Europas größtes Badehaus für Herren“. Niemand Geringeres als mein guter Freund Dietmar Holzapfel\, Chef (gemeinsam mit Josef Sattler) einer inzwischen historischen Einrichtung der Stadt München\, der privat getragenen Einrichtung „Die Deutsche Eiche“ in der Reichenbachstraße\, führt\, erzählt und singt Geschichte aus über mehr als hundert Jahren. Ein Ort für Demokratinnen und Demokraten und alle\, die das schnellstens sein wollen… \n\n\n\nAnmeldungen erbeten… \n\n\n\n				Eintritt frei\, um Spenden wird gebeten
URL:https://hinterhalt.de/veranstaltung/the-donnelly-connection/
LOCATION:Deutsche Eiche\, Reichenbachstraße 13\, München\, 80469
CATEGORIES:Konzert
ATTACH;FMTTYPE=image/jpeg:https://hinterhalt.de/wp-content/uploads/2025/03/deutsche-eiche.jpg
END:VEVENT
END:VCALENDAR