BEGIN:VCALENDAR
VERSION:2.0
PRODID:-//Kulturbühne Hinterhalt - ECPv6.15.20//NONSGML v1.0//EN
CALSCALE:GREGORIAN
METHOD:PUBLISH
X-WR-CALNAME:Kulturbühne Hinterhalt
X-ORIGINAL-URL:https://hinterhalt.de
X-WR-CALDESC:Veranstaltungen für Kulturbühne Hinterhalt
REFRESH-INTERVAL;VALUE=DURATION:PT1H
X-Robots-Tag:noindex
X-PUBLISHED-TTL:PT1H
BEGIN:VTIMEZONE
TZID:Europe/Berlin
BEGIN:DAYLIGHT
TZOFFSETFROM:+0100
TZOFFSETTO:+0200
TZNAME:CEST
DTSTART:20230326T010000
END:DAYLIGHT
BEGIN:STANDARD
TZOFFSETFROM:+0200
TZOFFSETTO:+0100
TZNAME:CET
DTSTART:20231029T010000
END:STANDARD
BEGIN:DAYLIGHT
TZOFFSETFROM:+0100
TZOFFSETTO:+0200
TZNAME:CEST
DTSTART:20240331T010000
END:DAYLIGHT
BEGIN:STANDARD
TZOFFSETFROM:+0200
TZOFFSETTO:+0100
TZNAME:CET
DTSTART:20241027T010000
END:STANDARD
BEGIN:DAYLIGHT
TZOFFSETFROM:+0100
TZOFFSETTO:+0200
TZNAME:CEST
DTSTART:20250330T010000
END:DAYLIGHT
BEGIN:STANDARD
TZOFFSETFROM:+0200
TZOFFSETTO:+0100
TZNAME:CET
DTSTART:20251026T010000
END:STANDARD
END:VTIMEZONE
BEGIN:VEVENT
DTSTART;TZID=Europe/Berlin:20240223T200000
DTEND;TZID=Europe/Berlin:20240223T220000
DTSTAMP:20260424T203709
CREATED:20231206T172245Z
LAST-MODIFIED:20240213T071535Z
UID:7123-1708718400-1708725600@hinterhalt.de
SUMMARY:The Inhibitiers Allstar Band
DESCRIPTION:Classic Rock von Deep Purple bis ZZ Top mit The Inhibitiers Allstar Band (TIASB)\n\n\n\nMusikerinnen und Musiker aus verschiedenen Münchner Bands (Feedback\, Blue Traces\, Soulchicken Reloaded\, Black Hat Blues Band\, Doc Parker\, MONaco Big Band\, Simply Soul\, Soul & the Gang\, No More Confusion) teilen die Leidenschaft für Rock\, Rhythm & Blues und eine Prise Soul. \n\n\n\nSeit vielen Jahren immer mal wieder auf den Bühnen in Deutschland\, Italien und Österreich unterwegs\, einfach weil es der Band so viel Spaß macht.Hörprobe: https://soundcloud.com/tiasb/fortunate-sonEin Abend voller toller Songs und der Lust an der Musik!
URL:https://hinterhalt.de/veranstaltung/the-inhibiters-allstar-band/
LOCATION:Hinterhalt I\, Leitenstraße 40\, Geretsried\, 82538
CATEGORIES:Konzert
ATTACH;FMTTYPE=image/jpeg:https://hinterhalt.de/wp-content/uploads/2023/12/the-inhibitiers-allstars.jpg
END:VEVENT
END:VCALENDAR