BEGIN:VCALENDAR
VERSION:2.0
PRODID:-//Kulturbühne Hinterhalt - ECPv6.15.20//NONSGML v1.0//EN
CALSCALE:GREGORIAN
METHOD:PUBLISH
X-WR-CALNAME:Kulturbühne Hinterhalt
X-ORIGINAL-URL:https://hinterhalt.de
X-WR-CALDESC:Veranstaltungen für Kulturbühne Hinterhalt
REFRESH-INTERVAL;VALUE=DURATION:PT1H
X-Robots-Tag:noindex
X-PUBLISHED-TTL:PT1H
BEGIN:VTIMEZONE
TZID:Europe/Berlin
BEGIN:DAYLIGHT
TZOFFSETFROM:+0100
TZOFFSETTO:+0200
TZNAME:CEST
DTSTART:20230326T010000
END:DAYLIGHT
BEGIN:STANDARD
TZOFFSETFROM:+0200
TZOFFSETTO:+0100
TZNAME:CET
DTSTART:20231029T010000
END:STANDARD
BEGIN:DAYLIGHT
TZOFFSETFROM:+0100
TZOFFSETTO:+0200
TZNAME:CEST
DTSTART:20240331T010000
END:DAYLIGHT
BEGIN:STANDARD
TZOFFSETFROM:+0200
TZOFFSETTO:+0100
TZNAME:CET
DTSTART:20241027T010000
END:STANDARD
BEGIN:DAYLIGHT
TZOFFSETFROM:+0100
TZOFFSETTO:+0200
TZNAME:CEST
DTSTART:20250330T010000
END:DAYLIGHT
BEGIN:STANDARD
TZOFFSETFROM:+0200
TZOFFSETTO:+0100
TZNAME:CET
DTSTART:20251026T010000
END:STANDARD
END:VTIMEZONE
BEGIN:VEVENT
DTSTART;TZID=Europe/Berlin:20240329T200000
DTEND;TZID=Europe/Berlin:20240329T223000
DTSTAMP:20260424T194616
CREATED:20240308T101728Z
LAST-MODIFIED:20240325T122622Z
UID:7584-1711742400-1711751400@hinterhalt.de
SUMMARY:The Stimulators
DESCRIPTION:Besetzung\n\n\n\nPeter Schneider  – Lead GitarreOliver Stephan  – Lead Vocals & GitarreFlorian Sagner  – Trompete\, Percussion & VocalsMarcio Tubino  – Saxophon\, Flöte\, Perc & VocalsUli Lehmann  – BassHans Mühlegg  – Drums\, Percussion \n\n\n\nIm März 2021 erschien ihr 10. Album „Travelogue“ mit 13 neuen Songs.Neben Klassikern wie „Caipirihnha“\, Flying Down To Rio“ und „I Like It“ wegen denen ihnen die Presse den Titel die Süchtigmacher gegeben hat\, werden neue Songs wie Rock Steady Cumbia\, Django Style\, Ride Your Donkey\, I Wish You Would\, Fountain Of Youth und viele mehr die Live Auftritte der Stimulators ab 2021 bestimmen. Bei ihrer Plattenfirma www.united-sounds.de kann man schon mal reinhören.Peter Schneider gründete The Stimulators 1998 nachdem er für Willy Michl\, Hans Söllner\, Marius Müller-Westernhagen\, Ike Turner und viele andere Gitarre und Mundharmonika bedient hatte.Die Band ist seit Beginn unverändert. Nur Bruder Oskar Pöhnl hat sich in Richtung Himmel verabschiedet und hat seine Schlagzeug-Position an unseren Percussion-Spieler Hans Mühlegg und der wiederum die Percussion an Trompeter Florian Sagner.10 CDs\, 2 DVD´s und ungefähr 1500 Konzerte in Europa und den USA sind der bisherige Output der Band.Mehr Infos unter: www.Stimulators.de \n\n\n\n\n\nPressestimmen\n\n\n\n\nWenn es einen Preis für die lässigste Kombination aus Südstaatengroove\, Latino- Feuer und Bluesfeeling gäbe\, hätten ihn die Stimulators sicher.() so kennen sie ihre Fans seit vielen Jahren! \n\n\n\n \nSZ-München\n\n\n\n\nDiese Band ist nicht nur einfach gut- sie ist nah an der Perfektion. Das Publikum rockt\, tanzt\, swingt\, liebt Reggae und hat den Blues – und das alles in einem einzigen Konzert. Inzwischen nennt man sie auch die Süchtigmacher\, denn sie bringen jedes Publikum in Stimmung und selbst Männer zum Tanzen. \n\n\n\n \nMünchner Merkur\n\n\n\n\nDie Musik der Stimulators ist wie Cabrio fahren an der Copacabana! \nPlayboy Magazin\n\n\n\n \n\n\n\n\nNur Carlos Santana kann so spielen\, und manchmal hat man den Eindruck Schneider hat den Meister bereits überholt. \nNürnberger Zeitung\n\n\n\n \n\n\n\n\nThey deliver a moody bar-room blues just as convincingly as they pay tribute tot he early Wailers! \nRolling Stone Magazine
URL:https://hinterhalt.de/veranstaltung/the-stimulators-2/
LOCATION:Kulturbühne Hinterhalt\, Leitenstraße 40\, Geretsried\, 82538\, Deutschland
CATEGORIES:Konzert
ATTACH;FMTTYPE=image/jpeg:https://hinterhalt.de/wp-content/uploads/2021/06/Stims2021-klein600.jpg
END:VEVENT
END:VCALENDAR