BEGIN:VCALENDAR
VERSION:2.0
PRODID:-//Kulturbühne Hinterhalt - ECPv6.15.20//NONSGML v1.0//EN
CALSCALE:GREGORIAN
METHOD:PUBLISH
X-WR-CALNAME:Kulturbühne Hinterhalt
X-ORIGINAL-URL:https://hinterhalt.de
X-WR-CALDESC:Veranstaltungen für Kulturbühne Hinterhalt
REFRESH-INTERVAL;VALUE=DURATION:PT1H
X-Robots-Tag:noindex
X-PUBLISHED-TTL:PT1H
BEGIN:VTIMEZONE
TZID:Europe/Berlin
BEGIN:DAYLIGHT
TZOFFSETFROM:+0100
TZOFFSETTO:+0200
TZNAME:CEST
DTSTART:20250330T010000
END:DAYLIGHT
BEGIN:STANDARD
TZOFFSETFROM:+0200
TZOFFSETTO:+0100
TZNAME:CET
DTSTART:20251026T010000
END:STANDARD
BEGIN:DAYLIGHT
TZOFFSETFROM:+0100
TZOFFSETTO:+0200
TZNAME:CEST
DTSTART:20260329T010000
END:DAYLIGHT
BEGIN:STANDARD
TZOFFSETFROM:+0200
TZOFFSETTO:+0100
TZNAME:CET
DTSTART:20261025T010000
END:STANDARD
BEGIN:DAYLIGHT
TZOFFSETFROM:+0100
TZOFFSETTO:+0200
TZNAME:CEST
DTSTART:20270328T010000
END:DAYLIGHT
BEGIN:STANDARD
TZOFFSETFROM:+0200
TZOFFSETTO:+0100
TZNAME:CET
DTSTART:20271031T010000
END:STANDARD
END:VTIMEZONE
BEGIN:VEVENT
DTSTART;TZID=Europe/Berlin:20260301T200000
DTEND;TZID=Europe/Berlin:20260301T230000
DTSTAMP:20260424T090249
CREATED:20251126T123313Z
LAST-MODIFIED:20251126T123426Z
UID:11323-1772395200-1772406000@hinterhalt.de
SUMMARY:The Tiptons Sax Quartet & Drums
DESCRIPTION:THE TIPTONS SAXOPHONE QUARTET & DRUMS are an internationally renowned all-female saxophone quartet with drums\, celebrating over 30 years as a band. Formed in 1988 in Seattle\, WA by Seattle Jazz Hall of Fame member Amy Denio (alto sax\, clarinet\, voice)\, she is joined by co-leader Jessica Lurie (soprano/alto/ tenor sax\,voice)\, Sue Orfield (tenor sax\, voice)\, Tina Richerson (baritone saxophone\, voice)\, and Robert Kainar (drums\,percussion) from Salzburg\, Austria. \n\n\n\nThe Tiptons’ material ranges from micro-Big Band to Gospel\, Bluegrass to Balkan\, whimsical Chamber Jazz\, and nocturnal Funk to Free Jazz Improvisation using saxophones\, clarinet\, their voices\, drums\, and inventive percussion to create a genre-busting ‘world soul’ sound. The band takes its name in honor of Billy Tipton\, a female-born saxophonist who lived their life as a man in the 20th century to realize their dreams as a professional musician. Like Billy\, the Tiptons have developed a personal\, eclectic approach to their musical vision\, creating some of the freshest sounds on the jazz/world/pop music scene today. \n\n\n\nAll members of the band are composers\, bandleaders and experienced improvisers. Their dynamic and playful performances always feature high-energy interaction between these virtuosic musicians and their audiences. The Tiptons have received multiple commissions and grants to compose\, produce multimedia performances and collaborate with international artists. The ensemble has performed at festivals worldwide since 1993\, and led educational improvisation and composition workshops around the world to people of all ages and musical abilities. They have scored soundtracks for film\, modern dance\, radio and television internationally; most recently their signature sound was featured on a 2020 episode of the Norwegian TV series ‘The Oil Fund.’ \n\n\n\nEinlass 19:00
URL:https://hinterhalt.de/veranstaltung/the-tiptons-sax-quartet-drums/
LOCATION:Kulturbühne Hinterhalt\, Leitenstraße 40\, Geretsried\, 82538\, Deutschland
CATEGORIES:Konzert
ATTACH;FMTTYPE=image/jpeg:https://hinterhalt.de/wp-content/uploads/2025/11/The-Tiptons-Sax-Quartet-Drums.jpg
END:VEVENT
END:VCALENDAR