BEGIN:VCALENDAR
VERSION:2.0
PRODID:-//Kulturbühne Hinterhalt - ECPv6.15.20//NONSGML v1.0//EN
CALSCALE:GREGORIAN
METHOD:PUBLISH
X-WR-CALNAME:Kulturbühne Hinterhalt
X-ORIGINAL-URL:https://hinterhalt.de
X-WR-CALDESC:Veranstaltungen für Kulturbühne Hinterhalt
REFRESH-INTERVAL;VALUE=DURATION:PT1H
X-Robots-Tag:noindex
X-PUBLISHED-TTL:PT1H
BEGIN:VTIMEZONE
TZID:Europe/Berlin
BEGIN:DAYLIGHT
TZOFFSETFROM:+0100
TZOFFSETTO:+0200
TZNAME:CEST
DTSTART:20250330T010000
END:DAYLIGHT
BEGIN:STANDARD
TZOFFSETFROM:+0200
TZOFFSETTO:+0100
TZNAME:CET
DTSTART:20251026T010000
END:STANDARD
BEGIN:DAYLIGHT
TZOFFSETFROM:+0100
TZOFFSETTO:+0200
TZNAME:CEST
DTSTART:20260329T010000
END:DAYLIGHT
BEGIN:STANDARD
TZOFFSETFROM:+0200
TZOFFSETTO:+0100
TZNAME:CET
DTSTART:20261025T010000
END:STANDARD
BEGIN:DAYLIGHT
TZOFFSETFROM:+0100
TZOFFSETTO:+0200
TZNAME:CEST
DTSTART:20270328T010000
END:DAYLIGHT
BEGIN:STANDARD
TZOFFSETFROM:+0200
TZOFFSETTO:+0100
TZNAME:CET
DTSTART:20271031T010000
END:STANDARD
END:VTIMEZONE
BEGIN:VEVENT
DTSTART;TZID=Europe/Berlin:20260209T193000
DTEND;TZID=Europe/Berlin:20260209T223000
DTSTAMP:20260424T110332
CREATED:20260122T084433Z
LAST-MODIFIED:20260129T104159Z
UID:11748-1770665400-1770676200@hinterhalt.de
SUMMARY:Unplugged Club Extra – MundArt
DESCRIPTION:von platt bis frängisch\, von bayrisch bis austronomisch \n\n\n\n Das überaus erfolgreiche Format unseres Unplugged Clubs wagt sich mit einem Unplugged Extra erstmalig ins Abendprogramm des Hinterhalts. Unter dem Motto MundART – von platt bis frängisch – von bayerisch bis austronomisch wird das Unplugged Extra das Mundart-Genre in gewohnter Vielfalt präsentieren. Mit von der Partie ist der Kabarettist und Weltmusiker Heinrich Zapf und sein Ensemble „Passt scho“\, das die Auftritte mit instrumentalen Einlagen vom Parkett garniert. \n\n\n\nUnsere Gäste erwartet eine bunte Mischung von eigenen Songs\, musikalischen Raritäten und bestens bekannten Mundart-Titeln zum Mitsingen. \n\n\n\nEinlass ab 19.00 Uhr. Fürs leibliche Wohl gibt’s Obazd’n und Radi mit Brez’n.
URL:https://hinterhalt.de/veranstaltung/unplugged-club-extra-mundart/
LOCATION:Kulturbühne Hinterhalt\, Leitenstraße 40\, Geretsried\, 82538\, Deutschland
CATEGORIES:Konzert
ATTACH;FMTTYPE=image/jpeg:https://hinterhalt.de/wp-content/uploads/2026/01/Unplugged-extra-Mundart-Bild.jpg
END:VEVENT
END:VCALENDAR