BEGIN:VCALENDAR
VERSION:2.0
PRODID:-//Kulturbühne Hinterhalt - ECPv6.15.20//NONSGML v1.0//EN
CALSCALE:GREGORIAN
METHOD:PUBLISH
X-WR-CALNAME:Kulturbühne Hinterhalt
X-ORIGINAL-URL:https://hinterhalt.de
X-WR-CALDESC:Veranstaltungen für Kulturbühne Hinterhalt
REFRESH-INTERVAL;VALUE=DURATION:PT1H
X-Robots-Tag:noindex
X-PUBLISHED-TTL:PT1H
BEGIN:VTIMEZONE
TZID:Europe/Berlin
BEGIN:DAYLIGHT
TZOFFSETFROM:+0100
TZOFFSETTO:+0200
TZNAME:CEST
DTSTART:20240331T010000
END:DAYLIGHT
BEGIN:STANDARD
TZOFFSETFROM:+0200
TZOFFSETTO:+0100
TZNAME:CET
DTSTART:20241027T010000
END:STANDARD
BEGIN:DAYLIGHT
TZOFFSETFROM:+0100
TZOFFSETTO:+0200
TZNAME:CEST
DTSTART:20250330T010000
END:DAYLIGHT
BEGIN:STANDARD
TZOFFSETFROM:+0200
TZOFFSETTO:+0100
TZNAME:CET
DTSTART:20251026T010000
END:STANDARD
BEGIN:DAYLIGHT
TZOFFSETFROM:+0100
TZOFFSETTO:+0200
TZNAME:CEST
DTSTART:20260329T010000
END:DAYLIGHT
BEGIN:STANDARD
TZOFFSETFROM:+0200
TZOFFSETTO:+0100
TZNAME:CET
DTSTART:20261025T010000
END:STANDARD
END:VTIMEZONE
BEGIN:VEVENT
DTSTART;TZID=Europe/Berlin:20251108T200000
DTEND;TZID=Europe/Berlin:20251108T230000
DTSTAMP:20260425T031548
CREATED:20251005T074621Z
LAST-MODIFIED:20251029T113803Z
UID:10669-1762632000-1762642800@hinterhalt.de
SUMMARY:Pinsel\, Pauke\, Poesie - Wilfried vom Ammersee & Frank Astor Spui ma was? „Einfach glücklich!“ – Musikalisches Kabarett
DESCRIPTION:Frank Astor\, erfahrener Schauspieler\, Sänger und Kabarettist\, gibt ein humorvolles Best-of seiner musikalischen Bühnenprogramme zum Besten. \n\n\n\nAn seiner Seite: Dr. Wilfried Müller\, ein Meister der feinsinnigen Komik\, begnadeter Karl-Valentin-Interpret und singender Barde vom Ammersee. Gemeinsam vereinen sie Wortwitz\, Musikalität und zeitlose Chansons zu einem unvergesslichen Abend. \n\n\n\nEin Programm voller humorvoller Einlagen\, berührender Lieder und kabarettistischer Überraschungen – mal poetisch\, mal bissig\, aber immer unterhaltsam. Ein Abend\, der nicht nur die Lachmuskeln trainiert\, sondern auch das Herz berührt. \n\n\n\nAm Ende werden Sie sagen: Wir haben gelacht\, gestaunt\, genossen – und waren für zwei Stunden einfach glücklich! \n\n\n\nInfos unter https://spuimawas.de/ \n\n\n\nPremierenfeedback:„Lieber Herr Astor\, lieber Herr Müllernoch mal ganz vielen Dank für den überaus spritzig-witzig-anregenden und zu Herzen gehenden Abend im Studio Rose. Wir haben es ungemein genossen. Herzlichen Dank!“ \n\n\n\nEinlass 19:00
URL:https://hinterhalt.de/veranstaltung/wilfried-vom-ammersee-frank-astor-spui-ma-was-einfach-gluecklich-musikalisches-kabarett/
LOCATION:Kulturbühne Hinterhalt\, Leitenstraße 40\, Geretsried\, 82538\, Deutschland
CATEGORIES:Konzert
ATTACH;FMTTYPE=image/jpeg:https://hinterhalt.de/wp-content/uploads/2025/10/DSC00089-Kopie.jpg
END:VEVENT
END:VCALENDAR