BEGIN:VCALENDAR
VERSION:2.0
PRODID:-//Kulturbühne Hinterhalt - ECPv6.15.20//NONSGML v1.0//EN
CALSCALE:GREGORIAN
METHOD:PUBLISH
X-WR-CALNAME:Kulturbühne Hinterhalt
X-ORIGINAL-URL:https://hinterhalt.de
X-WR-CALDESC:Veranstaltungen für Kulturbühne Hinterhalt
REFRESH-INTERVAL;VALUE=DURATION:PT1H
X-Robots-Tag:noindex
X-PUBLISHED-TTL:PT1H
BEGIN:VTIMEZONE
TZID:Europe/Berlin
BEGIN:DAYLIGHT
TZOFFSETFROM:+0100
TZOFFSETTO:+0200
TZNAME:CEST
DTSTART:20230326T010000
END:DAYLIGHT
BEGIN:STANDARD
TZOFFSETFROM:+0200
TZOFFSETTO:+0100
TZNAME:CET
DTSTART:20231029T010000
END:STANDARD
BEGIN:DAYLIGHT
TZOFFSETFROM:+0100
TZOFFSETTO:+0200
TZNAME:CEST
DTSTART:20240331T010000
END:DAYLIGHT
BEGIN:STANDARD
TZOFFSETFROM:+0200
TZOFFSETTO:+0100
TZNAME:CET
DTSTART:20241027T010000
END:STANDARD
BEGIN:DAYLIGHT
TZOFFSETFROM:+0100
TZOFFSETTO:+0200
TZNAME:CEST
DTSTART:20250330T010000
END:DAYLIGHT
BEGIN:STANDARD
TZOFFSETFROM:+0200
TZOFFSETTO:+0100
TZNAME:CET
DTSTART:20251026T010000
END:STANDARD
END:VTIMEZONE
BEGIN:VEVENT
DTSTART;TZID=Europe/Berlin:20240126T200000
DTEND;TZID=Europe/Berlin:20240126T223000
DTSTAMP:20260424T185630
CREATED:20230821T063451Z
LAST-MODIFIED:20231106T172945Z
UID:6499-1706299200-1706308200@hinterhalt.de
SUMMARY:Stefan Leonhardsberger & Stephan Zinner
DESCRIPTION:Wie 95% der Österreicher schätzt Stefan Leonhardsberger\, geboren in Freistadt im Unteren Mühlviertel\, das Kaffeehaus\, insbesondere das Wienerische\, als Institution besonderer Art\, die mit keiner in der Welt zu vergleichen ist. \n\n\n\nUnd wie 95% der Bayern schätzt Stephan Zinner\, geboren in Trostberg im Hinteren Chiemgau\, das Wirtshaus\, insbesondere das Münchnerische\, ebenfalls als einen ganz besonderen Ort. \n\n\n\nBeide Orte haben Literaten\, Komponisten\, Freidenker und Philosophen inspiriert\, geprägt und verändert. \n\n\n\nIn „Kaffee und Bier“ lesen die beiden Schauspieler und Kabarettisten Texte von eben diesen Damen und Herren – auf der österreichischen Seite u.a. Karl Kraus\, Arthur Schnitzler\, Joseph Roth\, Egon Fridell und Anton Kuh. \n\n\n\nAuf der bayerischen Seite sind u.a. Oskar Maria Graf\, Joachim Ringlnatz\, Gerhard Polt\, Frank Wedekind und Karl Valentin vertreten. \n\n\n\nWie es die Auswahl zeigt\, kann es heiter\, wolkig\, laut und leise werden – alles in allem eine österreichisch\, bayerische Melange\, mit der ein Versuch unternommen wird\, die Eigenheiten\, oder vielleicht sogar die Gemeinsamkeiten\, dieser beiden Volksstämme zu beleuchten. \n\n\n\nStefan Leonhardsberger und Stephan Zinner werden musikalisch auf älteres Liedgut zurückgreifen\, aber auch extra für den Abend komponierte Lieder zum Besten geben
URL:https://hinterhalt.de/veranstaltung/zinner/
CATEGORIES:Konzert
ATTACH;FMTTYPE=image/jpeg:https://hinterhalt.de/wp-content/uploads/2023/08/STEFAN-LEONHARDSBERGER-STEPHAN-ZINNER.jpeg
END:VEVENT
END:VCALENDAR