BEGIN:VCALENDAR
VERSION:2.0
PRODID:-//Kulturbühne Hinterhalt - ECPv6.15.20//NONSGML v1.0//EN
CALSCALE:GREGORIAN
METHOD:PUBLISH
X-ORIGINAL-URL:https://hinterhalt.de
X-WR-CALDESC:Veranstaltungen für Kulturbühne Hinterhalt
REFRESH-INTERVAL;VALUE=DURATION:PT1H
X-Robots-Tag:noindex
X-PUBLISHED-TTL:PT1H
BEGIN:VTIMEZONE
TZID:Europe/Berlin
BEGIN:DAYLIGHT
TZOFFSETFROM:+0100
TZOFFSETTO:+0200
TZNAME:CEST
DTSTART:20250330T010000
END:DAYLIGHT
BEGIN:STANDARD
TZOFFSETFROM:+0200
TZOFFSETTO:+0100
TZNAME:CET
DTSTART:20251026T010000
END:STANDARD
BEGIN:DAYLIGHT
TZOFFSETFROM:+0100
TZOFFSETTO:+0200
TZNAME:CEST
DTSTART:20260329T010000
END:DAYLIGHT
BEGIN:STANDARD
TZOFFSETFROM:+0200
TZOFFSETTO:+0100
TZNAME:CET
DTSTART:20261025T010000
END:STANDARD
BEGIN:DAYLIGHT
TZOFFSETFROM:+0100
TZOFFSETTO:+0200
TZNAME:CEST
DTSTART:20270328T010000
END:DAYLIGHT
BEGIN:STANDARD
TZOFFSETFROM:+0200
TZOFFSETTO:+0100
TZNAME:CET
DTSTART:20271031T010000
END:STANDARD
END:VTIMEZONE
BEGIN:VEVENT
DTSTART;TZID=Europe/Berlin:20260424T200000
DTEND;TZID=Europe/Berlin:20260424T220000
DTSTAMP:20260424T072550
CREATED:20251013T062855Z
LAST-MODIFIED:20251024T200544Z
UID:10002313-1777060800-1777068000@hinterhalt.de
SUMMARY:CAFÉ VOYAGE -  Milch und Honig
DESCRIPTION:Swing\, Bossa\, Chanson\, Jazz und Weltmusik \n\n\n\n‚Die Musik von CAFÉ VOYAGE macht ‘Mut\, das eigene Leben auszuprobieren\, etwas zu wagen und sich nicht auf Second-Hand-Erfahrungen einzulassen!‘ und ist voll ‚augenzwinkernder Poesie‘!  \n\n\n\n(Süddeutsche Zeitung) \n\n\n\nGünter Renner ist ein Songpoet\, der auch Zwischentöne kennt.Maria Friedrich ist preisgekrönte klassische Cellistin\, die über den musikalischen Tellerrand hinausschaut. Klemens Jackisch schließlich ist einversierter und kreativer Jazzgitarrist\, der aber auch in anderen Genres zuhause ist. \n\n\n\nAls Trio Café Voyage präsentieren sie Geschichten\, Lieder und virtuos gespielte Instrumentalstücke in eigener Interpretation\, … mal Chanson undSinger-Songwriter\, mal Jazz und Weltmusik! \n\n\n\nLeidenschaftlich-mitreißend\, gefühlvoll-verträumt\, kritisch-frech! \n\n\n\nGünter RennerGesang\, Gitarre\, Songs\, Ukulele\,Blues-Harp\, Percussion\, Texte \n\n\n\n(Liedermacher\, internationale Erfolge mit dem New-Age-Music-Projekt ‚Satyam Shant’\, Mitglied verschiedener Popbands\, nationale Erfolge mit ‚Dem Renner seine Band’\, Gründung vonCAFÉ VOYAGE im Jahr 2013\, festes Mitglied des Ensembles www.Feder-Bunt.de \n\n\n\nMaria FriedrichCello\, Gesang \n\n\n\n(Studium an der HfM Würzburg\, Preisträgerin d. Musikalischen Akademie Würzburg u.a.\,Gastspiele mit diversen klassischen Orchestern\, Gründung von CAFÉ VOYAGE im Jahr 2013) festes Mitglied der Ensembles www.ladystrings.com\, www.gruberich.de und www.salutsalon.de \n\n\n\nKlemens JackischGitarre\, Gesang\, Songs\, Percussion \n\n\n\n(Gitarrist und Sänger in diversen Rock- und Folkbands\, gitarristische Studien in Jazz\,Rock und Fusion\, Mitglied verschiedener A-Capella- und klassischer Chöre) \n\n\n\nwww.cafe-voyage.net
URL:https://hinterhalt.de/veranstaltung/cafe-voyage/
LOCATION:Kulturbühne Hinterhalt\, Leitenstraße 40\, Geretsried\, 82538\, Deutschland
CATEGORIES:Konzert
ATTACH;FMTTYPE=image/jpeg:https://hinterhalt.de/wp-content/uploads/2025/10/CafeVoyageJanuar20.jpg
END:VEVENT
BEGIN:VEVENT
DTSTART;TZID=Europe/Berlin:20260425T200000
DTEND;TZID=Europe/Berlin:20260425T220000
DTSTAMP:20260424T072550
CREATED:20251024T195650Z
LAST-MODIFIED:20260129T142530Z
UID:10002320-1777147200-1777154400@hinterhalt.de
SUMMARY:Kaafi
DESCRIPTION:Kaafi ist eine Münchner Band\, die mit ihrem Debüt die indische Musik ins Zentrum stellt. Die Gruppe vereint eine indische Sängerin und einen indischen Schlagzeuger mit einem deutschen Bassisten und einem polnischen Pianisten und verbindet die Energie von Hindi- und Bollywood-Songs mit Einflüssen aus Pop\, Jazz und Blues.Jedes Mitglied bringt seine eigenen musikalischen Wurzeln ein: Shrutis ausdrucksstarker Gesang und Adityas Rhythmusgefühl tragen den Geist indischer Musik\, während Jaceks Pianospiel harmonische Tiefe und Farbe hinzufügt. Am Bass steht Uli Lehmann\, der seine jahrzehntelange Erfahrung aus der europäischen Bluesszene und aus Genres wie Ska\, Calypso\, Afro-Cuban\, Latin und brasilianischer Musik einbringt. Sein Markenzeichen ist ein erdiger\, stabiler Groove\, der den Sound der Band trägt.So entsteht bei Kaafi ein lebendiger Mix aus Tradition und Moderne – eine musikalische Reise voller Freude\, Energie und kultureller Vielfalt. \n\n\n\nVom Orient zum Okzident.
URL:https://hinterhalt.de/veranstaltung/kaafi/
LOCATION:Kulturbühne Hinterhalt\, Leitenstraße 40\, Geretsried\, 82538\, Deutschland
CATEGORIES:Konzert
ATTACH;FMTTYPE=image/jpeg:https://hinterhalt.de/wp-content/uploads/2025/10/Shruti-Uli.jpg
END:VEVENT
BEGIN:VEVENT
DTSTART;TZID=Europe/Berlin:20260426T180000
DTEND;TZID=Europe/Berlin:20260426T233000
DTSTAMP:20260424T072550
CREATED:20260306T112308Z
LAST-MODIFIED:20260423T125319Z
UID:10002430-1777226400-1777246200@hinterhalt.de
SUMMARY:Geschlossene Gesellschaft Hinterhalt I
DESCRIPTION:Martina & Gregor \n\n\n\n \n\n\n\nDer Hinterhalt ist käuflich\, also zu mieten für alle Arten von Veranstaltungen wie Band-Probe\, Geburtstagsfeier\, Hochzeit\, Scheidung\, Verabschiedung\, Theater u.v.a. mehr. Anfragen bitte an info@hinterhalt.de
URL:https://hinterhalt.de/veranstaltung/geschlossene-gesellschaft-hinterhalt-i-und-ii/
LOCATION:Kulturbühne Hinterhalt\, Leitenstraße 40\, Geretsried\, 82538\, Deutschland
CATEGORIES:Geschlossene Gesellschaft
ATTACH;FMTTYPE=image/png:https://hinterhalt.de/wp-content/uploads/2026/03/Hinterhalt-Party-Feier-2.png
END:VEVENT
BEGIN:VEVENT
DTSTART;TZID=Europe/Berlin:20260427T200000
DTEND;TZID=Europe/Berlin:20260428T180000
DTSTAMP:20260424T072550
CREATED:20260326T095823Z
LAST-MODIFIED:20260326T095953Z
UID:10002472-1777320000-1777399200@hinterhalt.de
SUMMARY:Dreharbeiten
DESCRIPTION:Einlaß 19 Uhr \n\n\n\n \n\n\n\nInfo folgt
URL:https://hinterhalt.de/veranstaltung/dreharbeiten/
LOCATION:Kulturbühne Hinterhalt\, Leitenstraße 40\, Geretsried\, 82538\, Deutschland
CATEGORIES:Konzert
ATTACH;FMTTYPE=image/jpeg:https://hinterhalt.de/wp-content/uploads/2026/03/Dreharbeiten.jpg
END:VEVENT
BEGIN:VEVENT
DTSTART;TZID=Europe/Berlin:20260428T200000
DTEND;TZID=Europe/Berlin:20260428T230000
DTSTAMP:20260424T072550
CREATED:20250720T181859Z
LAST-MODIFIED:20260422T102126Z
UID:10002257-1777406400-1777417200@hinterhalt.de
SUMMARY:VERSCHOBEN! Zum 50. Todestag von Eugen Roth
DESCRIPTION:Einlaß 19 Uhr
URL:https://hinterhalt.de/veranstaltung/zum-50-todestag-von-eugen-roth/
LOCATION:Kulturbühne Hinterhalt\, Leitenstraße 40\, Geretsried\, 82538\, Deutschland
CATEGORIES:Konzert
ATTACH;FMTTYPE=image/jpeg:https://hinterhalt.de/wp-content/uploads/2025/07/falcozen-ai-generated-9201417.jpg
END:VEVENT
BEGIN:VEVENT
DTSTART;TZID=Europe/Berlin:20260430T203000
DTEND;TZID=Europe/Berlin:20260430T235900
DTSTAMP:20260424T072550
CREATED:20251125T172744Z
LAST-MODIFIED:20260423T124930Z
UID:10002351-1777581000-1777593540@hinterhalt.de
SUMMARY:Geschlossene Gesellschaft HiHa I
DESCRIPTION:Marina
URL:https://hinterhalt.de/veranstaltung/geschlossene-gesellschaft-hiha-ii-54/
LOCATION:Kulturbühne Hinterhalt\, Leitenstraße 40\, Geretsried\, 82538\, Deutschland
CATEGORIES:Geschlossene Gesellschaft
ATTACH;FMTTYPE=image/png:https://hinterhalt.de/wp-content/uploads/2025/11/Hinterhalt-Party-Feier-2.png
END:VEVENT
END:VCALENDAR