BEGIN:VCALENDAR
VERSION:2.0
PRODID:-//Kulturbühne Hinterhalt - ECPv6.15.20//NONSGML v1.0//EN
CALSCALE:GREGORIAN
METHOD:PUBLISH
X-WR-CALNAME:Kulturbühne Hinterhalt
X-ORIGINAL-URL:https://hinterhalt.de
X-WR-CALDESC:Veranstaltungen für Kulturbühne Hinterhalt
REFRESH-INTERVAL;VALUE=DURATION:PT1H
X-Robots-Tag:noindex
X-PUBLISHED-TTL:PT1H
BEGIN:VTIMEZONE
TZID:Europe/Berlin
BEGIN:DAYLIGHT
TZOFFSETFROM:+0100
TZOFFSETTO:+0200
TZNAME:CEST
DTSTART:20200329T010000
END:DAYLIGHT
BEGIN:STANDARD
TZOFFSETFROM:+0200
TZOFFSETTO:+0100
TZNAME:CET
DTSTART:20201025T010000
END:STANDARD
BEGIN:DAYLIGHT
TZOFFSETFROM:+0100
TZOFFSETTO:+0200
TZNAME:CEST
DTSTART:20210328T010000
END:DAYLIGHT
BEGIN:STANDARD
TZOFFSETFROM:+0200
TZOFFSETTO:+0100
TZNAME:CET
DTSTART:20211031T010000
END:STANDARD
BEGIN:DAYLIGHT
TZOFFSETFROM:+0100
TZOFFSETTO:+0200
TZNAME:CEST
DTSTART:20220327T010000
END:DAYLIGHT
BEGIN:STANDARD
TZOFFSETFROM:+0200
TZOFFSETTO:+0100
TZNAME:CET
DTSTART:20221030T010000
END:STANDARD
END:VTIMEZONE
BEGIN:VEVENT
DTSTART;TZID=Europe/Berlin:20211007T200000
DTEND;TZID=Europe/Berlin:20211007T213000
DTSTAMP:20260425T041423
CREATED:20221220T141819Z
LAST-MODIFIED:20221220T141819Z
UID:10001205-1633636800-1633642200@hinterhalt.de
SUMMARY:Tom Reimbrecht mit Band
DESCRIPTION:Herausragende Musiker der deutschen Jazzszene bilden um den Top-Saxophonisten Tom Reinbrecht ein Quintett der Turboklasse. Funky
URL:https://hinterhalt.de/veranstaltung/tom-reimbrecht-mit-band-2/
LOCATION:Hinterhalt I\, Leitenstraße 40\, Geretsried\, 82538
CATEGORIES:Konzert
END:VEVENT
BEGIN:VEVENT
DTSTART;TZID=Europe/Berlin:20211009T200000
DTEND;TZID=Europe/Berlin:20211009T213000
DTSTAMP:20260425T041423
CREATED:20221220T141820Z
LAST-MODIFIED:20221220T141820Z
UID:10001206-1633809600-1633815000@hinterhalt.de
SUMMARY:UNTER WILDEN
DESCRIPTION:UNTER WILDEN zu leben ist nicht immer leicht. Vor allem
URL:https://hinterhalt.de/veranstaltung/unter-wilden/
LOCATION:Hinterhalt I\, Leitenstraße 40\, Geretsried\, 82538
CATEGORIES:Konzert
END:VEVENT
BEGIN:VEVENT
DTSTART;TZID=Europe/Berlin:20211010T200000
DTEND;TZID=Europe/Berlin:20211010T213000
DTSTAMP:20260425T041423
CREATED:20221220T141821Z
LAST-MODIFIED:20221220T141821Z
UID:10001207-1633896000-1633901400@hinterhalt.de
SUMMARY:Live im Hinterhalt
DESCRIPTION:FALSE
URL:https://hinterhalt.de/veranstaltung/live-im-hinterhalt/
LOCATION:Hinterhalt I\, Leitenstraße 40\, Geretsried\, 82538
CATEGORIES:Konzert
END:VEVENT
BEGIN:VEVENT
DTSTART;TZID=Europe/Berlin:20211015T200000
DTEND;TZID=Europe/Berlin:20211015T213000
DTSTAMP:20260425T041423
CREATED:20221220T141822Z
LAST-MODIFIED:20221220T141822Z
UID:10001208-1634328000-1634333400@hinterhalt.de
SUMMARY:Stefanie Lottermoser – Hamburg
DESCRIPTION:Im Jazz und der improvisierten Musik sind rurale und urbane Destinationen seit Dekaden inspirierende narrative Impulsgeber. Ob für Standards wie Harlem Nocturne
URL:https://hinterhalt.de/veranstaltung/stefanie-lottermoser-hamburg/
LOCATION:Hinterhalt I\, Leitenstraße 40\, Geretsried\, 82538
CATEGORIES:Konzert
END:VEVENT
BEGIN:VEVENT
DTSTART;TZID=Europe/Berlin:20211029T200000
DTEND;TZID=Europe/Berlin:20211029T213000
DTSTAMP:20260425T041423
CREATED:20221220T141823Z
LAST-MODIFIED:20221220T141823Z
UID:10001209-1635537600-1635543000@hinterhalt.de
SUMMARY:Tanquoray
DESCRIPTION:Sweet Soul Music – da kommt einem Otis Redding
URL:https://hinterhalt.de/veranstaltung/tanquoray/
LOCATION:Hinterhalt I\, Leitenstraße 40\, Geretsried\, 82538
CATEGORIES:Konzert
END:VEVENT
BEGIN:VEVENT
DTSTART;TZID=Europe/Berlin:20211030T200000
DTEND;TZID=Europe/Berlin:20211030T213000
DTSTAMP:20260425T041423
CREATED:20221220T141827Z
LAST-MODIFIED:20221220T141827Z
UID:10001210-1635624000-1635629400@hinterhalt.de
SUMMARY:Philippe Loli
DESCRIPTION:Auf eine musikalische Reise nach Südamerika zu Bossa
URL:https://hinterhalt.de/veranstaltung/philippe-loli/
LOCATION:Hinterhalt I\, Leitenstraße 40\, Geretsried\, 82538
CATEGORIES:Konzert
END:VEVENT
END:VCALENDAR