BEGIN:VCALENDAR
VERSION:2.0
PRODID:-//Kulturbühne Hinterhalt - ECPv6.15.20//NONSGML v1.0//EN
CALSCALE:GREGORIAN
METHOD:PUBLISH
X-ORIGINAL-URL:https://hinterhalt.de
X-WR-CALDESC:Veranstaltungen für Kulturbühne Hinterhalt
REFRESH-INTERVAL;VALUE=DURATION:PT1H
X-Robots-Tag:noindex
X-PUBLISHED-TTL:PT1H
BEGIN:VTIMEZONE
TZID:Europe/Berlin
BEGIN:DAYLIGHT
TZOFFSETFROM:+0100
TZOFFSETTO:+0200
TZNAME:CEST
DTSTART:20200329T010000
END:DAYLIGHT
BEGIN:STANDARD
TZOFFSETFROM:+0200
TZOFFSETTO:+0100
TZNAME:CET
DTSTART:20201025T010000
END:STANDARD
BEGIN:DAYLIGHT
TZOFFSETFROM:+0100
TZOFFSETTO:+0200
TZNAME:CEST
DTSTART:20210328T010000
END:DAYLIGHT
BEGIN:STANDARD
TZOFFSETFROM:+0200
TZOFFSETTO:+0100
TZNAME:CET
DTSTART:20211031T010000
END:STANDARD
BEGIN:DAYLIGHT
TZOFFSETFROM:+0100
TZOFFSETTO:+0200
TZNAME:CEST
DTSTART:20220327T010000
END:DAYLIGHT
BEGIN:STANDARD
TZOFFSETFROM:+0200
TZOFFSETTO:+0100
TZNAME:CET
DTSTART:20221030T010000
END:STANDARD
END:VTIMEZONE
BEGIN:VEVENT
DTSTART;TZID=Europe/Berlin:20211205T110000
DTEND;TZID=Europe/Berlin:20211205T130000
DTSTAMP:20260425T005937
CREATED:20221220T145339Z
LAST-MODIFIED:20221220T145339Z
UID:10001217-1638702000-1638709200@hinterhalt.de
SUMMARY:Geretsrieder Kulturtage PiPaPo
DESCRIPTION:Wowo Habdank liest aus: Fritz Wagner: Bergheim – Im Schatten des Obersalzbergs
URL:https://hinterhalt.de/veranstaltung/geretsrieder-kulturtage-pipapo-9/
LOCATION:Hinterhalt I\, Leitenstraße 40\, Geretsried\, 82538
CATEGORIES:Konzert
END:VEVENT
BEGIN:VEVENT
DTSTART;TZID=Europe/Berlin:20211209T200000
DTEND;TZID=Europe/Berlin:20211209T213000
DTSTAMP:20260425T005937
CREATED:20221220T145340Z
LAST-MODIFIED:20221220T145340Z
UID:10001218-1639080000-1639085400@hinterhalt.de
SUMMARY:Weihnachtliches Konzert
DESCRIPTION:Ein um den Waldramer Jazzgeiger geformtes Hammond Orgeltrio wird durch die in München wohnhafte US amerikanische Sängerin Norisha Campbell ergänzt. Auf dem Programm stehen Gospelsongs u. Eigenkompositionen
URL:https://hinterhalt.de/veranstaltung/weihnachtliches-konzert/
LOCATION:Hinterhalt I\, Leitenstraße 40\, Geretsried\, 82538
CATEGORIES:Konzert
END:VEVENT
BEGIN:VEVENT
DTSTART;TZID=Europe/Berlin:20211218T200000
DTEND;TZID=Europe/Berlin:20211218T213000
DTSTAMP:20260425T005937
CREATED:20221220T145341Z
LAST-MODIFIED:20221220T145341Z
UID:10001219-1639857600-1639863000@hinterhalt.de
SUMMARY:Andalusische Weihnacht
DESCRIPTION:FELÍZ NAVIDAD! Andalusische Weihnacht und Flamenco
URL:https://hinterhalt.de/veranstaltung/andalusische-weihnacht/
LOCATION:Hinterhalt I\, Leitenstraße 40\, Geretsried\, 82538
CATEGORIES:Konzert
END:VEVENT
BEGIN:VEVENT
DTSTART;TZID=Europe/Berlin:20211219T200000
DTEND;TZID=Europe/Berlin:20211219T213000
DTSTAMP:20260425T005937
CREATED:20221220T145341Z
LAST-MODIFIED:20221220T145341Z
UID:10001220-1639944000-1639949400@hinterhalt.de
SUMMARY:Würflmusi
DESCRIPTION:Mit Pauken und Trompeten neigt sich das Jahr dem Ende zu
URL:https://hinterhalt.de/veranstaltung/wuerflmusi/
LOCATION:Hinterhalt I\, Leitenstraße 40\, Geretsried\, 82538
CATEGORIES:Konzert
END:VEVENT
END:VCALENDAR