BEGIN:VCALENDAR
VERSION:2.0
PRODID:-//Kulturbühne Hinterhalt - ECPv6.15.20//NONSGML v1.0//EN
CALSCALE:GREGORIAN
METHOD:PUBLISH
X-WR-CALNAME:Kulturbühne Hinterhalt
X-ORIGINAL-URL:https://hinterhalt.de
X-WR-CALDESC:Veranstaltungen für Kulturbühne Hinterhalt
REFRESH-INTERVAL;VALUE=DURATION:PT1H
X-Robots-Tag:noindex
X-PUBLISHED-TTL:PT1H
BEGIN:VTIMEZONE
TZID:Europe/Berlin
BEGIN:DAYLIGHT
TZOFFSETFROM:+0100
TZOFFSETTO:+0200
TZNAME:CEST
DTSTART:20210328T010000
END:DAYLIGHT
BEGIN:STANDARD
TZOFFSETFROM:+0200
TZOFFSETTO:+0100
TZNAME:CET
DTSTART:20211031T010000
END:STANDARD
BEGIN:DAYLIGHT
TZOFFSETFROM:+0100
TZOFFSETTO:+0200
TZNAME:CEST
DTSTART:20220327T010000
END:DAYLIGHT
BEGIN:STANDARD
TZOFFSETFROM:+0200
TZOFFSETTO:+0100
TZNAME:CET
DTSTART:20221030T010000
END:STANDARD
BEGIN:DAYLIGHT
TZOFFSETFROM:+0100
TZOFFSETTO:+0200
TZNAME:CEST
DTSTART:20230326T010000
END:DAYLIGHT
BEGIN:STANDARD
TZOFFSETFROM:+0200
TZOFFSETTO:+0100
TZNAME:CET
DTSTART:20231029T010000
END:STANDARD
END:VTIMEZONE
BEGIN:VEVENT
DTSTART;TZID=Europe/Berlin:20220304T200000
DTEND;TZID=Europe/Berlin:20220304T213000
DTSTAMP:20260424T220314
CREATED:20221220T150952Z
LAST-MODIFIED:20221220T150952Z
UID:10001226-1646424000-1646429400@hinterhalt.de
SUMMARY:Delta Line
DESCRIPTION:Country Feeling – Cowboyromantik – Urlaubsstimmung – Musik für jede Gelegenheit!
URL:https://hinterhalt.de/veranstaltung/delta-line/
LOCATION:Hinterhalt I\, Leitenstraße 40\, Geretsried\, 82538
CATEGORIES:Konzert
END:VEVENT
BEGIN:VEVENT
DTSTART;TZID=Europe/Berlin:20220311T200000
DTEND;TZID=Europe/Berlin:20220311T213000
DTSTAMP:20260424T220314
CREATED:20221220T150953Z
LAST-MODIFIED:20221220T150953Z
UID:10001227-1647028800-1647034200@hinterhalt.de
SUMMARY:L´ensemble Wegele-Sagner
DESCRIPTION:Heute geht im Hinterhalt in Gelting die Präsentation der CD „Storie“  (GLM Music) der beiden Geretsrieder Urgesteine Peter Wegele und Florian Sagner im Live Stream On Air.
URL:https://hinterhalt.de/veranstaltung/lensemble-wegele-sagner/
LOCATION:Hinterhalt I\, Leitenstraße 40\, Geretsried\, 82538
CATEGORIES:Konzert
END:VEVENT
END:VCALENDAR