BEGIN:VCALENDAR
VERSION:2.0
PRODID:-//Kulturbühne Hinterhalt - ECPv6.15.20//NONSGML v1.0//EN
CALSCALE:GREGORIAN
METHOD:PUBLISH
X-ORIGINAL-URL:https://hinterhalt.de
X-WR-CALDESC:Veranstaltungen für Kulturbühne Hinterhalt
REFRESH-INTERVAL;VALUE=DURATION:PT1H
X-Robots-Tag:noindex
X-PUBLISHED-TTL:PT1H
BEGIN:VTIMEZONE
TZID:Europe/Berlin
BEGIN:DAYLIGHT
TZOFFSETFROM:+0100
TZOFFSETTO:+0200
TZNAME:CEST
DTSTART:20200329T010000
END:DAYLIGHT
BEGIN:STANDARD
TZOFFSETFROM:+0200
TZOFFSETTO:+0100
TZNAME:CET
DTSTART:20201025T010000
END:STANDARD
BEGIN:DAYLIGHT
TZOFFSETFROM:+0100
TZOFFSETTO:+0200
TZNAME:CEST
DTSTART:20210328T010000
END:DAYLIGHT
BEGIN:STANDARD
TZOFFSETFROM:+0200
TZOFFSETTO:+0100
TZNAME:CET
DTSTART:20211031T010000
END:STANDARD
BEGIN:DAYLIGHT
TZOFFSETFROM:+0100
TZOFFSETTO:+0200
TZNAME:CEST
DTSTART:20220327T010000
END:DAYLIGHT
BEGIN:STANDARD
TZOFFSETFROM:+0200
TZOFFSETTO:+0100
TZNAME:CET
DTSTART:20221030T010000
END:STANDARD
BEGIN:DAYLIGHT
TZOFFSETFROM:+0100
TZOFFSETTO:+0200
TZNAME:CEST
DTSTART:20230326T010000
END:DAYLIGHT
BEGIN:STANDARD
TZOFFSETFROM:+0200
TZOFFSETTO:+0100
TZNAME:CET
DTSTART:20231029T010000
END:STANDARD
BEGIN:DAYLIGHT
TZOFFSETFROM:+0100
TZOFFSETTO:+0200
TZNAME:CEST
DTSTART:20240331T010000
END:DAYLIGHT
BEGIN:STANDARD
TZOFFSETFROM:+0200
TZOFFSETTO:+0100
TZNAME:CET
DTSTART:20241027T010000
END:STANDARD
BEGIN:DAYLIGHT
TZOFFSETFROM:+0100
TZOFFSETTO:+0200
TZNAME:CEST
DTSTART:20250330T010000
END:DAYLIGHT
BEGIN:STANDARD
TZOFFSETFROM:+0200
TZOFFSETTO:+0100
TZNAME:CET
DTSTART:20251026T010000
END:STANDARD
BEGIN:DAYLIGHT
TZOFFSETFROM:+0100
TZOFFSETTO:+0200
TZNAME:CEST
DTSTART:20260329T010000
END:DAYLIGHT
BEGIN:STANDARD
TZOFFSETFROM:+0200
TZOFFSETTO:+0100
TZNAME:CET
DTSTART:20261025T010000
END:STANDARD
END:VTIMEZONE
BEGIN:VEVENT
DTSTART;TZID=Europe/Berlin:20250831T180000
DTEND;TZID=Europe/Berlin:20250831T203000
DTSTAMP:20260424T234313
CREATED:20250730T094444Z
LAST-MODIFIED:20250829T091340Z
UID:10002264-1756663200-1756672200@hinterhalt.de
SUMMARY:„Doggendämmerung“ – Lesung mit Musik – Dr. Georg Unterholzner und Georg „Schorschi“ Unterholzner
DESCRIPTION:„Doggendämmerung – ein Tierarztkrimi“ – Dorfplatz vor dem Dorfladen Gelting (bei schlechtem Wetter im Hinterhalt). Von und mit Dr. Georg Unterholzner\, Volker Ufertinger und Musik – Also\, was macht der Veterinär des Landkreises\, wenn er vollkommen im Ruhestand ist? Ruhe geben eher noch weniger als früher schon nicht. Der Unterholzner hat aktuell seinen zweiten Tierarztkrimi geschrieben\, zusammen mit dem Journalisten Volker Ufertinger (der mit ihm auch den ersten solchen umsetzte). Kurz: Für den jungen Tierarzt Karl Hornsteiner scheint alles wieder in gewohnten Bahnen zu laufen: Die Gangster\, die ihn und seinen Onkel Joe durch halb Oberbayern gejagt haben\, sind hinter Gittern\, seine tierischen Patienten kratzen und beißen ihn bei jeder Gelegenheit und Karls Liebesleben … liegt brach wie eh und je. Doch dann tritt Astrid in Karls Leben: Besitzerin eines Paars umwerfend grüner Augen und einer Dogge\, die per Not-OP gerettet werden muss. Dumm nur\, dass die junge Frau Mitglied einer örtlichen Studenten-Zelle ist\, die der Terrororganisation RAF nacheifert. Als Astrids Bruder spurlos verschwindet und ihre Familie erpresst wird\, ist Karl – Ermittler wider Willen – mittendrin in seinem zweiten Fall. Doch geht es wirklich um Astrids gefährliche  Vorliebe für studentische Revolte? Oder steckt etwas ganz anderes hinter der Erpressung … \n\n\n\nEintritt gegen Spende
URL:https://hinterhalt.de/veranstaltung/doggendaemmerung-lesung-mit-musik-dr-georg-unterholzner-und-georg-schorschi-unterholzner/
LOCATION:Dorfladen Gelting e.G.\, Wolfratshauser Strasse 2\, Geretsried\, 82538\, Deutschland
CATEGORIES:Konzert
ATTACH;FMTTYPE=image/jpeg:https://hinterhalt.de/wp-content/uploads/2025/08/Doggendaemmerung.jpg
END:VEVENT
BEGIN:VEVENT
DTSTART;TZID=Europe/Berlin:20240726T200000
DTEND;TZID=Europe/Berlin:20240726T223000
DTSTAMP:20260424T234313
CREATED:20240302T170830Z
LAST-MODIFIED:20240725T123054Z
UID:10001590-1722024000-1722033000@hinterhalt.de
SUMMARY:Verschoben auf 18.10.24 "Draußen-Konzerte“ -Kiesbankband
DESCRIPTION:StilSkuvie. Was ist denn das? Skurril vermischt. Das Leben hält so viele Stimmungen parat\, da brauchst verschiedene Stile – funkig-jazziger Hosenträgerpunkrock mit bajuwarischem Liedermachereinschlag. Skuvie eben. Wir sind die derzeit angesagteste Skuvieband 🙂 \n\n\n\nKiesbankbandprofilAuf einer Kiesbank ist alles im Fluss. Die Flut gestaltet. Die Bank. Mal Fels\, mal Sand\, mal Kies. Mal Holz. Durcheinander. Ordnung durch Chaos. Vielfalt. Das Leben auf\, zwischen und unter dem Geröll inspiriert. Die Kiesbankband. Und prägt den Sound. Skuvie – Skurril-Vermischtes. Mit und ohne Strom. Fette Beats. Griffige Gitarre. Saxotrompete. Mucke für Himmel\, Arsch & Hirn. Texte kantig und klar. Alles echt. Schnörkellos. Natur pur.Öko? Logisch! \n\n\n\nSelbstauskunftGestatten\, wir sind die Kiesbanker. Wir haben Feuer im Gesäß\, Furchen im Gesicht\, Flausen im Kopf und das Herz mittendrin statt nur dabei. Bei unseren Gigs heften wir uns dem Leben an die Fersen und verschieben zusammen mit unserem Publikum den Weltuntergang auf später. Das Wesentliche bringen wir mit unserer Mucke rüber\, hört bitte rein (Soundcloud\, YouTube). So hören wir uns auch live an\, Ehrenwort. \n\n\n\nSelbstauskunft für AltbaiernWea\, wia\, wos san de Kiesbanker? Mia ham Feier im Arsch\, Furchen im Gsicht\, Flausen im Kopf und as Herz mittendrin statt nur dabei. Bei unsre Gigs heftn mia uns dem Leben an de Fersn und vaschiam mit unsam Publikum den Woiduntagang auf schbäda. Des Wesentliche bringan mia mit unsra Mucke rüber. Heads bitte nei (Soundcloud\, YouTube). So hean mia uns a live o\, vasprocha. \n\n\n\nUnser Motto für die zwanziger JahreHimmel\, Arsch & Hirn – Wasser\, Stein & Licht \n\n\n\nwww.kiesbankband.de \n\n\n\n\n\n\n\nBesetzung• Mazze\, Matthias Opielka (Lead-Gitarre)• Thales\, Christian Thalhammer (Sax\, Bass\, Gitarre)• Stern\, Thomas Rieger (Trompete\, Keyboard)• Simon Stöhr (Schlagzeug\, Percussion)• Gue\, Günter Polacek (Gesang\, Gitarre)• Gregor Wolf (Tontechnik\, Sound\, Licht)
URL:https://hinterhalt.de/veranstaltung/draussen-konzerte-kiesbankband/
LOCATION:Dorfladen Gelting e.G.\, Wolfratshauser Strasse 2\, Geretsried\, 82538\, Deutschland
CATEGORIES:Konzert
ATTACH;FMTTYPE=image/png:https://hinterhalt.de/wp-content/uploads/2022/11/Kiesbankband-Logo.png
END:VEVENT
BEGIN:VEVENT
DTSTART;TZID=Europe/Berlin:20240516T200000
DTEND;TZID=Europe/Berlin:20240516T220000
DTSTAMP:20260424T234313
CREATED:20240115T103127Z
LAST-MODIFIED:20240505T121908Z
UID:10001522-1715889600-1715896800@hinterhalt.de
SUMMARY:Verschoben auf 2025! Helga Brenninger Trio mit Saskia Koch & Bertram Liebmann
DESCRIPTION:Open-Air Konzert am Dorfplatz Gelting\n\n\n\n(bei schlechtem Wetter im Hinterhalt !) \n\n\n\nBoarisch mutiert“ geht es ins 11-Jährige der sympathischen Liedermacherin aus Dorfen. Helga Brenningers Stücke brennen auf ihrer bairischen Seele\, darum trägt sie diese direkt in die Herzen des Publikums und damit hinaus in die Welt.Mit Leichtigkeit und Unbekümmertheit laden die „heazlichen“ Texte ein\, auch mal etwas tiefer zu blicken oder um es mit Brenningerschen Worten auszudrücken: „Foinlossn und Neidaucha ins bairische Lebensgfui“. Ihre Lieder sollen Hoffnung geben\, fröhlich machen und Sanftmut wecken. Helga Brenninger möchte die scheinbar kleinen und einfachen\, aber doch so wichtigen und schönen Dinge des Lebens bewusst machen – dafür stehen die berührenden und pointierten Texte\, die längst Markenzeichen derMusikerin geworden sind – facettenreich\, überregional gespielt\, mit Preisen ausgezeichnet\, auch andere haben das längst bemerkt. Bei der humorigen Reihe „Boarisch mutiert“ geht es der Liedermacherin um dieLebensfreude\, aber auch zentral um Begriffe aus z.B. dem italienischen\, französischen oder englischen\, die eingebairischt sind\, oder auch im täglichen Sprachgebrauch.Auf jeden Fall macht die Reihe Spaß und lässt einen schmunzeln.In dem Programm mit Bertram Liebmann und Saskia Koch geht es eben um die neue Reihe „Boarisch mutiert“\, aber nicht nur – es ist eine Art „Gesamtwerkschau“ mit Ausflügen in „Mitten im Lebn“\, „Frei“\, „Heazbrenna“ und anderen neuen Lieder. Quasiwie ein virtuoses Puzzle aus Jazzpiano\, Liedermacherfragmenten und gekonnt gefühlvoll die Tiefe der Lieder unterstreichender Geige. Ganz besonders vielfältige Stunden erwarten das Publikum. \n\n\n\nÜber Saskia KochHelga Brenninger sagt über sie\, dass Saskia „die Geige spielt\, wie keine Andere.“„… hört zu und spielt mit dem Herzen mit.“ Saskia sieht sich selbst auch nicht als Solokünstlerin. Wohl fühlt sie sich dann\, wenn sie auf der Bühne andere Musiker mit ihrer Geige einfach nur begleiten darf.Wenn auf der Bühne eine harmonische Stimmung herrscht.Wenn sie einen Song hört\, die Augen schließen und die Melodien in ihrem Kopf auf ihrer Geige real werden lassen darf. Dann entführt sie das Publikum mit ihren schönen Melodielinien in die traumhafte Welt der Musik. Einfach die Augen schließen und genießen. \n\n\n\nÜber Bertram LiebmannBertram Liebmann ist Multinstrumentalist.Der studierte Jazzmusiker spielt Klavier\, E- Bass\, Kontrabass\, Gitarre\, Schlagzeug und manchmal singt er auch. Seit 2013 an der Seite von Helga Brenninger. Ohne Bertram wäre wohl einiges anders gelaufen um Brenningerschen Musikuniversum – das Allroundgenie ist auch Helgas Studiozauberer. \n\n\n\nÜber Helga BrenningerGeboren in Mühldorf am Inn\, aufgewachsen in Niederheldenstein.2013 mit Leib und Seele zu komponieren angefangen und dabei „so vui Erfüllung gfundn“\, dass 2015 die erste CD mit dem Titel „Mitten im Lebn“ entstand.Helga Brenninger lebt und arbeitet in Dorfen. \n\n\n\nDiscografie: 2015 „Mitten im Lebn“ | 2017 „FREI“ | 2020 „Heazbrenna“ (bei Donnerwetter-Musik) Februar 2022 „Bassd scho! Bassd scho!“ – aus der Reihe „Boarisch mutiert“Juli 2022 „Bavarie Francais“ – aus der Reihe „Boarisch mutiert“Oktober 2022 „Da mutierte Opa“ – aus der Reihe „Boarisch mutiert“April 2023 Single Veröffentlichung Helga Brenninger feat. Desperate Brasswives: „Ois wurscht“ Oktober 2023 Single Veröffentlichung „S`Madl“ \n\n\n\nÜber Saskia\, Helga & BertramDie beiden Vollblutmusikerinnen Saskia & Helga lernten sich 2018 auf einer Benefizveranstaltung kennen (und lieben) – ein spontaner\, grandioser gemeinsamer Bühnengang legte den Grundstein für die nicht nurmusikalische Freundschaft. Bertram beleitet Helga seit 20xx. Allen dreien gemeinsam merkt man an\, das ist nicht nur „Job“. Das ist auch eine musikalische Familie. Sehr zum Vergnügen der Publikums. \n\n\n\nDigitale Kanäle Saskia Kochhttps://www.facebook.com/violinsmusicpagehttps://musik5000.jimdofree.com/saskia \n\n\n\nDigitale Kanäle Bertram Liebmannhttps://www.instagram.com/bertram_liebmann \n\n\n\nDigitale Kanäle Helga Brenningerhttps://www.youtube.com/channel/UCu2pJsPmb_hYYy8n-I2C3zAhttps://open.spotify.com/artist/11pqq4gM67TtCJeD7aoZ8Lhttps://www.instagram.com/helgabrenningerhttps://www.facebook.com/helgabrenningermusikhttps://h-brenninger.de \n\n\n\n\n\n\n\nWir freuen uns über Interviewanfragen und Interesse unterPR Helga Brenninger: Andrea Hailer – presse@soulkino.de – 08061.93 79 39
URL:https://hinterhalt.de/veranstaltung/helga-brenninger-trio-mit-saskia-koch-bertram-liebmann/
LOCATION:Dorfladen Gelting e.G.\, Wolfratshauser Strasse 2\, Geretsried\, 82538\, Deutschland
CATEGORIES:Konzert
ATTACH;FMTTYPE=image/jpeg:https://hinterhalt.de/wp-content/uploads/2024/01/Goetz_Brenninger_Liebmann_2023_1©MarkusMuehlbauer_mrmFoto_web.jpg
END:VEVENT
BEGIN:VEVENT
DTSTART;TZID=Europe/Berlin:20220708T180000
DTEND;TZID=Europe/Berlin:20220708T203000
DTSTAMP:20260424T234313
CREATED:20220615T143607Z
LAST-MODIFIED:20220615T143610Z
UID:10000886-1657303200-1657312200@hinterhalt.de
SUMMARY:Tremundo
DESCRIPTION:Info folgt
URL:https://hinterhalt.de/veranstaltung/tremundo/
LOCATION:Dorfladen Gelting e.G.\, Wolfratshauser Strasse 2\, Geretsried\, 82538\, Deutschland
ATTACH;FMTTYPE=image/gif:https://hinterhalt.de/wp-content/uploads/2021/01/logoanim.gif
END:VEVENT
BEGIN:VEVENT
DTSTART;TZID=Europe/Berlin:20211128T130000
DTEND;TZID=Europe/Berlin:20211128T150000
DTSTAMP:20260424T234313
CREATED:20210616T194158Z
LAST-MODIFIED:20211117T221258Z
UID:10000785-1638104400-1638111600@hinterhalt.de
SUMMARY:Geretsrieder Kulturtage PiPaPo - Der Sirenenchor des Kulturvereins Isar Loisach lädt ein – wir singen – alle!
DESCRIPTION:​Es war 2016\, in Geretsried schickte sich die AfD an\, Wahlpropaganda zu betreiben. Eine Kundgebung war angesagt. Mitten in der Stadt auf dem Neuen Platz.  \n\n\n\nBeim Protest dagegen war der erste öffentliche Auftritt unseres Laienchors\, der einen Sirenengesang zum Besten gab. Ob der immer wieder geeignet ist\, die hörenden Menschen in Verzückung zu versetzen oder nicht eher dann ertönt\, wenns zum Heulen ist…. Je nun. Wir singen alle miteinander\, um die Feuerschale herum\, im Freien!  \n\n\n\n\n\n\n\nUnd das ist gerade jetzt gut so!  \n\n\n\nAuf dem Platz vor dem Dorfladen Gelting!
URL:https://hinterhalt.de/veranstaltung/geretsrieder-kulturtage-pipapo-7/
LOCATION:Dorfladen Gelting e.G.\, Wolfratshauser Strasse 2\, Geretsried\, 82538\, Deutschland
ATTACH;FMTTYPE=image/jpeg:https://hinterhalt.de/wp-content/uploads/2021/11/PiPaPo_Sirenenchor.jpg
END:VEVENT
BEGIN:VEVENT
DTSTART;TZID=Europe/Berlin:20210924T190000
DTEND;TZID=Europe/Berlin:20210924T210000
DTSTAMP:20260424T234313
CREATED:20210828T174749Z
LAST-MODIFIED:20210918T200006Z
UID:10000794-1632510000-1632517200@hinterhalt.de
SUMMARY:Joscha Arnold Small Ensemble - Feierabendkonzert - Live vor dem Dorfladen in Gelting
DESCRIPTION:Es gibt das Large Ensemble (Big Band) mit sechzehn Musikern und der Vinyl – Veröffentlichung „By the Rivers of Cashflow“ (erschienen bei Hout Records).  \n\n\n\nJetzt gibt es aber auch schon länger eine Situation\, die für so ein großes internationales Ensemble eine gewisse Planungsunsicherheit mit sich bringt.  \n\n\n\nDeswegen hier: Fünf Multiinstrumentalisten mit Jazz- Hintergrund spielen als „Small Ensemble“ eigene Stücke und Lieblingslieder u.a. von den Beatles\, sowie Theatermusik.  \n\n\n\nEtwas gefälliger als „Jazz“-Jazz\, aber nicht blöd. \n\n\n\n\n\n\n\nBenni Schäfer – Bass/TubaStefan Schreiber – Bassklarinette/Klarinette/TenorsaxophonLou Lecaudey – PosauneTom Guzsvàny – Schlagzeug/MetallophonJoscha Arnold – Baritonsaxophon/Altsaxophon\n\n\n\n\n\n\n\n(falls es die Witterung nicht zulässt\, versuchen wir einen alternativen Platz zu finden\, was wir umgehend bekannt geben)
URL:https://hinterhalt.de/veranstaltung/feierabendkonzert-live-vor-dem-dorfladen-in-gelting/
LOCATION:Dorfladen Gelting e.G.\, Wolfratshauser Strasse 2\, Geretsried\, 82538\, Deutschland
ATTACH;FMTTYPE=image/jpeg:https://hinterhalt.de/wp-content/uploads/2021/09/JA-logo-scaled.jpg
END:VEVENT
BEGIN:VEVENT
DTSTART;TZID=Europe/Berlin:20210613T140000
DTEND;TZID=Europe/Berlin:20210613T150000
DTSTAMP:20260424T234313
CREATED:20210403T134135Z
LAST-MODIFIED:20210604T143949Z
UID:10000772-1623592800-1623596400@hinterhalt.de
SUMMARY:Bonny Tones - Open Air Konzert vor dem Dorfladen Gelting
DESCRIPTION:Rock’n Roll-Konzert mit den one and only Bonny Tones. Maxi Nachtmann (Git)\, Timo Freyenberg (Keys) mit Special Guests Peter Kraus (Drums) und Gründungsmitglied & früherer Bassist Max Söllner.
URL:https://hinterhalt.de/veranstaltung/open-air-konzert-vor-dem-dorfladen-gelting/
LOCATION:Dorfladen Gelting e.G.\, Wolfratshauser Strasse 2\, Geretsried\, 82538\, Deutschland
ATTACH;FMTTYPE=image/jpeg:https://hinterhalt.de/wp-content/uploads/2020/04/Bonny-Tones2020-04-29-e1622817507353.jpg
END:VEVENT
END:VCALENDAR