BEGIN:VCALENDAR
VERSION:2.0
PRODID:-//Kulturbühne Hinterhalt - ECPv6.15.20//NONSGML v1.0//EN
CALSCALE:GREGORIAN
METHOD:PUBLISH
X-ORIGINAL-URL:https://hinterhalt.de
X-WR-CALDESC:Veranstaltungen für Kulturbühne Hinterhalt
REFRESH-INTERVAL;VALUE=DURATION:PT1H
X-Robots-Tag:noindex
X-PUBLISHED-TTL:PT1H
BEGIN:VTIMEZONE
TZID:Europe/Berlin
BEGIN:DAYLIGHT
TZOFFSETFROM:+0100
TZOFFSETTO:+0200
TZNAME:CEST
DTSTART:20210328T010000
END:DAYLIGHT
BEGIN:STANDARD
TZOFFSETFROM:+0200
TZOFFSETTO:+0100
TZNAME:CET
DTSTART:20211031T010000
END:STANDARD
BEGIN:DAYLIGHT
TZOFFSETFROM:+0100
TZOFFSETTO:+0200
TZNAME:CEST
DTSTART:20220327T010000
END:DAYLIGHT
BEGIN:STANDARD
TZOFFSETFROM:+0200
TZOFFSETTO:+0100
TZNAME:CET
DTSTART:20221030T010000
END:STANDARD
BEGIN:DAYLIGHT
TZOFFSETFROM:+0100
TZOFFSETTO:+0200
TZNAME:CEST
DTSTART:20230326T010000
END:DAYLIGHT
BEGIN:STANDARD
TZOFFSETFROM:+0200
TZOFFSETTO:+0100
TZNAME:CET
DTSTART:20231029T010000
END:STANDARD
BEGIN:DAYLIGHT
TZOFFSETFROM:+0100
TZOFFSETTO:+0200
TZNAME:CEST
DTSTART:20240331T010000
END:DAYLIGHT
BEGIN:STANDARD
TZOFFSETFROM:+0200
TZOFFSETTO:+0100
TZNAME:CET
DTSTART:20241027T010000
END:STANDARD
BEGIN:DAYLIGHT
TZOFFSETFROM:+0100
TZOFFSETTO:+0200
TZNAME:CEST
DTSTART:20250330T010000
END:DAYLIGHT
BEGIN:STANDARD
TZOFFSETFROM:+0200
TZOFFSETTO:+0100
TZNAME:CET
DTSTART:20251026T010000
END:STANDARD
END:VTIMEZONE
BEGIN:VEVENT
DTSTART;TZID=Europe/Berlin:20240310T180000
DTEND;TZID=Europe/Berlin:20240310T193000
DTSTAMP:20260424T235018
CREATED:20240122T091628Z
LAST-MODIFIED:20240211T102750Z
UID:10001548-1710093600-1710099000@hinterhalt.de
SUMMARY:LORIOT – Finissage
DESCRIPTION:Musikalischer Ausklang und letzter Ausstellungstag \n\n\n\nVeranstalter Stadt Geretsried und Kulturverein Isar Loisach \n\n\n\nEintritt frei \n\n\n\nReservierung unter kultur@geretsried.de
URL:https://hinterhalt.de/veranstaltung/loriot-finissage/
LOCATION:Galerie an der Elbestraße\, Elbestraße 27A\, Geretsried\, 82538\, Deutschland
CATEGORIES:Konzert
END:VEVENT
BEGIN:VEVENT
DTSTART;TZID=Europe/Berlin:20220406T190000
DTEND;TZID=Europe/Berlin:20220406T220000
DTSTAMP:20260424T235018
CREATED:20220403T120946Z
LAST-MODIFIED:20220403T120948Z
UID:10000847-1649271600-1649282400@hinterhalt.de
SUMMARY:Zum Gedenken an Herbert Achternbusch
DESCRIPTION:KEIN LIVE-Stream-Film-Abend\, sondern ganz analog mit Publikum vor Ort. \n\n\n\nVeranstaltungsort: Galerie an der Elbestraße\, Geretsried!  \n\n\n\nZum Gedenken an Herbert Achternbusch.  \n\n\n\n„In Bayern möchte ich nicht einmal gestorben sein“\, das ist eines seiner unvergessenen Zitate. Jetzt ist einer der bekanntesten Kreuz- und Querdenker des deutschen Südens\, der Maler\, Bildhauer\, Autor und Filmemacher Herbert Achternbusch\, zu Jahresanfang doch in Bayern gestorben.  \n\n\n\nJa wo denn sonst?  \n\n\n\nEr\, dessen umstrittenes „Universalgenie“ ja außerhalb Bayerns wohl kaum hätte verstanden werden können\, wo wollte er besser leben und eben auch sterben als in Bayern?! Im Prinzip kann man sagen „dös basst scho ois“!  \n\n\n\nFrüher Dokumentarfilm über Herbert Achternbusch und Gespräch dazu mit dem BR-Filmemacher Andi Niessner\, der diesen Dokumentarfilm gedreht hat. Er kommt eigens vom Samerberg in die Galerie an der Elbestraße in Geretsried.  \n\n\n\nDas wird ein wunderbarer Abend auf Einladung von Albrecht Widmann (Galerie an der Elbestraße)\, mit Unterstützung des Kulturvereins Isar Loisach.  \n\n\n\nEintritt frei gegen Spende und ab 18h00\, damit die aktuelle Ausstellung der Schwestern Wolff (Keramik und Zeichnungen/Gemälde) angeschaut werden kann.
URL:https://hinterhalt.de/veranstaltung/zum-gedenken-an-herbert-achternbusch/
LOCATION:Galerie an der Elbestraße\, Elbestraße 27A\, Geretsried\, 82538\, Deutschland
END:VEVENT
END:VCALENDAR