BEGIN:VCALENDAR
VERSION:2.0
PRODID:-//Kulturbühne Hinterhalt - ECPv6.15.20//NONSGML v1.0//EN
CALSCALE:GREGORIAN
METHOD:PUBLISH
X-WR-CALNAME:Kulturbühne Hinterhalt
X-ORIGINAL-URL:https://hinterhalt.de
X-WR-CALDESC:Veranstaltungen für Kulturbühne Hinterhalt
REFRESH-INTERVAL;VALUE=DURATION:PT1H
X-Robots-Tag:noindex
X-PUBLISHED-TTL:PT1H
BEGIN:VTIMEZONE
TZID:Europe/Berlin
BEGIN:DAYLIGHT
TZOFFSETFROM:+0100
TZOFFSETTO:+0200
TZNAME:CEST
DTSTART:20220327T010000
END:DAYLIGHT
BEGIN:STANDARD
TZOFFSETFROM:+0200
TZOFFSETTO:+0100
TZNAME:CET
DTSTART:20221030T010000
END:STANDARD
BEGIN:DAYLIGHT
TZOFFSETFROM:+0100
TZOFFSETTO:+0200
TZNAME:CEST
DTSTART:20230326T010000
END:DAYLIGHT
BEGIN:STANDARD
TZOFFSETFROM:+0200
TZOFFSETTO:+0100
TZNAME:CET
DTSTART:20231029T010000
END:STANDARD
BEGIN:DAYLIGHT
TZOFFSETFROM:+0100
TZOFFSETTO:+0200
TZNAME:CEST
DTSTART:20240331T010000
END:DAYLIGHT
BEGIN:STANDARD
TZOFFSETFROM:+0200
TZOFFSETTO:+0100
TZNAME:CET
DTSTART:20241027T010000
END:STANDARD
BEGIN:DAYLIGHT
TZOFFSETFROM:+0100
TZOFFSETTO:+0200
TZNAME:CEST
DTSTART:20250330T010000
END:DAYLIGHT
BEGIN:STANDARD
TZOFFSETFROM:+0200
TZOFFSETTO:+0100
TZNAME:CET
DTSTART:20251026T010000
END:STANDARD
BEGIN:DAYLIGHT
TZOFFSETFROM:+0100
TZOFFSETTO:+0200
TZNAME:CEST
DTSTART:20260329T010000
END:DAYLIGHT
BEGIN:STANDARD
TZOFFSETFROM:+0200
TZOFFSETTO:+0100
TZNAME:CET
DTSTART:20261025T010000
END:STANDARD
BEGIN:DAYLIGHT
TZOFFSETFROM:+0100
TZOFFSETTO:+0200
TZNAME:CEST
DTSTART:20270328T010000
END:DAYLIGHT
BEGIN:STANDARD
TZOFFSETFROM:+0200
TZOFFSETTO:+0100
TZNAME:CET
DTSTART:20271031T010000
END:STANDARD
END:VTIMEZONE
BEGIN:VEVENT
DTSTART;TZID=Europe/Berlin:20260214T203000
DTEND;TZID=Europe/Berlin:20260214T235900
DTSTAMP:20260424T154200
CREATED:20250416T055508Z
LAST-MODIFIED:20251211T122928Z
UID:10002200-1771101000-1771113540@hinterhalt.de
SUMMARY:Geschlossene Gesellschaft HiHa I und II
DESCRIPTION:Christoph
URL:https://hinterhalt.de/veranstaltung/geschlossene-gesellschaft-hiha-i-ii-7/
LOCATION:Hinterhalt I und II\, Leitenstrasse 40\, Geretsried-Gelting\, 82538
CATEGORIES:Geschlossene Gesellschaft
END:VEVENT
BEGIN:VEVENT
DTSTART;TZID=Europe/Berlin:20260110T200000
DTEND;TZID=Europe/Berlin:20260110T223000
DTSTAMP:20260424T154200
CREATED:20250303T073340Z
LAST-MODIFIED:20251126T122523Z
UID:10002159-1768075200-1768084200@hinterhalt.de
SUMMARY:Fiveheads
DESCRIPTION:„FiveHeads“ fassen zeitlose Klassiker und moderne Pop/Rock Songs neu auf und geben ihnen frischen Wind.  \n\n\n\nDie Gewinner des Preises für die beste musikalische Darstellung beim Songcontest „Your Voice Your Choice“ 2023 versprechen gute Unterhaltung\, Mitsingmöglichkeiten und Hits zum Tanzen.
URL:https://hinterhalt.de/veranstaltung/4-bands-black-metal-konzert/
LOCATION:Hinterhalt I und II\, Leitenstrasse 40\, Geretsried-Gelting\, 82538
CATEGORIES:Konzert
ATTACH;FMTTYPE=image/jpeg:https://hinterhalt.de/wp-content/uploads/2025/03/th_20251711_072_A5.jpg
END:VEVENT
BEGIN:VEVENT
DTSTART;TZID=Europe/Berlin:20251212T000000
DTEND;TZID=Europe/Berlin:20251212T235959
DTSTAMP:20260424T154200
CREATED:20250318T184720Z
LAST-MODIFIED:20250318T184817Z
UID:10002181-1765497600-1765583999@hinterhalt.de
SUMMARY:Geschlossene Gesellschaft HiHa I & II
DESCRIPTION:DMG
URL:https://hinterhalt.de/veranstaltung/geschlossene-gesellschaft-hiha-i-ii-5/
LOCATION:Hinterhalt I und II\, Leitenstrasse 40\, Geretsried-Gelting\, 82538
CATEGORIES:Geschlossene Gesellschaft
END:VEVENT
BEGIN:VEVENT
DTSTART;TZID=Europe/Berlin:20251128T183000
DTEND;TZID=Europe/Berlin:20251128T230000
DTSTAMP:20260424T154200
CREATED:20250326T120105Z
LAST-MODIFIED:20251029T114347Z
UID:10002183-1764354600-1764370800@hinterhalt.de
SUMMARY:Pinsel\, Pauke\, Poesie – 10. Waldwood - Festival
DESCRIPTION:the waldram musicmachine proudly presents today on stage \n\n\n\n\n\nIn diesem Jahr findet das Waldwood-Festival zum zehnten Mal statt. Vor genau 11 Jahren\, im Jahr 2014\, beschlossen die damalige Schulband und das Biologisch-chemische Praktikum aus einer Laune heraus\, ein Fest für unsere Schulfamilie zu organisieren.Der Plan: Selbst gemachte Musik und selbst gemachtes Bier in einem kleinen Rahmen\, aber oho!Seitdem entwickelt sich das Waldwood-Festival immer weiter und zieht immer größere Kreise.Vielen Dank allen treuen Fans und Unterstützern\, die uns auch trotz mancher schiefen Töne die Stange halten! \n\n\n\nProgrammheft:\n\n\n\nProgrammheft Waldwood 2025Herunterladen
URL:https://hinterhalt.de/veranstaltung/10-waldwood-festival/
LOCATION:Hinterhalt I und II\, Leitenstrasse 40\, Geretsried-Gelting\, 82538
CATEGORIES:Konzert
ATTACH;FMTTYPE=image/jpeg:https://hinterhalt.de/wp-content/uploads/2025/03/Waldwood-2025-Plakat.jpg
END:VEVENT
BEGIN:VEVENT
DTSTART;TZID=Europe/Berlin:20251018T150000
DTEND;TZID=Europe/Berlin:20251018T235900
DTSTAMP:20260424T154200
CREATED:20250513T071940Z
LAST-MODIFIED:20250711T043504Z
UID:10002209-1760799600-1760831940@hinterhalt.de
SUMMARY:Geschlossene Gesellschaft HiHa I & II
DESCRIPTION:Simon & Vroni
URL:https://hinterhalt.de/veranstaltung/geschlossene-gesellschaft-hiha-i-21/
LOCATION:Hinterhalt I und II\, Leitenstrasse 40\, Geretsried-Gelting\, 82538
CATEGORIES:Geschlossene Gesellschaft
ATTACH;FMTTYPE=image/jpeg:https://hinterhalt.de/wp-content/uploads/2022/05/disco-2722995_640.jpg
END:VEVENT
BEGIN:VEVENT
DTSTART;TZID=Europe/Berlin:20250823T170000
DTEND;TZID=Europe/Berlin:20250823T233000
DTSTAMP:20260424T154200
CREATED:20240505T120740Z
LAST-MODIFIED:20240505T120743Z
UID:10002002-1755968400-1755991800@hinterhalt.de
SUMMARY:Geschlossene Gesellschaft HiHa I & II
DESCRIPTION:Martin
URL:https://hinterhalt.de/veranstaltung/geschlossene-gesellschaft-hiha-i-ii/
LOCATION:Hinterhalt I und II\, Leitenstrasse 40\, Geretsried-Gelting\, 82538
CATEGORIES:Geschlossene Gesellschaft
END:VEVENT
BEGIN:VEVENT
DTSTART;TZID=Europe/Berlin:20250705T170000
DTEND;TZID=Europe/Berlin:20250705T233000
DTSTAMP:20260424T154200
CREATED:20250225T163404Z
LAST-MODIFIED:20250311T170325Z
UID:10002153-1751734800-1751758200@hinterhalt.de
SUMMARY:Geschlossene Gesellschaft HiHa I und II
DESCRIPTION:Roland
URL:https://hinterhalt.de/veranstaltung/geschlossene-gesellschaft-hiha-i-17/
LOCATION:Hinterhalt I und II\, Leitenstrasse 40\, Geretsried-Gelting\, 82538
CATEGORIES:Geschlossene Gesellschaft
END:VEVENT
BEGIN:VEVENT
DTSTART;TZID=Europe/Berlin:20250509T200000
DTEND;TZID=Europe/Berlin:20250509T220000
DTSTAMP:20260424T154200
CREATED:20241021T155132Z
LAST-MODIFIED:20250327T084750Z
UID:10002087-1746820800-1746828000@hinterhalt.de
SUMMARY:Metal-Konzert
DESCRIPTION:Björn
URL:https://hinterhalt.de/veranstaltung/metal-konzert/
LOCATION:Hinterhalt I und II\, Leitenstrasse 40\, Geretsried-Gelting\, 82538
CATEGORIES:Konzert
ATTACH;FMTTYPE=image/jpeg:https://hinterhalt.de/wp-content/uploads/2024/10/skirt-2823831_1280.jpg
END:VEVENT
BEGIN:VEVENT
DTSTART;TZID=Europe/Berlin:20250503T000000
DTEND;TZID=Europe/Berlin:20250503T235959
DTSTAMP:20260424T154200
CREATED:20240419T131442Z
LAST-MODIFIED:20240505T121236Z
UID:10001991-1746230400-1746316799@hinterhalt.de
SUMMARY:Geschlossene Gesellschaft HiHa I & II
DESCRIPTION:Volker
URL:https://hinterhalt.de/veranstaltung/geschlossene-gesellschaft-128/
LOCATION:Hinterhalt I und II\, Leitenstrasse 40\, Geretsried-Gelting\, 82538
CATEGORIES:Geschlossene Gesellschaft
END:VEVENT
BEGIN:VEVENT
DTSTART;TZID=Europe/Berlin:20250321T200000
DTEND;TZID=Europe/Berlin:20250321T230000
DTSTAMP:20260424T154200
CREATED:20241115T083954Z
LAST-MODIFIED:20250318T083804Z
UID:10002095-1742587200-1742598000@hinterhalt.de
SUMMARY:Das ultimative Metal Concert! "Shadows Devouring Light Europe Tour"
DESCRIPTION:Es kommen the one and only POWER FROM HELL aus Brasilien mit LUCIFERICON aus den Niederlanden. Local support ist EWIGEIS aus München.  \n\n\n\nDa geht was los im Hinterhalt\, dass das ganze Oberland wackelt. Endlich mal wieder richtige Lautstärke 😊 \n\n\n\nAchtung! Geänderte Eintrittspreise!Nachdem ja nicht nur eine Band spielt\, sondern dreie\, kostet der Abend im VVK 20\,00 €\, an der AK 25\,00 €! \n\n\n\nEinlass 19 Uhr
URL:https://hinterhalt.de/veranstaltung/metal-konzert-shadows-devouring-light-europe-tour/
LOCATION:Hinterhalt I und II\, Leitenstrasse 40\, Geretsried-Gelting\, 82538
CATEGORIES:Konzert
ATTACH;FMTTYPE=image/jpeg:https://hinterhalt.de/wp-content/uploads/2024/11/nachzehrer.jpg
END:VEVENT
BEGIN:VEVENT
DTSTART;TZID=Europe/Berlin:20250301T140000
DTEND;TZID=Europe/Berlin:20250301T235959
DTSTAMP:20260424T154200
CREATED:20250217T081931Z
LAST-MODIFIED:20250217T081934Z
UID:10002141-1740837600-1740873599@hinterhalt.de
SUMMARY:Geschlossene Gesellschaft HiHa I & II
DESCRIPTION:
URL:https://hinterhalt.de/veranstaltung/geschlossene-gesellschaft-hiha-i-ii-2/
LOCATION:Hinterhalt I und II\, Leitenstrasse 40\, Geretsried-Gelting\, 82538
CATEGORIES:Geschlossene Gesellschaft
END:VEVENT
BEGIN:VEVENT
DTSTART;TZID=Europe/Berlin:20250214T170000
DTEND;TZID=Europe/Berlin:20250214T233000
DTSTAMP:20260424T154200
CREATED:20241127T112912Z
LAST-MODIFIED:20241127T112915Z
UID:10002102-1739552400-1739575800@hinterhalt.de
SUMMARY:Geschlossene Gesellschaft HiHa I und II
DESCRIPTION:Marius
URL:https://hinterhalt.de/veranstaltung/geschlossene-gesellschaft-hiha-i-und-ii/
LOCATION:Hinterhalt I und II\, Leitenstrasse 40\, Geretsried-Gelting\, 82538
CATEGORIES:Geschlossene Gesellschaft
END:VEVENT
BEGIN:VEVENT
DTSTART;TZID=Europe/Berlin:20250125T170000
DTEND;TZID=Europe/Berlin:20250125T233000
DTSTAMP:20260424T154200
CREATED:20241127T114130Z
LAST-MODIFIED:20241127T114133Z
UID:10002105-1737824400-1737847800@hinterhalt.de
SUMMARY:Geschlossene Gesellschaft HiHa I und II
DESCRIPTION:Tommy
URL:https://hinterhalt.de/veranstaltung/geschlossene-gesellschaft-hiha-i-und-ii-3/
LOCATION:Hinterhalt I und II\, Leitenstrasse 40\, Geretsried-Gelting\, 82538
CATEGORIES:Geschlossene Gesellschaft
END:VEVENT
BEGIN:VEVENT
DTSTART;TZID=Europe/Berlin:20241221T180000
DTEND;TZID=Europe/Berlin:20241221T233000
DTSTAMP:20260424T154200
CREATED:20240125T104650Z
LAST-MODIFIED:20240125T104652Z
UID:10001555-1734804000-1734823800@hinterhalt.de
SUMMARY:Geschlossene Gesellschaft
DESCRIPTION:Layla
URL:https://hinterhalt.de/veranstaltung/geschlossene-gesellschaft-115/
LOCATION:Hinterhalt I und II\, Leitenstrasse 40\, Geretsried-Gelting\, 82538
CATEGORIES:Geschlossene Gesellschaft
END:VEVENT
BEGIN:VEVENT
DTSTART;TZID=Europe/Berlin:20241220T180000
DTEND;TZID=Europe/Berlin:20241220T233000
DTSTAMP:20260424T154200
CREATED:20240221T081701Z
LAST-MODIFIED:20240221T081704Z
UID:10001576-1734717600-1734737400@hinterhalt.de
SUMMARY:Geschlossene Gesellschaft
DESCRIPTION:Hammers
URL:https://hinterhalt.de/veranstaltung/geschlossene-gesellschaft-121/
LOCATION:Hinterhalt I und II\, Leitenstrasse 40\, Geretsried-Gelting\, 82538
CATEGORIES:Geschlossene Gesellschaft
END:VEVENT
BEGIN:VEVENT
DTSTART;TZID=Europe/Berlin:20240706T180000
DTEND;TZID=Europe/Berlin:20240706T233000
DTSTAMP:20260424T154200
CREATED:20231015T095704Z
LAST-MODIFIED:20240625T132220Z
UID:10001489-1720288800-1720308600@hinterhalt.de
SUMMARY:ABGESAGT! Mondblau
DESCRIPTION:Mondblau
URL:https://hinterhalt.de/veranstaltung/mondblau/
LOCATION:Hinterhalt I und II\, Leitenstrasse 40\, Geretsried-Gelting\, 82538
CATEGORIES:Konzert
END:VEVENT
BEGIN:VEVENT
DTSTART;TZID=Europe/Berlin:20240628T180000
DTEND;TZID=Europe/Berlin:20240628T233000
DTSTAMP:20260424T154200
CREATED:20240306T194908Z
LAST-MODIFIED:20240306T194910Z
UID:10001653-1719597600-1719617400@hinterhalt.de
SUMMARY:Geschlossene Gesellschaft
DESCRIPTION:Max
URL:https://hinterhalt.de/veranstaltung/geschlossene-gesellschaft-122/
LOCATION:Hinterhalt I und II\, Leitenstrasse 40\, Geretsried-Gelting\, 82538
CATEGORIES:Geschlossene Gesellschaft
END:VEVENT
BEGIN:VEVENT
DTSTART;TZID=Europe/Berlin:20240427T180000
DTEND;TZID=Europe/Berlin:20240427T235900
DTSTAMP:20260424T154200
CREATED:20240130T131718Z
LAST-MODIFIED:20240130T131722Z
UID:10001559-1714240800-1714262340@hinterhalt.de
SUMMARY:Geschlossene Gesellschaft
DESCRIPTION:Wolfram
URL:https://hinterhalt.de/veranstaltung/geschlossene-gesellschaft-117/
LOCATION:Hinterhalt I und II\, Leitenstrasse 40\, Geretsried-Gelting\, 82538
CATEGORIES:Geschlossene Gesellschaft
END:VEVENT
BEGIN:VEVENT
DTSTART;TZID=Europe/Berlin:20240127T000000
DTEND;TZID=Europe/Berlin:20240128T235959
DTSTAMP:20260424T154200
CREATED:20230717T115320Z
LAST-MODIFIED:20230717T115841Z
UID:10001431-1706313600-1706486399@hinterhalt.de
SUMMARY:Geschlossene Gesellschaft
DESCRIPTION:Wolf
URL:https://hinterhalt.de/veranstaltung/6277/
LOCATION:Hinterhalt I und II\, Leitenstrasse 40\, Geretsried-Gelting\, 82538
CATEGORIES:Geschlossene Gesellschaft
END:VEVENT
BEGIN:VEVENT
DTSTART;TZID=Europe/Berlin:20231110T180000
DTEND;TZID=Europe/Berlin:20231110T233000
DTSTAMP:20260424T154200
CREATED:20231015T095207Z
LAST-MODIFIED:20231015T095210Z
UID:10001487-1699639200-1699659000@hinterhalt.de
SUMMARY:Geschlossene Gesellschaft
DESCRIPTION:Oberstufe
URL:https://hinterhalt.de/veranstaltung/geschlossene-gesellschaft-93/
LOCATION:Hinterhalt I und II\, Leitenstrasse 40\, Geretsried-Gelting\, 82538
CATEGORIES:Geschlossene Gesellschaft
END:VEVENT
BEGIN:VEVENT
DTSTART;TZID=Europe/Berlin:20230929T180000
DTEND;TZID=Europe/Berlin:20230929T233000
DTSTAMP:20260424T154200
CREATED:20230816T162709Z
LAST-MODIFIED:20230816T162711Z
UID:10001471-1696010400-1696030200@hinterhalt.de
SUMMARY:Geschlossene Gesellschaft
DESCRIPTION:Vincent
URL:https://hinterhalt.de/veranstaltung/geschlossene-gesellschaft-90/
LOCATION:Hinterhalt I und II\, Leitenstrasse 40\, Geretsried-Gelting\, 82538
CATEGORIES:Geschlossene Gesellschaft
END:VEVENT
BEGIN:VEVENT
DTSTART;TZID=Europe/Berlin:20230909T190000
DTEND;TZID=Europe/Berlin:20230909T230000
DTSTAMP:20260424T154200
CREATED:20230104T134208Z
LAST-MODIFIED:20230308T163049Z
UID:10001340-1694286000-1694300400@hinterhalt.de
SUMMARY:Geschlossene Gesellschaft
DESCRIPTION:Markus
URL:https://hinterhalt.de/veranstaltung/geschlossene-gesellschaft-56/
LOCATION:Hinterhalt I und II\, Leitenstrasse 40\, Geretsried-Gelting\, 82538
CATEGORIES:Geschlossene Gesellschaft
END:VEVENT
BEGIN:VEVENT
DTSTART;TZID=Europe/Berlin:20230902T190000
DTEND;TZID=Europe/Berlin:20230902T233000
DTSTAMP:20260424T154200
CREATED:20230518T145540Z
LAST-MODIFIED:20230726T065339Z
UID:10001413-1693681200-1693697400@hinterhalt.de
SUMMARY:Geschlossene Gesellschaft
DESCRIPTION:Andreas
URL:https://hinterhalt.de/veranstaltung/geschlossene-gesellschaft-78/
LOCATION:Hinterhalt I und II\, Leitenstrasse 40\, Geretsried-Gelting\, 82538
CATEGORIES:Geschlossene Gesellschaft
END:VEVENT
BEGIN:VEVENT
DTSTART;TZID=Europe/Berlin:20230720T180000
DTEND;TZID=Europe/Berlin:20230720T230000
DTSTAMP:20260424T154200
CREATED:20230328T065921Z
LAST-MODIFIED:20230628T135010Z
UID:10001393-1689876000-1689894000@hinterhalt.de
SUMMARY:Geschlossene Veranstaltung
DESCRIPTION:Geburtstagsfeier mit Live-Band
URL:https://hinterhalt.de/veranstaltung/geschlossene-veranstaltung-5/
LOCATION:Hinterhalt I und II\, Leitenstrasse 40\, Geretsried-Gelting\, 82538
CATEGORIES:Geschlossene Gesellschaft
END:VEVENT
BEGIN:VEVENT
DTSTART;TZID=Europe/Berlin:20230707T000000
DTEND;TZID=Europe/Berlin:20230707T235959
DTSTAMP:20260424T154200
CREATED:20230628T142118Z
LAST-MODIFIED:20230628T142153Z
UID:10001429-1688688000-1688774399@hinterhalt.de
SUMMARY:Geschlossene Gesellschaft
DESCRIPTION:FOS12
URL:https://hinterhalt.de/veranstaltung/geschlossene-gesellschaft-82/
LOCATION:Hinterhalt I und II\, Leitenstrasse 40\, Geretsried-Gelting\, 82538
CATEGORIES:Geschlossene Gesellschaft
END:VEVENT
BEGIN:VEVENT
DTSTART;TZID=Europe/Berlin:20230513T180000
DTEND;TZID=Europe/Berlin:20230513T233000
DTSTAMP:20260424T154200
CREATED:20230413T155050Z
LAST-MODIFIED:20230413T155214Z
UID:10001398-1684000800-1684020600@hinterhalt.de
SUMMARY:Geschlossene Gesellschaft
DESCRIPTION:Dominik
URL:https://hinterhalt.de/veranstaltung/geschlossene-gesellschaft-71/
LOCATION:Hinterhalt I und II\, Leitenstrasse 40\, Geretsried-Gelting\, 82538
CATEGORIES:Geschlossene Gesellschaft
END:VEVENT
BEGIN:VEVENT
DTSTART;TZID=Europe/Berlin:20230428T000000
DTEND;TZID=Europe/Berlin:20230429T235959
DTSTAMP:20260424T154200
CREATED:20221019T122642Z
LAST-MODIFIED:20230411T175145Z
UID:10001056-1682640000-1682812799@hinterhalt.de
SUMMARY:Geschlossene Gesellschaft
DESCRIPTION:Peter S&P
URL:https://hinterhalt.de/veranstaltung/geschlossene-gesellschaft-40/
LOCATION:Hinterhalt I und II\, Leitenstrasse 40\, Geretsried-Gelting\, 82538
CATEGORIES:Geschlossene Gesellschaft
END:VEVENT
BEGIN:VEVENT
DTSTART;TZID=Europe/Berlin:20230318T193000
DTEND;TZID=Europe/Berlin:20230318T223000
DTSTAMP:20260424T154200
CREATED:20210331T183306Z
LAST-MODIFIED:20230314T082511Z
UID:10000770-1679167800-1679178600@hinterhalt.de
SUMMARY:Riverfront 4
DESCRIPTION:4 Metal-Bands aus der Region des Nord-Landkreises haben was! Lange Tradition im Hinterhalt allemal\, nur wegen Corona ausgefallen gewesen zwei Mal. Wie in früheren Zeiten liegt auch in diesem Jahr die Organisation dieses inzwischen auch schon traditionellen Abends in den bewährten Händen von Schlagzeuger Sebastian Grimm (Fire from Below). Es gibt wie immer etwas auf die Ohren an diesem Abend. Spielen werden Insane\, Set Fire\, Fire from Below und Still Awake!  \n\n\n\n\n\n\n\nGäste mit empfindlicheren Ohren bitte eigene Ohrstöpsel mitbringen.  \n\n\n\nWegen geänderter Anfangszeit ist Einlass ab 18h30!
URL:https://hinterhalt.de/veranstaltung/riverfront-4-2/
LOCATION:Hinterhalt I und II\, Leitenstrasse 40\, Geretsried-Gelting\, 82538
CATEGORIES:Konzert
ATTACH;FMTTYPE=image/jpeg:https://hinterhalt.de/wp-content/uploads/2021/03/Riverfront.jpeg
END:VEVENT
BEGIN:VEVENT
DTSTART;TZID=Europe/Berlin:20230211T200000
DTEND;TZID=Europe/Berlin:20230211T233000
DTSTAMP:20260424T154200
CREATED:20221208T200536Z
LAST-MODIFIED:20221208T200538Z
UID:10001198-1676145600-1676158200@hinterhalt.de
SUMMARY:Geschlossene Gesellschaft
DESCRIPTION:
URL:https://hinterhalt.de/veranstaltung/geschlossene-gesellschaft-49/
LOCATION:Hinterhalt I und II\, Leitenstrasse 40\, Geretsried-Gelting\, 82538
CATEGORIES:Geschlossene Gesellschaft
END:VEVENT
END:VCALENDAR