BEGIN:VCALENDAR
VERSION:2.0
PRODID:-//Kulturbühne Hinterhalt - ECPv6.15.20//NONSGML v1.0//EN
CALSCALE:GREGORIAN
METHOD:PUBLISH
X-WR-CALNAME:Kulturbühne Hinterhalt
X-ORIGINAL-URL:https://hinterhalt.de
X-WR-CALDESC:Veranstaltungen für Kulturbühne Hinterhalt
REFRESH-INTERVAL;VALUE=DURATION:PT1H
X-Robots-Tag:noindex
X-PUBLISHED-TTL:PT1H
BEGIN:VTIMEZONE
TZID:Europe/Berlin
BEGIN:DAYLIGHT
TZOFFSETFROM:+0100
TZOFFSETTO:+0200
TZNAME:CEST
DTSTART:20250330T010000
END:DAYLIGHT
BEGIN:STANDARD
TZOFFSETFROM:+0200
TZOFFSETTO:+0100
TZNAME:CET
DTSTART:20251026T010000
END:STANDARD
BEGIN:DAYLIGHT
TZOFFSETFROM:+0100
TZOFFSETTO:+0200
TZNAME:CEST
DTSTART:20260329T010000
END:DAYLIGHT
BEGIN:STANDARD
TZOFFSETFROM:+0200
TZOFFSETTO:+0100
TZNAME:CET
DTSTART:20261025T010000
END:STANDARD
BEGIN:DAYLIGHT
TZOFFSETFROM:+0100
TZOFFSETTO:+0200
TZNAME:CEST
DTSTART:20270328T010000
END:DAYLIGHT
BEGIN:STANDARD
TZOFFSETFROM:+0200
TZOFFSETTO:+0100
TZNAME:CET
DTSTART:20271031T010000
END:STANDARD
BEGIN:DAYLIGHT
TZOFFSETFROM:+0100
TZOFFSETTO:+0200
TZNAME:CEST
DTSTART:20280326T010000
END:DAYLIGHT
BEGIN:STANDARD
TZOFFSETFROM:+0200
TZOFFSETTO:+0100
TZNAME:CET
DTSTART:20281029T010000
END:STANDARD
END:VTIMEZONE
BEGIN:VEVENT
DTSTART;TZID=Europe/Berlin:20261018T190000
DTEND;TZID=Europe/Berlin:20261018T230000
DTSTAMP:20260424T153327
CREATED:20260320T171741Z
LAST-MODIFIED:20260321T065246Z
UID:10002471-1792350000-1792364400@hinterhalt.de
SUMMARY:Kasita Kanto
DESCRIPTION:„Zwischen den Welten“ – Tour 2026 \n\n\n\nKaŝita Kanto sind ein deutschsprachiges Singer-Songwriter-Duo\, das sich mit seiner einzigartigen Mischung aus sinnsuchtsvoller Liedermalerei und sphärischem Welten-Folk jenseits des Mainstreams bewegt. Zu ihrem 12-jährigen Bühnenjubiläum veröffentlichen sie in diesem Jahr ihr drittes Album „Zwischen den Welten“\, dessen Lieder sie auf ihrer gleichnamigen Tour erstmals dem Publikum vorstellen. \n\n\n\nGeprägt von ihren Wurzeln in Europa und ihrer zweiten Heimat Indien verarbeiten sie ihre persönlichen Erfahrungen in Liedern und kommen sich und der Welt so ein Stück näher. Ihre Musik ist dabei wie eine Reise in unsere Möglichkeiten\, aber auch in unsere blinden Flecken – die Sehnsucht nach dem Wesentlichen stets als Kompass. \n\n\n\nAuf ihren Konzerten vermischen sich empfindsame Gitarrenmelodien mit kraftvollem Gesang\, wie süßer Chai und würziges Masala – wunderbar warm und durchdrungen von einem Gefühl der Weite und Verbundenheit. All das serviert auf dem sphärischen Soundteppich der indischen Shruti-Box. \n\n\n\n\n\n\n\n\n\nEigene Gedichte\, Gedanken und Geschichten\, unter anderem aus ihren knapp zweieinhalb Jahren in Indien\, führen das Publikum aus dem Alltag bis tief zwischen die Welten hinein. \n\n\n\nKaŝita Kanto – das ist lebensbejahende Melancholie mit Tiefgang\, in ihrer leichtesten Form. \n\n\n\nEinlass ab 18 Uhr
URL:https://hinterhalt.de/veranstaltung/kasita-kanto/
LOCATION:Hinterhalt I\, Leitenstraße 40\, Geretsried\, 82538
CATEGORIES:Konzert
ATTACH;FMTTYPE=image/jpeg:https://hinterhalt.de/wp-content/uploads/2026/03/kasita-kanto.jpeg
END:VEVENT
BEGIN:VEVENT
DTSTART;TZID=Europe/Berlin:20261029T200000
DTEND;TZID=Europe/Berlin:20261029T230000
DTSTAMP:20260424T153327
CREATED:20260223T084845Z
LAST-MODIFIED:20260308T173741Z
UID:10002420-1793304000-1793314800@hinterhalt.de
SUMMARY:Jamenco
DESCRIPTION:Latin Jazz & Flamenco Nuevo\n\n\n\nArmin Ruppel – GitarreArmin Woods – PianoSepp Aschbacher – BassMichael Franzelin – Percussion \n\n\n\nEin frischer Mix aus Latin Jazz und Flamenco Nuevo. Treibender Groove und waghalsige Improvisationen bis die Funken sprühen. Leidenschaftlich und virtuos\, aber auch fein und elegant. Mit Musik von Paco de Lucia\, Al Di Meola und John McLaughlin knüpft Jamenco an das größte Highlight der akustischen Gitarre\, die „Friday Night in San Francisco“\, ebenso an wie an die coolen Latin-Hits von Tomatito\, Joao Bosco und Egberto Gismonti oder an Astor Piazzolla\, den Meister des Tango Nuevo. \n\n\n\nArmin Ruppel hat in den 80er und 90er Jahren mit Soul- und Pop-Acts wie George McCrae\, The Four Tops\, The Platters und Modern Talking gearbeitet. Danach hat er ein Dutzend CDs mit akustischer Gitarrenmusik veröffentlicht\, neben seinem Latin-Flamenco-Repertoire auch eine Serie zu den Großmeistern der Klassik\, Bach\, Mozart\, Vivaldi\, Chopin und Haydn. \n\n\n\nArmin Woods ist ein wahres Kraftpaket am Piano. Der bayerische Amerikaner hat nach klassischer Ausbildung als Endorser für führende Hersteller weltweit Konzerte gegeben\, für Stars wie Stevie Wonder oder Quincy Jones ebenso wie bei den bedeutendsten Events der Musikbranche\, z.B. auf der NAMM Show Anaheim/USA\, der British Music Show London oder in der Tokio Radio Hall. \n\n\n\nCD ¡Sundance!\n\n\n\n„Echt super. Sehr anspruchsvolles Material und zugleich eine entspannte Stimmung. Diese Musik ist nicht nur gut\, sie tut auch gut.“Claus Altvater\, President Songsurfer Corp.\, Executive Producer von Al Di Meola \n\n\n\n„Unglaublich präzise und auf den Punkt gespielt. Und eine sehr saubere Produktion.“Carlos Juan\, Technical Advisor von Vicente Amigo\, Al Di Meola\, Carlos Santana\, George Benson\, Eric Clapton u.v.a. \n\n\n\nWeitere Infos und Demos: www.jamenco.deKontakt: armin.ruppel@jamenco.de
URL:https://hinterhalt.de/veranstaltung/achim-woods/
LOCATION:Hinterhalt I\, Leitenstraße 40\, Geretsried\, 82538
CATEGORIES:Konzert
ATTACH;FMTTYPE=image/jpeg:https://hinterhalt.de/wp-content/uploads/2026/02/Jamenco-3-2.jpeg
END:VEVENT
BEGIN:VEVENT
DTSTART;TZID=Europe/Berlin:20261030T200000
DTEND;TZID=Europe/Berlin:20261030T230000
DTSTAMP:20260424T153327
CREATED:20260223T084912Z
LAST-MODIFIED:20260225T141057Z
UID:10002421-1793390400-1793401200@hinterhalt.de
SUMMARY:CreamCake
DESCRIPTION:Info folgt
URL:https://hinterhalt.de/veranstaltung/achim-woods-ausweichtermin/
LOCATION:Hinterhalt I\, Leitenstraße 40\, Geretsried\, 82538
CATEGORIES:Konzert
END:VEVENT
BEGIN:VEVENT
DTSTART;TZID=Europe/Berlin:20261106T200000
DTEND;TZID=Europe/Berlin:20261106T230000
DTSTAMP:20260424T153327
CREATED:20260218T143227Z
LAST-MODIFIED:20260307T180734Z
UID:10002418-1793995200-1794006000@hinterhalt.de
SUMMARY:ROUTE 66
DESCRIPTION:„ROUTE 66“ – die legendäre\, oft besungene Straße zwischen Chicago und Santa Monica ist bestens bekannt. Die Band wird ihrem Namen gerecht\, indem sie den Zuhörer auf eine nostalgische Reise durch die 50-ties\, 60-ties und 70-ties mitnimmt.Das Programm setzt sich aus bekannten Klassikern von Elvis\, den Beatles\, Stones\, Eric Clapton\, CCR und jeder Menge R’n’R zusammen.Die Band besteht aus erfahrenen Musikern\, die seit Jahrzehnten neben der 66 bei diversen anderen Bands tätig sind.Die Liebe zur Musik\, die direkt vom Herzen kommt\, die Nähe zum Original und die grenzenlose Spielfreude genießen bei den Musikern höchste Priorität.Wie schon Sgt. Pepper vor einiger Zeit treffend feststellte:“A SPLENDID TIME IS GUARANTEED FOR ALL” \n\n\n\nAuf Euer Kommen und eine gemeinsame musikalische Reise in die Vergangenheit freut sichDie „ROUTE 66“Mario an den Drums\, Stefan am Bass\, Otto & Jacek an den Gitarren
URL:https://hinterhalt.de/veranstaltung/route-66-3/
LOCATION:Hinterhalt I\, Leitenstraße 40\, Geretsried\, 82538
CATEGORIES:Konzert
ATTACH;FMTTYPE=image/jpeg:https://hinterhalt.de/wp-content/uploads/2025/09/J-98.jpg
END:VEVENT
BEGIN:VEVENT
DTSTART;TZID=Europe/Berlin:20261107T200000
DTEND;TZID=Europe/Berlin:20261107T230000
DTSTAMP:20260424T153327
CREATED:20260320T171151Z
LAST-MODIFIED:20260324T171706Z
UID:10002470-1794081600-1794092400@hinterhalt.de
SUMMARY:Pogo Gadgetto & IRON SNAG JOE
DESCRIPTION:Pogo Gadgetto \n\n\n\nEs waren einmal ein Gammelmeister und ein Murmeltier. Der Gammelmeister hatte ein Moped\, mit dem raste er um die Welt. Das Murmeltier wollte einen Toaster heiraten\, doch der Toaster hatte kein Interesse. Eines Tages hätte der Gammelmeister mit seinem Moped fast das Murmeltier überfahren. Und während sich auch das Moped in den Toaster verliebte\, gründeten Murmeltier und Gammelmeister eine Band: Pogo Gadgetto sollte sie heißen. Inspiriert von einem trotteligen Zeichentrickinspektor und dem schönsten Tanz der Welt sollten sie fortan als Duo dem Lärm in all seinen Facetten frönen. \n\n\n\nPogo Gadgetto haben Punk verstanden\, aber sie wissen beim besten Willen nicht\, was er von ihnen will. \n\n\n\nGründung: 2023Live aktiv seit: 2024Debütalbum: Das Ende hat ein Warten 2025 \n\n\n\nwww.pogo-gadgetto.de \n\n\n\n\n\n\n\nIRON SNAG JOE \n\n\n\n\n\n\n\nist deutschsprachiger Fun-Punk-Rotz’n’Roll seit 2004. Die vier Burschen machen Party-Punk seit über 20 Jahren mit lustigen Bühnenoutfits und einer extra Portion wiener Schmäh! Jeder noch so kleine Gig ein Kabarett. Prädikat: Wertlos!!!
URL:https://hinterhalt.de/veranstaltung/pogo-gadgetto/
LOCATION:Hinterhalt I\, Leitenstraße 40\, Geretsried\, 82538
CATEGORIES:Konzert
ATTACH;FMTTYPE=image/jpeg:https://hinterhalt.de/wp-content/uploads/2026/03/Pogo-Gadgetto2.jpeg
END:VEVENT
BEGIN:VEVENT
DTSTART;TZID=Europe/Berlin:20261108T200000
DTEND;TZID=Europe/Berlin:20261108T230000
DTSTAMP:20260424T153327
CREATED:20260320T110829Z
LAST-MODIFIED:20260320T110832Z
UID:10002469-1794168000-1794178800@hinterhalt.de
SUMMARY:Jazz-Konzert mit Christian Lettner and friends
DESCRIPTION:Info folgt
URL:https://hinterhalt.de/veranstaltung/jazz-konzert-mit-christian-lettner-and-friends/
LOCATION:Hinterhalt I\, Leitenstraße 40\, Geretsried\, 82538
CATEGORIES:Konzert
END:VEVENT
BEGIN:VEVENT
DTSTART;TZID=Europe/Berlin:20261115T190000
DTEND;TZID=Europe/Berlin:20261115T223000
DTSTAMP:20260424T153327
CREATED:20260310T155409Z
LAST-MODIFIED:20260310T162217Z
UID:10002432-1794769200-1794781800@hinterhalt.de
SUMMARY:VallesntaCorde
DESCRIPTION:Das Quartett VallesantaCorde feiert Folklore-Musik und nimmt dabei seinem Publikum den Atem. Die Band kombiniert das Feuer der Balkanmusik mit dem Stolz und der Sehnsucht des Tango\, die Spielfreude des Klezmer mit der Leichtigkeit des Swing. \n\n\n\nHalsbrecherische Verfolgungsjagden von Gitarre und Geige werden im letzten Moment gezügelt und verschmelzen wieder mit dem Fundament von Bass und Percussion. Die vor Lebensfreude übersprudelnden Melodien und energiegeladenen Rhythmen weichen melancholischen Klangbildern\, um überraschend auf ein neues auszubrechen.  Mitreißende Klänge\, die durch Mark und Tanzbein gehen! \n\n\n\nEin Könner und Virtuose ist jeder Einzelne von ihnen. VallesantaCorde bestechen durch musikalische Meisterschaft\, Einfühlsamkeit\, improvisatorischen Einfallsreichtum und ihre spürbare Lust am Musizieren. \n\n\n\nWenn sich verschiedene Kulturen miteinander vermischen\, kann interessantes Neues und auch Überraschendes entstehen. Diesem Experiment widmet sich das italienische Quartett VallesantaCorde mit seiner Musik schon seit vielen Jahren. \n\n\n\nVallesantaCorde sind:Andreas Petermann – ViolineFabio Roveri – GitarreRenate Titze – KontrabassAndi Bühler – Percussion \n\n\n\nhttps://vallesantacorde.de/ \n\n\n\nEinlaß 18 Uhr
URL:https://hinterhalt.de/veranstaltung/vallesntacorde/
LOCATION:Hinterhalt I\, Leitenstraße 40\, Geretsried\, 82538
CATEGORIES:Konzert
ATTACH;FMTTYPE=image/jpeg:https://hinterhalt.de/wp-content/uploads/2026/03/VallesantaCorde_Pressefoto.jpg
END:VEVENT
BEGIN:VEVENT
DTSTART;TZID=Europe/Berlin:20261121T200000
DTEND;TZID=Europe/Berlin:20261121T223000
DTSTAMP:20260424T153327
CREATED:20260118T155211Z
LAST-MODIFIED:20260118T155503Z
UID:10002387-1795291200-1795300200@hinterhalt.de
SUMMARY:Banda Brasil - MPB
DESCRIPTION:MPB – música popular brasileira \n\n\n\nBanda Brasil verbindet traditionelle\, brasilianische Musik mit der modernen Musik des Landes. Spannende\, emotionsgeladene Songs\, vorgetragen von erstklassigen Musikern der deutsch-brasilianischen Gemeinschaft. Samba\, Bossa Nova\, Salsa\, Funk vom Feinsten. \n\n\n\nChristiane Ruvenal (voc) – seit 2010 in München\, ist unüberhörbar das Herz dieser 2017 gegründeten Formation. Aufgewachsen in Bahia – Nordbrasilien – sang sie schon im jugendlichen Alter mit den bekanntesten Bands aus der Region. Sie studierte so ziemlich alle brasilianischen Stilarten und beherrscht Brasil-Standards natürlich aus dem Eff-Eff. An der Münchner Musikhochschule belegt sie z.Zt. Kurse im Jazzgesang. Unterstützt wird sie dabei von absolut erstklassigen Musikern der Münchner Jazz – Szene.  \n\n\n\nTOM Reinbrecht (sax) – spielte und arbeitete unter anderem mit: The New York Voices\, Nathalie Cole\, Paul Carrack\, Victoria Horne\, Dusko Goykovic\, Bobby Shew\, Stefan Gwildis\, Lou Bega\, Hape Kerkeling\, Harold Faltermeyer\, Max Raabe\, Ron Williams\, Johnny Logan – „ein wahrer Phrasierungsmagier und Virtuose der Feinrhythmik –  \n\n\n\n\n„Einer der virtuosesten Saxophonisten weit und breit\, vor allem ein fast schon europaweit kaum erreichter Meister des souligen Tons. \nOliver Hochkeppel\, Süddeutsche Zeitung\n\n\n\nTizian Jost (piano) – Jazz-Pianist\, stand in den 35 Jahren als Profi mit wunderbaren Köpfen und großen Meister*innen dieses Genres auf der Bühne.  \n\n\n\nUnzählige Festivals (u.a. Berlin\, New Delhi\, San Javier)\, über 60 CD-Produktionen (davon 13 Produktionen als Leader oder Co-Leader) und Gastspiele auf vier Kontinenten runden seine musikalische Vita ab. Seit 1995 Dozent für das Hauptfach Jazz-Klavier\, seit 2014 Professor an der Hochschule für Musik und Theater\, München ist er nicht nur ein Meister des Jazz-Klaviers\, sondern auch ein Könner der brasilianischen Musik und gefragter Partner für Cross-Over-Projekte\, mit z.B. dem bayerischen Staatsorchester\, der Kammeroper München u.v.m. \n\n\n\nPaul Tietze (bass) – nicht nur in der dt. sprachigen Szene ein begehrter Bassist\, besticht durch sein prägnantes\, Time-orientiertes Spiel und ist seit vielen Jahren ein fester Bestandteil von Banda Brasil. Ein Traum für jeden Schlagzeuger. \n\n\n\nElmar Schmidt (drums & bandleader) Ein deutscher Doyen des Brasil Sounds\, Impresario und gefragter Schlagzeuger.Bekannt ist er auch als Initiator & Bandleader – organisatorisch wie kompositorisch – schillernder Brasil Formationen. \n\n\n\nwww.banda-brasil.com \n\n\n\nwww.brasil-arts-orquestra.com \n\n\n\nwww.brazil-connection.com \n\n\n\nwww.aquarelas-do-brasil.com \n\n\n\nLängst gilt Elmar Schmidt hierzulande\, in Bezug auf brasilianische Musik-Acts\, als DIE Koryphäe\, wird aber darüber hinaus als international gefragter Studio- und Orchester-Drummer gehandelt.  \n\n\n\nNach Abschluss eines klassischen Musik-Studiums spielte er\, quasi aus dem Stand weg\, mit internationalen Musikgrößen\, wie Chris de Burgh\, Klaus Doldinger\, Jennifer Rush\, Temptations\, Eartha Kitt\, Gloria Gaynor u.v.m.\, tourte mit dem Duke Ellington Musical “Sophisticated Ladies” (feat. DeeDee Bridgewater)\, “RATPACK” – sowie dem “United Jazz & Rock Ensemble” u.v.m. \n\n\n\nErleben Sie speziell arrangierte Lieder der Música Popular Brasileira\, wie die von Alcione\, Joyce\, Lenine\, Rosana\, Elis Regina\, Simone und Rosa Passos und Sergio Mendez. \n\n\n\nDurch ihrer sympathischen Erscheinung\, ihrer positiven „Sonne-Strand-Palmen“-Ausstrahlung und ihrem angenehmen Timbre\, stellen die Künstler immer wieder ihre Liebe zur brasilianischen Musik unter Beweis. \n\n\n\nEinlaß 19 Uhr
URL:https://hinterhalt.de/veranstaltung/banda-brasil-mpb-geretsried-gelting/
LOCATION:Hinterhalt I\, Leitenstraße 40\, Geretsried\, 82538
CATEGORIES:Konzert
ATTACH;FMTTYPE=image/jpeg:https://hinterhalt.de/wp-content/uploads/2024/01/banda-brasil-2024.jpg
END:VEVENT
BEGIN:VEVENT
DTSTART;TZID=Europe/Berlin:20270206T200000
DTEND;TZID=Europe/Berlin:20270206T230000
DTSTAMP:20260424T153327
CREATED:20260105T155512Z
LAST-MODIFIED:20260118T155858Z
UID:10002375-1801944000-1801954800@hinterhalt.de
SUMMARY:Katrin & Werner Unterlercher -„Weitblick“
DESCRIPTION:Katrin und Werner Unterlercher stehen seit Jahren für „Saitenmusik der innovativen Art“ und lassen in der Grundbesetzung Volksharfe und Kontrabass klangliche Funken sprühen. Sie schaffen es auf Anhieb diese nach wenigen Takten auf ihr Publikum überspringen zu lassen. Für das aus Tirol stammende Ehepaar genügt ein Blick zueinander – und die Musik funktioniert. Man kann behaupten\, dass die beiden mit ihren Instrumenten „denken und fühlen“ und es übersteigt manch Fassungsvermögen\, was das Duo an Brillianz und Klangvolumen auf die Bühnenbretter bringt. In Erweiterung ihres Instrumentariums auf E-Bass\, Hackbrett\, Gitarre und gewitzten Gesangseinlagen lässt sich ihre Musik schwer in eine Schublade stecken\, bisher entwickelten sie ihren ganz eigenen Musikstil. Vom Tango bis zum Walzer über Jazz und moderner Gegenwartsmusik reichen ihre Eigenkompositionen. Kurzweilig und vielfältig. Die Harfe schwebt\, der Bass erdet.Es klingt modern und vertraut\, nachhaltig und innovativ. Diese Musik istZukunftsmusik. Voller Lebensfreude. \n\n\n\nwww.katrinunterlercher.at
URL:https://hinterhalt.de/veranstaltung/katrin-werner-unterlercher-2/
LOCATION:Hinterhalt I\, Leitenstraße 40\, Geretsried\, 82538
CATEGORIES:Konzert
ATTACH;FMTTYPE=image/jpeg:https://hinterhalt.de/wp-content/uploads/2026/01/Katrin-Werner-Unterlercher.jpg
END:VEVENT
BEGIN:VEVENT
DTSTART;TZID=Europe/Berlin:20270313T200000
DTEND;TZID=Europe/Berlin:20270313T230000
DTSTAMP:20260424T153327
CREATED:20260422T102717Z
LAST-MODIFIED:20260422T134354Z
UID:10002486-1804968000-1804978800@hinterhalt.de
SUMMARY:Jakarta Blues Band
DESCRIPTION:„Musik aus einer Zeit\, als die Verstärker klein waren und die Autos noch Flossen hatten“ \n\n\n\nDie sechs Musiker aus dem Münchner Umland sind im Hinterhalt regelmäßige und gern gesehene Gäste. Mit höchster Spielfreude zelebrieren sie alle Facetten des Blues und beweisen immer wieder aufs Neue\, dass Blues Lebensfreude pur vermittelt. Bei der Jakarta Blues Band heißt es bei strammen Shuffles und treibendem Jump Blues „Shake It\, Baby !“. Die Musiker bieten perfekte handgemachte Musik\, bei der man einfach nicht stillhalten kann. Mit Liebe und Respekt lassen sie einen Sound aufleben\, der mit seiner ursprünglichen Kraft und Emotionalität die Zuhörer in seinen Bann zieht. T-Bone Walker\, B.B. King und Otis Rush heißen die Vorbilder. Nach dem Urteil gutsortierter Blues-Fans ist die Band verdammt nah dran am Sound ihrer Helden. Kaum ein Gitarrist pflegt den Chicago-Blues-Stil so authentisch wie Markus Stegbauer\, der Lead-Gitarrist und Sänger der Band\, der sich vor allem in die Lines von Otis Rush und B.B. King hineinfuchst wie kein Zweiter und sie als Inspiration für eigene Soli einsetzt. \n\n\n\nMit ihrem abwechslungsreichen Programm hat sich die Band in Südbayern mittlerweile einen erstklassigen Ruf erspielt. Wir freuen uns\, dass sie auch wieder im Hinterhalt sind! \n\n\n\nPressestimmen zu vergangenen Auftritten: \n\n\n\nSüddeutsche Zeitung\, Dachau: „Gesteigert wird das noch von der Jakarta Blues Band\, die mit ihrem groovigen und swingenden Sound die Stimmung zum Kochen bringt. Pfiffe\, Begeisterungsrufe und frenetischer Applaus: Erfahrung – die Musiker sind schon leicht ergraut – macht den Meister.“ \n\n\n\nStefan Fritz\, Bavaria News\, „Die Bandbreite reicht vom Slow-Blues – wie dem „I can´t quit you baby“ (W. Dixon) bis hin zu mitreißenden Tanznummern z.B. Albert Kings „Let´s have a natural Ball“. Womit dann auch spätestens das alte Vorurteil vom Tisch gewischt wäre\, Blues sei nur etwas für Melancholiker! Und das Stammpublikum (…) lässt sich nicht lange bitten\, geht bereits nach den ersten Stücken begeistert mit und steigert sich im Verlauf des fast dreistündigen Konzerts zu wahren Ovationen. (…) Und bei „Up The Line“ liefern sich Florian Niklas jazziges Saxophon mit der geschmeidig plaudernden Leadgitarre von Markus Stegbauer ein geradezu spaßiges Frage-Antwort-Spiel.“ \n\n\n\nBurghauser Anzeiger\, „Mit Sommerwetter und einem fulminanten Auftritt der Jakarta Blues Band ging die diesjährige Reihe von „Jazz am Bichl“ zu Ende. Und es war ein würdiger Abschluss für diese Konzertreihe. Fetter\, satter\, manchmal lauter\, manchmal leise\, manchmal frecher\, manchmal trauriger Blues unterhielt die Besucher drei volle Stunden. Und die Besucher dankten es den Künstlern und der veranstaltenden IG Jazz einmal mehr mit einem vollen Platz. Egal\, ob Sitz- oder Stehplätze am oder am Rand des Bichls: Alles war restlos belegt\, und es gab fast kein Durchkommen mehr“  \n\n\n\nhttps://de-de.facebook.com/JakartaBluesBand \n\n\n\nwww.jakartabluesband.de
URL:https://hinterhalt.de/veranstaltung/jakarta-blues-band-4/
LOCATION:Hinterhalt I\, Leitenstraße 40\, Geretsried\, 82538
CATEGORIES:Konzert
ATTACH;FMTTYPE=image/jpeg:https://hinterhalt.de/wp-content/uploads/2025/07/HiHa25_JakartaBluesBand_C_Bernd-Satzinger_70.jpg
END:VEVENT
END:VCALENDAR