BEGIN:VCALENDAR
VERSION:2.0
PRODID:-//Kulturbühne Hinterhalt - ECPv6.15.20//NONSGML v1.0//EN
CALSCALE:GREGORIAN
METHOD:PUBLISH
X-WR-CALNAME:Kulturbühne Hinterhalt
X-ORIGINAL-URL:https://hinterhalt.de
X-WR-CALDESC:Veranstaltungen für Kulturbühne Hinterhalt
REFRESH-INTERVAL;VALUE=DURATION:PT1H
X-Robots-Tag:noindex
X-PUBLISHED-TTL:PT1H
BEGIN:VTIMEZONE
TZID:Europe/Berlin
BEGIN:DAYLIGHT
TZOFFSETFROM:+0100
TZOFFSETTO:+0200
TZNAME:CEST
DTSTART:20240331T010000
END:DAYLIGHT
BEGIN:STANDARD
TZOFFSETFROM:+0200
TZOFFSETTO:+0100
TZNAME:CET
DTSTART:20241027T010000
END:STANDARD
BEGIN:DAYLIGHT
TZOFFSETFROM:+0100
TZOFFSETTO:+0200
TZNAME:CEST
DTSTART:20250330T010000
END:DAYLIGHT
BEGIN:STANDARD
TZOFFSETFROM:+0200
TZOFFSETTO:+0100
TZNAME:CET
DTSTART:20251026T010000
END:STANDARD
BEGIN:DAYLIGHT
TZOFFSETFROM:+0100
TZOFFSETTO:+0200
TZNAME:CEST
DTSTART:20260329T010000
END:DAYLIGHT
BEGIN:STANDARD
TZOFFSETFROM:+0200
TZOFFSETTO:+0100
TZNAME:CET
DTSTART:20261025T010000
END:STANDARD
BEGIN:DAYLIGHT
TZOFFSETFROM:+0100
TZOFFSETTO:+0200
TZNAME:CEST
DTSTART:20270328T010000
END:DAYLIGHT
BEGIN:STANDARD
TZOFFSETFROM:+0200
TZOFFSETTO:+0100
TZNAME:CET
DTSTART:20271031T010000
END:STANDARD
END:VTIMEZONE
BEGIN:VEVENT
DTSTART;TZID=Europe/Berlin:20260411T203000
DTEND;TZID=Europe/Berlin:20260411T235900
DTSTAMP:20260422T223847
CREATED:20260330T163230Z
LAST-MODIFIED:20260403T121357Z
UID:10002474-1775939400-1775951940@hinterhalt.de
SUMMARY:Geschlossene Gesellschaft HiHa II
DESCRIPTION:Heute feiert hier: Julius \n\n\n\nDer Hinterhalt II (der „kleine“ Raum) ist für eine private Veranstaltung / Party gebucht. \n\n\n\nHinterhalt mieten für geschlossene Gesellschaften?RENT A PARTY!Private Feiern aller Art? Einfach Mail an info@hinterhalt.de und Konditionen anfragen.https://hinterhalt.de/partyraum/
URL:https://hinterhalt.de/veranstaltung/geschlossene-gesellschaft-hiha-ii-56/
LOCATION:Hinterhalt II\, Leitenstrasse 40\, Geretsried-Gelting\, Bayern\, 82538\, Deutschland
CATEGORIES:Geschlossene Gesellschaft
ATTACH;FMTTYPE=image/jpeg:https://hinterhalt.de/wp-content/uploads/2025/11/Hinterhalt-Party-Feier-1.jpg
END:VEVENT
BEGIN:VEVENT
DTSTART;TZID=Europe/Berlin:20260327T120000
DTEND;TZID=Europe/Berlin:20260327T233000
DTSTAMP:20260422T223847
CREATED:20260225T155918Z
LAST-MODIFIED:20260225T155921Z
UID:10002429-1774612800-1774654200@hinterhalt.de
SUMMARY:Geschlossene Gesellschaft Hinterhalt II
DESCRIPTION:Valeria
URL:https://hinterhalt.de/veranstaltung/partyraum-hinterhalt-gelting-geretsried/
LOCATION:Hinterhalt II\, Leitenstrasse 40\, Geretsried-Gelting\, Bayern\, 82538\, Deutschland
CATEGORIES:Geschlossene Gesellschaft
ATTACH;FMTTYPE=image/jpeg:https://hinterhalt.de/wp-content/uploads/2025/11/Hinterhalt-Party-Feier-2.jpg
END:VEVENT
BEGIN:VEVENT
DTSTART;TZID=Europe/Berlin:20260227T203000
DTEND;TZID=Europe/Berlin:20260227T235900
DTSTAMP:20260422T223847
CREATED:20251126T124131Z
LAST-MODIFIED:20260225T090929Z
UID:10002359-1772224200-1772236740@hinterhalt.de
SUMMARY:Geschlossene Gesellschaft HiHa II
DESCRIPTION:Sven
URL:https://hinterhalt.de/veranstaltung/geschlossene-gesellschaft-hiha-ii-55/
LOCATION:Hinterhalt II\, Leitenstrasse 40\, Geretsried-Gelting\, Bayern\, 82538\, Deutschland
CATEGORIES:Geschlossene Gesellschaft
ATTACH;FMTTYPE=image/jpeg:https://hinterhalt.de/wp-content/uploads/2025/11/Hinterhalt-Party-Feier-3.jpg
END:VEVENT
BEGIN:VEVENT
DTSTART;TZID=Europe/Berlin:20260131T180000
DTEND;TZID=Europe/Berlin:20260131T233000
DTSTAMP:20260422T223847
CREATED:20251202T203505Z
LAST-MODIFIED:20251202T203508Z
UID:10002360-1769882400-1769902200@hinterhalt.de
SUMMARY:Geschlossene Gesellschaft Hinterhalt II
DESCRIPTION:Maggy
URL:https://hinterhalt.de/veranstaltung/geschlossene-gesellschaft-hinterhalt-ii-2/
LOCATION:Hinterhalt II\, Leitenstrasse 40\, Geretsried-Gelting\, Bayern\, 82538\, Deutschland
CATEGORIES:Geschlossene Gesellschaft
END:VEVENT
BEGIN:VEVENT
DTSTART;TZID=Europe/Berlin:20260129T190000
DTEND;TZID=Europe/Berlin:20260129T210000
DTSTAMP:20260422T223848
CREATED:20260121T094306Z
LAST-MODIFIED:20260126T160659Z
UID:10002393-1769713200-1769720400@hinterhalt.de
SUMMARY:StammtischkämpferInnen Workshop – Workshop für den politischen Nahkampf
DESCRIPTION:WERDE STAMMTISCHKÄMPFER*INLAUT GEGEN RECHTE UND RASSISTISCHE PAROLEN \n\n\n\nWir alle kennen das: Auf der Arbeit\, im Sportverein\, in der Familie oder auf der Straße fallen Sprüche\, die uns die Sprache verschlagen.Später ärgern wir uns\, hätten gerne den Mund aufgemacht. \n\n\n\nHier setzt der Stammtischkämpfer*innen-Workshop an. Er soll Menschen in die Lage versetzen\, die Schrecksekunde zu überwinden\, Position zu beziehen und deutlich zu machen: Das nehmen wir nicht länger hin! In Theorie und Praxis werden gängige rechte Positionen untersucht und wir üben\, das Wort zu ergreifen und für solidarische Alternativen zu streiten statt für Ausgrenzung und Rassismus. \n\n\n\nDer Workshop ist kein Empowerment-Workshop für von Rassismus betroffene Personen. \n\n\n\nAlle sind willkommen und wir versuchen einen möglichst sicheren Raum für alle Teilnehmenden zu schaffen. \n\n\n\nDie Teilnehmerzahl ist begrenzt; deshalb Anmeldung erforderlich unter demokratieundvielfalt@gmx.de \n\n\n\nEintritt ist frei\, über Spenden würden wir uns freuen.
URL:https://hinterhalt.de/veranstaltung/stammtischkaempferinnen-workshop-2/
LOCATION:Hinterhalt II\, Leitenstrasse 40\, Geretsried-Gelting\, Bayern\, 82538\, Deutschland
CATEGORIES:Konzert
ATTACH;FMTTYPE=image/jpeg:https://hinterhalt.de/wp-content/uploads/2026/01/Screenshot-2026-01-09-165100.jpg
END:VEVENT
BEGIN:VEVENT
DTSTART;TZID=Europe/Berlin:20260122T190000
DTEND;TZID=Europe/Berlin:20260122T210000
DTSTAMP:20260422T223848
CREATED:20251222T161449Z
LAST-MODIFIED:20260109T155725Z
UID:10002372-1769108400-1769115600@hinterhalt.de
SUMMARY:StammtischkämpferInnen Workshop
DESCRIPTION:WERDE STAMMTISCHKÄMPFER*INLAUT GEGEN RECHTE UND RASSISTISCHE PAROLEN \n\n\n\nWir alle kennen das: Auf der Arbeit\, im Sportverein\, in der Familie oder auf der Straße fallen Sprüche\, die uns die Sprache verschlagen.Später ärgern wir uns\, hätten gerne den Mund aufgemacht. \n\n\n\nHier setzt der Stammtischkämpfer*innen-Workshop an. Er soll Menschen in die Lage versetzen\, die Schrecksekunde zu überwinden\, Position zu beziehen und deutlich zu machen: Das nehmen wir nicht länger hin! In Theorie und Praxis werden gängige rechte Positionen untersucht und wir üben\, das Wort zu ergreifen und für solidarische Alternativen zu streiten statt für Ausgrenzung und Rassismus. \n\n\n\nDer Workshop ist kein Empowerment-Workshop für von Rassismus betroffene Personen. \n\n\n\nAlle sind willkommen und wir versuchen einen möglichst sicheren Raum für alle Teilnehmenden zu schaffen. \n\n\n\nDie Teilnehmerzahl ist begrenzt; deshalb Anmeldung erforderlich unter demokratieundvielfalt@gmx.de \n\n\n\nEintritt ist frei\, über Spenden würden wir uns freuen.
URL:https://hinterhalt.de/veranstaltung/stammtischkaempferinnen-workshop/
LOCATION:Hinterhalt II\, Leitenstrasse 40\, Geretsried-Gelting\, Bayern\, 82538\, Deutschland
CATEGORIES:Konzert
ATTACH;FMTTYPE=image/jpeg:https://hinterhalt.de/wp-content/uploads/2026/01/Screenshot-2026-01-09-165100.jpg
END:VEVENT
BEGIN:VEVENT
DTSTART;TZID=Europe/Berlin:20260116T170000
DTEND;TZID=Europe/Berlin:20260116T200000
DTSTAMP:20260422T223848
CREATED:20251013T061509Z
LAST-MODIFIED:20251105T073854Z
UID:10002312-1768582800-1768593600@hinterhalt.de
SUMMARY:Klamotten-Tausch-Party
DESCRIPTION:Servus Ladys 💃❤ \n\n\n\nEs ist mal wieder soweit 🤗👏🏻👑🪄🎉Die nächste nachhaltige Klamotten-Tausch-Party wird stattfinden: \n\n\n\nam 16.1.2026im Hinterhalt in GeltingAufbau ab 15 Uhr möglichBeginn ca. ab 17 Uhr \n\n\n\nOptional besteht auch die Möglichkeit am Vortag aufzubauen 😅💪🏻 Das klärt Ihr bei Bedarf bitte mit Bettina ab 😊(0162 8626302)Wie beim letzten „Austausch“ auch schon\, wäre es super wenn jeder was zum Trinken mitbringt 🙏🫗🥂🧃🍹🍾…Für das leibliche Wohl wird gesorgt 🍕🍝😋 \n\n\n\nSind dieses mal so früh dran\, damit jeder von Euch dabei sein kann 😜😂 \n\n\n\nWir hoffen auf Euer zahlreiches Erscheinen !!! \n\n\n\nBetsl und Hendl 
URL:https://hinterhalt.de/veranstaltung/klamotten-tausch-party/
LOCATION:Hinterhalt II\, Leitenstrasse 40\, Geretsried-Gelting\, Bayern\, 82538\, Deutschland
CATEGORIES:Konzert
ATTACH;FMTTYPE=image/jpeg:https://hinterhalt.de/wp-content/uploads/2025/10/boutique-6796399_1280.jpg
END:VEVENT
BEGIN:VEVENT
DTSTART;TZID=Europe/Berlin:20251231T200000
DTEND;TZID=Europe/Berlin:20251231T233000
DTSTAMP:20260422T223848
CREATED:20251110T182155Z
LAST-MODIFIED:20251110T182157Z
UID:10002349-1767211200-1767223800@hinterhalt.de
SUMMARY:Geschlossene Gesellschaft HiHa II
DESCRIPTION:Mücke
URL:https://hinterhalt.de/veranstaltung/geschlossene-gesellschaft-hiha-ii-53/
LOCATION:Hinterhalt II\, Leitenstrasse 40\, Geretsried-Gelting\, Bayern\, 82538\, Deutschland
CATEGORIES:Geschlossene Gesellschaft
END:VEVENT
BEGIN:VEVENT
DTSTART;TZID=Europe/Berlin:20251230T200000
DTEND;TZID=Europe/Berlin:20251230T233000
DTSTAMP:20260422T223848
CREATED:20251108T192034Z
LAST-MODIFIED:20251108T192107Z
UID:10002345-1767124800-1767137400@hinterhalt.de
SUMMARY:Geschlossene Gesellschaft HiHa II
DESCRIPTION:Stephan
URL:https://hinterhalt.de/veranstaltung/geschlossene-gesellschaft-hiha-ii-50/
LOCATION:Hinterhalt II\, Leitenstrasse 40\, Geretsried-Gelting\, Bayern\, 82538\, Deutschland
CATEGORIES:Geschlossene Gesellschaft
END:VEVENT
BEGIN:VEVENT
DTSTART;TZID=Europe/Berlin:20251219T170000
DTEND;TZID=Europe/Berlin:20251219T233000
DTSTAMP:20260422T223848
CREATED:20251018T171336Z
LAST-MODIFIED:20251018T171907Z
UID:10002317-1766163600-1766187000@hinterhalt.de
SUMMARY:Geschlossene Gesellschaft HiHa II
DESCRIPTION:Niclas
URL:https://hinterhalt.de/veranstaltung/geschlossene-gesellschaft-hiha-ii-49/
LOCATION:Hinterhalt II\, Leitenstrasse 40\, Geretsried-Gelting\, Bayern\, 82538\, Deutschland
CATEGORIES:Geschlossene Gesellschaft
END:VEVENT
BEGIN:VEVENT
DTSTART;TZID=Europe/Berlin:20251213T140000
DTEND;TZID=Europe/Berlin:20251213T235959
DTSTAMP:20260422T223848
CREATED:20250910T133649Z
LAST-MODIFIED:20250910T133712Z
UID:10002296-1765634400-1765670399@hinterhalt.de
SUMMARY:Geschlossene Gesellschaft HiHa II
DESCRIPTION:Fabian
URL:https://hinterhalt.de/veranstaltung/geschlossene-gesellschaft-hiha-ii-47/
LOCATION:Hinterhalt II\, Leitenstrasse 40\, Geretsried-Gelting\, Bayern\, 82538\, Deutschland
CATEGORIES:Geschlossene Gesellschaft
ATTACH;FMTTYPE=image/jpeg:https://hinterhalt.de/wp-content/uploads/2022/05/disco-2722995_640.jpg
END:VEVENT
BEGIN:VEVENT
DTSTART;TZID=Europe/Berlin:20251206T203000
DTEND;TZID=Europe/Berlin:20251206T233000
DTSTAMP:20260422T223848
CREATED:20251108T192807Z
LAST-MODIFIED:20251108T192809Z
UID:10002347-1765053000-1765063800@hinterhalt.de
SUMMARY:Geschlossene Gesellschaft HiHa II
DESCRIPTION:Steffen & Benedikt
URL:https://hinterhalt.de/veranstaltung/geschlossene-gesellschaft-hiha-ii-52/
LOCATION:Hinterhalt II\, Leitenstrasse 40\, Geretsried-Gelting\, Bayern\, 82538\, Deutschland
CATEGORIES:Geschlossene Gesellschaft
END:VEVENT
BEGIN:VEVENT
DTSTART;TZID=Europe/Berlin:20251129T000000
DTEND;TZID=Europe/Berlin:20251129T235959
DTSTAMP:20260422T223848
CREATED:20250223T164607Z
LAST-MODIFIED:20251026T071635Z
UID:10002152-1764374400-1764460799@hinterhalt.de
SUMMARY:Geschlossene Gesellschaft HiHa II
DESCRIPTION:GAUDIBOX
URL:https://hinterhalt.de/veranstaltung/geschlossene-gesellschaft-hiha-i-ii-3/
LOCATION:Hinterhalt II\, Leitenstrasse 40\, Geretsried-Gelting\, Bayern\, 82538\, Deutschland
CATEGORIES:Geschlossene Gesellschaft
END:VEVENT
BEGIN:VEVENT
DTSTART;TZID=Europe/Berlin:20251128T200100
DTEND;TZID=Europe/Berlin:20251128T235900
DTSTAMP:20260422T223848
CREATED:20251002T182229Z
LAST-MODIFIED:20251114T143934Z
UID:10002304-1764360060-1764374340@hinterhalt.de
SUMMARY:Geschlossene Gesellschaft HiHa II
DESCRIPTION:Victoria
URL:https://hinterhalt.de/veranstaltung/geschlossene-gesellschaft-hiha-ii-48/
LOCATION:Hinterhalt II\, Leitenstrasse 40\, Geretsried-Gelting\, Bayern\, 82538\, Deutschland
CATEGORIES:Geschlossene Gesellschaft
END:VEVENT
BEGIN:VEVENT
DTSTART;TZID=Europe/Berlin:20251116T170000
DTEND;TZID=Europe/Berlin:20251116T210000
DTSTAMP:20260422T223848
CREATED:20251108T192212Z
LAST-MODIFIED:20251108T192416Z
UID:10002346-1763312400-1763326800@hinterhalt.de
SUMMARY:Geschlossene Gesellschaft HiHa II
DESCRIPTION:Laura
URL:https://hinterhalt.de/veranstaltung/geschlossene-gesellschaft-hiha-ii-51/
LOCATION:Hinterhalt II\, Leitenstrasse 40\, Geretsried-Gelting\, Bayern\, 82538\, Deutschland
CATEGORIES:Geschlossene Gesellschaft
END:VEVENT
BEGIN:VEVENT
DTSTART;TZID=Europe/Berlin:20251031T203000
DTEND;TZID=Europe/Berlin:20251031T235900
DTSTAMP:20260422T223848
CREATED:20250506T154642Z
LAST-MODIFIED:20251031T085425Z
UID:10002207-1761942600-1761955140@hinterhalt.de
SUMMARY:Geschlossene Gesellschaft HiHa II
DESCRIPTION:Florian
URL:https://hinterhalt.de/veranstaltung/geschlossene-gesellschaft-hiha-ii-41/
LOCATION:Hinterhalt II\, Leitenstrasse 40\, Geretsried-Gelting\, Bayern\, 82538\, Deutschland
CATEGORIES:Geschlossene Gesellschaft
END:VEVENT
BEGIN:VEVENT
DTSTART;TZID=Europe/Berlin:20251004T170000
DTEND;TZID=Europe/Berlin:20251004T233000
DTSTAMP:20260422T223848
CREATED:20250819T060857Z
LAST-MODIFIED:20250819T060900Z
UID:10002286-1759597200-1759620600@hinterhalt.de
SUMMARY:Geschlossene Gesellschaft HiHa II
DESCRIPTION:Eduard ?
URL:https://hinterhalt.de/veranstaltung/geschlossene-gesellschaft-hiha-ii-45/
LOCATION:Hinterhalt II\, Leitenstrasse 40\, Geretsried-Gelting\, Bayern\, 82538\, Deutschland
CATEGORIES:Geschlossene Gesellschaft
END:VEVENT
BEGIN:VEVENT
DTSTART;TZID=Europe/Berlin:20250927T000000
DTEND;TZID=Europe/Berlin:20250927T235959
DTSTAMP:20260422T223848
CREATED:20250804T030036Z
LAST-MODIFIED:20250804T030038Z
UID:10002269-1758931200-1759017599@hinterhalt.de
SUMMARY:Geschlossene Gesellschaft HiHa II
DESCRIPTION:Alina
URL:https://hinterhalt.de/veranstaltung/geschlossene-gesellschaft-hiha-ii-43/
LOCATION:Hinterhalt II\, Leitenstrasse 40\, Geretsried-Gelting\, Bayern\, 82538\, Deutschland
CATEGORIES:Geschlossene Gesellschaft
ATTACH;FMTTYPE=image/jpeg:https://hinterhalt.de/wp-content/uploads/2022/05/disco-2722995_640.jpg
END:VEVENT
BEGIN:VEVENT
DTSTART;TZID=Europe/Berlin:20250926T170000
DTEND;TZID=Europe/Berlin:20250926T233000
DTSTAMP:20260422T223848
CREATED:20250819T060829Z
LAST-MODIFIED:20250819T060837Z
UID:10002285-1758906000-1758929400@hinterhalt.de
SUMMARY:Geschlossene Gesellschaft HiHa II
DESCRIPTION:Eduard ?
URL:https://hinterhalt.de/veranstaltung/geschlossene-gesellschaft-hiha-ii-44/
LOCATION:Hinterhalt II\, Leitenstrasse 40\, Geretsried-Gelting\, Bayern\, 82538\, Deutschland
CATEGORIES:Geschlossene Gesellschaft
END:VEVENT
BEGIN:VEVENT
DTSTART;TZID=Europe/Berlin:20250912T170000
DTEND;TZID=Europe/Berlin:20250912T233000
DTSTAMP:20260422T223848
CREATED:20250825T080643Z
LAST-MODIFIED:20250825T080646Z
UID:10002287-1757696400-1757719800@hinterhalt.de
SUMMARY:Geschlossene Gesellschaft HiHa II
DESCRIPTION:Magdalena
URL:https://hinterhalt.de/veranstaltung/geschlossene-gesellschaft-hiha-ii-46/
LOCATION:Hinterhalt II\, Leitenstrasse 40\, Geretsried-Gelting\, Bayern\, 82538\, Deutschland
CATEGORIES:Geschlossene Gesellschaft
END:VEVENT
BEGIN:VEVENT
DTSTART;TZID=Europe/Berlin:20250822T170000
DTEND;TZID=Europe/Berlin:20250822T233000
DTSTAMP:20260422T223848
CREATED:20240505T120823Z
LAST-MODIFIED:20240505T120826Z
UID:10002003-1755882000-1755905400@hinterhalt.de
SUMMARY:Geschlossene Gesellschaft HiHa II
DESCRIPTION:Martin
URL:https://hinterhalt.de/veranstaltung/geschlossene-gesellschaft-hiha-ii-4/
LOCATION:Hinterhalt II\, Leitenstrasse 40\, Geretsried-Gelting\, Bayern\, 82538\, Deutschland
CATEGORIES:Geschlossene Gesellschaft
END:VEVENT
BEGIN:VEVENT
DTSTART;TZID=Europe/Berlin:20250704T140000
DTEND;TZID=Europe/Berlin:20250704T235959
DTSTAMP:20260422T223848
CREATED:20250526T193231Z
LAST-MODIFIED:20250526T193233Z
UID:10002226-1751637600-1751673599@hinterhalt.de
SUMMARY:Geschlossene Gesellschaft HiHa II
DESCRIPTION:Basti
URL:https://hinterhalt.de/veranstaltung/geschlossene-gesellschaft-hiha-ii-42/
LOCATION:Hinterhalt II\, Leitenstrasse 40\, Geretsried-Gelting\, Bayern\, 82538\, Deutschland
CATEGORIES:Geschlossene Gesellschaft
END:VEVENT
BEGIN:VEVENT
DTSTART;TZID=Europe/Berlin:20250628T180000
DTEND;TZID=Europe/Berlin:20250628T235959
DTSTAMP:20260422T223848
CREATED:20250529T071314Z
LAST-MODIFIED:20250529T071340Z
UID:10002229-1751133600-1751155199@hinterhalt.de
SUMMARY:Geschlossene Gesellschaft HiHa II
DESCRIPTION:Julia
URL:https://hinterhalt.de/veranstaltung/geschlossene-gesellschaft-hiha-ii-julia/
LOCATION:Hinterhalt II\, Leitenstrasse 40\, Geretsried-Gelting\, Bayern\, 82538\, Deutschland
CATEGORIES:Geschlossene Gesellschaft
END:VEVENT
BEGIN:VEVENT
DTSTART;TZID=Europe/Berlin:20250627T160000
DTEND;TZID=Europe/Berlin:20250627T210000
DTSTAMP:20260422T223848
CREATED:20250606T070756Z
LAST-MODIFIED:20250606T070800Z
UID:10002245-1751040000-1751058000@hinterhalt.de
SUMMARY:Betsl-Klamotten-Markt
DESCRIPTION:
URL:https://hinterhalt.de/veranstaltung/betsl-klamotten-markt/
LOCATION:Hinterhalt II\, Leitenstrasse 40\, Geretsried-Gelting\, Bayern\, 82538\, Deutschland
CATEGORIES:Konzert
ATTACH;FMTTYPE=image/jpeg:https://hinterhalt.de/wp-content/uploads/2025/06/clothes-5371410_1280.jpg
END:VEVENT
BEGIN:VEVENT
DTSTART;TZID=Europe/Berlin:20250621T170000
DTEND;TZID=Europe/Berlin:20250621T233000
DTSTAMP:20260422T223848
CREATED:20250225T164100Z
LAST-MODIFIED:20250307T150421Z
UID:10002155-1750525200-1750548600@hinterhalt.de
SUMMARY:Geschlossene Gesellschaft HiHa II
DESCRIPTION:Elias
URL:https://hinterhalt.de/veranstaltung/geschlossene-gesellschaft-hiha-ii-33/
LOCATION:Hinterhalt II\, Leitenstrasse 40\, Geretsried-Gelting\, Bayern\, 82538\, Deutschland
CATEGORIES:Geschlossene Gesellschaft
END:VEVENT
BEGIN:VEVENT
DTSTART;TZID=Europe/Berlin:20250614T140000
DTEND;TZID=Europe/Berlin:20250614T235959
DTSTAMP:20260422T223848
CREATED:20250303T074443Z
LAST-MODIFIED:20250307T151556Z
UID:10002162-1749909600-1749945599@hinterhalt.de
SUMMARY:Geschlossene Gesellschaft HiHa II
DESCRIPTION:Pia
URL:https://hinterhalt.de/veranstaltung/geschlossene-gesellschaft-hiha-ii-35/
LOCATION:Hinterhalt II\, Leitenstrasse 40\, Geretsried-Gelting\, Bayern\, 82538\, Deutschland
CATEGORIES:Geschlossene Gesellschaft
END:VEVENT
BEGIN:VEVENT
DTSTART;TZID=Europe/Berlin:20250606T140000
DTEND;TZID=Europe/Berlin:20250606T235959
DTSTAMP:20260422T223848
CREATED:20250311T170527Z
LAST-MODIFIED:20250311T170529Z
UID:10002168-1749218400-1749254399@hinterhalt.de
SUMMARY:Geschlossene Gesellschaft HiHa II
DESCRIPTION:Julian
URL:https://hinterhalt.de/veranstaltung/geschlossene-gesellschaft-hiha-ii-37/
LOCATION:Hinterhalt II\, Leitenstrasse 40\, Geretsried-Gelting\, Bayern\, 82538\, Deutschland
CATEGORIES:Geschlossene Gesellschaft
END:VEVENT
BEGIN:VEVENT
DTSTART;TZID=Europe/Berlin:20250516T180000
DTEND;TZID=Europe/Berlin:20250516T235959
DTSTAMP:20260422T223848
CREATED:20250403T075732Z
LAST-MODIFIED:20250403T075734Z
UID:10002195-1747418400-1747439999@hinterhalt.de
SUMMARY:Geschlossene Gesellschaft HiHa II
DESCRIPTION:Paula & Philippa
URL:https://hinterhalt.de/veranstaltung/geschlossene-gesellschaft-hiha-ii-40/
LOCATION:Hinterhalt II\, Leitenstrasse 40\, Geretsried-Gelting\, Bayern\, 82538\, Deutschland
CATEGORIES:Geschlossene Gesellschaft
END:VEVENT
BEGIN:VEVENT
DTSTART;TZID=Europe/Berlin:20250510T000000
DTEND;TZID=Europe/Berlin:20250510T235959
DTSTAMP:20260422T223848
CREATED:20250223T164437Z
LAST-MODIFIED:20250223T164439Z
UID:10002151-1746835200-1746921599@hinterhalt.de
SUMMARY:Geschlossene Gesellschaft HiHa II
DESCRIPTION:Jan
URL:https://hinterhalt.de/veranstaltung/geschlossene-gesellschaft-hiha-ii-19/
LOCATION:Hinterhalt II\, Leitenstrasse 40\, Geretsried-Gelting\, Bayern\, 82538\, Deutschland
CATEGORIES:Geschlossene Gesellschaft
END:VEVENT
BEGIN:VEVENT
DTSTART;TZID=Europe/Berlin:20250425T000000
DTEND;TZID=Europe/Berlin:20250425T235959
DTSTAMP:20260422T223848
CREATED:20250318T184618Z
LAST-MODIFIED:20250326T081316Z
UID:10002180-1745539200-1745625599@hinterhalt.de
SUMMARY:Geschlossene Gesellschaft HiHa II
DESCRIPTION:Julie
URL:https://hinterhalt.de/veranstaltung/geschlossene-gesellschaft-hiha-i-ii-4/
LOCATION:Hinterhalt II\, Leitenstrasse 40\, Geretsried-Gelting\, Bayern\, 82538\, Deutschland
CATEGORIES:Geschlossene Gesellschaft
END:VEVENT
END:VCALENDAR