BEGIN:VCALENDAR
VERSION:2.0
PRODID:-//Kulturbühne Hinterhalt - ECPv6.15.20//NONSGML v1.0//EN
CALSCALE:GREGORIAN
METHOD:PUBLISH
X-ORIGINAL-URL:https://hinterhalt.de
X-WR-CALDESC:Veranstaltungen für Kulturbühne Hinterhalt
REFRESH-INTERVAL;VALUE=DURATION:PT1H
X-Robots-Tag:noindex
X-PUBLISHED-TTL:PT1H
BEGIN:VTIMEZONE
TZID:Europe/Berlin
BEGIN:DAYLIGHT
TZOFFSETFROM:+0100
TZOFFSETTO:+0200
TZNAME:CEST
DTSTART:20220327T010000
END:DAYLIGHT
BEGIN:STANDARD
TZOFFSETFROM:+0200
TZOFFSETTO:+0100
TZNAME:CET
DTSTART:20221030T010000
END:STANDARD
BEGIN:DAYLIGHT
TZOFFSETFROM:+0100
TZOFFSETTO:+0200
TZNAME:CEST
DTSTART:20230326T010000
END:DAYLIGHT
BEGIN:STANDARD
TZOFFSETFROM:+0200
TZOFFSETTO:+0100
TZNAME:CET
DTSTART:20231029T010000
END:STANDARD
BEGIN:DAYLIGHT
TZOFFSETFROM:+0100
TZOFFSETTO:+0200
TZNAME:CEST
DTSTART:20240331T010000
END:DAYLIGHT
BEGIN:STANDARD
TZOFFSETFROM:+0200
TZOFFSETTO:+0100
TZNAME:CET
DTSTART:20241027T010000
END:STANDARD
BEGIN:DAYLIGHT
TZOFFSETFROM:+0100
TZOFFSETTO:+0200
TZNAME:CEST
DTSTART:20250330T010000
END:DAYLIGHT
BEGIN:STANDARD
TZOFFSETFROM:+0200
TZOFFSETTO:+0100
TZNAME:CET
DTSTART:20251026T010000
END:STANDARD
END:VTIMEZONE
BEGIN:VEVENT
DTSTART;TZID=Europe/Berlin:20240802T180000
DTEND;TZID=Europe/Berlin:20240802T233000
DTSTAMP:20260423T022232
CREATED:20240703T164141Z
LAST-MODIFIED:20240703T164405Z
UID:10002028-1722621600-1722641400@hinterhalt.de
SUMMARY:Geschlossene Gesellschaft HiHa II
DESCRIPTION:Nathalie
URL:https://hinterhalt.de/veranstaltung/geschlossene-gesellschaft-hiha-ii-12/
LOCATION:Hinterhalt II\, Leitenstrasse 40\, Geretsried-Gelting\, Bayern\, 82538\, Deutschland
CATEGORIES:Geschlossene Gesellschaft
END:VEVENT
BEGIN:VEVENT
DTSTART;TZID=Europe/Berlin:20240713T170000
DTEND;TZID=Europe/Berlin:20240713T233000
DTSTAMP:20260423T022232
CREATED:20240608T103628Z
LAST-MODIFIED:20240608T103635Z
UID:10002023-1720890000-1720913400@hinterhalt.de
SUMMARY:Geschlossene Gesellschaft HiHa II
DESCRIPTION:Hans
URL:https://hinterhalt.de/veranstaltung/geschlossene-gesellschaft-hiha-ii-11/
LOCATION:Hinterhalt II\, Leitenstrasse 40\, Geretsried-Gelting\, Bayern\, 82538\, Deutschland
CATEGORIES:Geschlossene Gesellschaft
END:VEVENT
BEGIN:VEVENT
DTSTART;TZID=Europe/Berlin:20240615T170000
DTEND;TZID=Europe/Berlin:20240615T233000
DTSTAMP:20260423T022232
CREATED:20240521T075244Z
LAST-MODIFIED:20240521T075253Z
UID:10002012-1718470800-1718494200@hinterhalt.de
SUMMARY:Geschlossene Gesellschaft HiHa II
DESCRIPTION:Timo
URL:https://hinterhalt.de/veranstaltung/geschlossene-gesellschaft-hiha-ii-8/
LOCATION:Hinterhalt II\, Leitenstrasse 40\, Geretsried-Gelting\, Bayern\, 82538\, Deutschland
CATEGORIES:Geschlossene Gesellschaft
END:VEVENT
BEGIN:VEVENT
DTSTART;TZID=Europe/Berlin:20240510T170000
DTEND;TZID=Europe/Berlin:20240510T233000
DTSTAMP:20260423T022232
CREATED:20240402T141646Z
LAST-MODIFIED:20240402T141655Z
UID:10001977-1715360400-1715383800@hinterhalt.de
SUMMARY:Geschlossene Gesellschaft
DESCRIPTION:Bartl
URL:https://hinterhalt.de/veranstaltung/geschlossene-gesellschaft-123/
LOCATION:Hinterhalt II\, Leitenstrasse 40\, Geretsried-Gelting\, Bayern\, 82538\, Deutschland
CATEGORIES:Geschlossene Gesellschaft
END:VEVENT
BEGIN:VEVENT
DTSTART;TZID=Europe/Berlin:20240426T180000
DTEND;TZID=Europe/Berlin:20240426T235900
DTSTAMP:20260423T022232
CREATED:20240103T171842Z
LAST-MODIFIED:20240104T082730Z
UID:10001509-1714154400-1714175940@hinterhalt.de
SUMMARY:Geschlossene Gesellschaft
DESCRIPTION:Bettina
URL:https://hinterhalt.de/veranstaltung/geschlossene-gesellschaft-99/
LOCATION:Hinterhalt II\, Leitenstrasse 40\, Geretsried-Gelting\, Bayern\, 82538\, Deutschland
CATEGORIES:Geschlossene Gesellschaft
END:VEVENT
BEGIN:VEVENT
DTSTART;TZID=Europe/Berlin:20240301T180000
DTEND;TZID=Europe/Berlin:20240301T233000
DTSTAMP:20260423T022232
CREATED:20240121T173850Z
LAST-MODIFIED:20240121T173852Z
UID:10001535-1709316000-1709335800@hinterhalt.de
SUMMARY:Geschlossene Gesellschaft
DESCRIPTION:Lida
URL:https://hinterhalt.de/veranstaltung/geschlossene-gesellschaft-104/
LOCATION:Hinterhalt II\, Leitenstrasse 40\, Geretsried-Gelting\, Bayern\, 82538\, Deutschland
CATEGORIES:Geschlossene Gesellschaft
END:VEVENT
BEGIN:VEVENT
DTSTART;TZID=Europe/Berlin:20240217T180000
DTEND;TZID=Europe/Berlin:20240217T233000
DTSTAMP:20260423T022232
CREATED:20240122T080329Z
LAST-MODIFIED:20240122T080331Z
UID:10001542-1708192800-1708212600@hinterhalt.de
SUMMARY:Geschlossene Gesellschaft
DESCRIPTION:Evi
URL:https://hinterhalt.de/veranstaltung/geschlossene-gesellschaft-109/
LOCATION:Hinterhalt II\, Leitenstrasse 40\, Geretsried-Gelting\, Bayern\, 82538\, Deutschland
CATEGORIES:Geschlossene Gesellschaft
END:VEVENT
BEGIN:VEVENT
DTSTART;TZID=Europe/Berlin:20240216T180000
DTEND;TZID=Europe/Berlin:20240216T233000
DTSTAMP:20260423T022232
CREATED:20240121T174729Z
LAST-MODIFIED:20240122T080256Z
UID:10001537-1708106400-1708126200@hinterhalt.de
SUMMARY:Geschlossene Gesellschaft
DESCRIPTION:Gabriele
URL:https://hinterhalt.de/veranstaltung/geschlossene-gesellschaft-105/
LOCATION:Hinterhalt II\, Leitenstrasse 40\, Geretsried-Gelting\, Bayern\, 82538\, Deutschland
CATEGORIES:Geschlossene Gesellschaft
END:VEVENT
BEGIN:VEVENT
DTSTART;TZID=Europe/Berlin:20240210T180000
DTEND;TZID=Europe/Berlin:20240210T233000
DTSTAMP:20260423T022232
CREATED:20240128T193310Z
LAST-MODIFIED:20240128T193405Z
UID:10001557-1707588000-1707607800@hinterhalt.de
SUMMARY:Geschlossene Gesellschaft
DESCRIPTION:Beate
URL:https://hinterhalt.de/veranstaltung/geschlossene-gesellschaft-116/
LOCATION:Hinterhalt II\, Leitenstrasse 40\, Geretsried-Gelting\, Bayern\, 82538\, Deutschland
CATEGORIES:Geschlossene Gesellschaft
END:VEVENT
BEGIN:VEVENT
DTSTART;TZID=Europe/Berlin:20240203T180000
DTEND;TZID=Europe/Berlin:20240203T233000
DTSTAMP:20260423T022232
CREATED:20240123T115804Z
LAST-MODIFIED:20240123T115807Z
UID:10001550-1706983200-1707003000@hinterhalt.de
SUMMARY:Geschlossene Gesellschaft
DESCRIPTION:Silvia
URL:https://hinterhalt.de/veranstaltung/geschlossene-gesellschaft-111/
LOCATION:Hinterhalt II\, Leitenstrasse 40\, Geretsried-Gelting\, Bayern\, 82538\, Deutschland
CATEGORIES:Geschlossene Gesellschaft
END:VEVENT
BEGIN:VEVENT
DTSTART;TZID=Europe/Berlin:20240126T180000
DTEND;TZID=Europe/Berlin:20240126T233000
DTSTAMP:20260423T022232
CREATED:20240123T110720Z
LAST-MODIFIED:20240123T110722Z
UID:10001549-1706292000-1706311800@hinterhalt.de
SUMMARY:Geschlossene Gesellschaft
DESCRIPTION:Max
URL:https://hinterhalt.de/veranstaltung/geschlossene-gesellschaft-110/
LOCATION:Hinterhalt II\, Leitenstrasse 40\, Geretsried-Gelting\, Bayern\, 82538\, Deutschland
CATEGORIES:Geschlossene Gesellschaft
END:VEVENT
BEGIN:VEVENT
DTSTART;TZID=Europe/Berlin:20231231T170000
DTEND;TZID=Europe/Berlin:20231231T233000
DTSTAMP:20260423T022232
CREATED:20231024T140230Z
LAST-MODIFIED:20231111T144411Z
UID:10001492-1704042000-1704065400@hinterhalt.de
SUMMARY:Geschlossene Gesellschaft
DESCRIPTION:Lukas
URL:https://hinterhalt.de/veranstaltung/geschlossene-gesellschaft-97/
LOCATION:Hinterhalt II\, Leitenstrasse 40\, Geretsried-Gelting\, Bayern\, 82538\, Deutschland
CATEGORIES:Geschlossene Gesellschaft
END:VEVENT
BEGIN:VEVENT
DTSTART;TZID=Europe/Berlin:20231215T170000
DTEND;TZID=Europe/Berlin:20231215T233000
DTSTAMP:20260423T022232
CREATED:20231024T140204Z
LAST-MODIFIED:20231024T140206Z
UID:10001491-1702659600-1702683000@hinterhalt.de
SUMMARY:Geschlossene Gesellschaft
DESCRIPTION:Alexander
URL:https://hinterhalt.de/veranstaltung/geschlossene-gesellschaft-96/
LOCATION:Hinterhalt II\, Leitenstrasse 40\, Geretsried-Gelting\, Bayern\, 82538\, Deutschland
CATEGORIES:Geschlossene Gesellschaft
END:VEVENT
BEGIN:VEVENT
DTSTART;TZID=Europe/Berlin:20231209T180000
DTEND;TZID=Europe/Berlin:20231209T233000
DTSTAMP:20260423T022232
CREATED:20231004T084548Z
LAST-MODIFIED:20231004T084551Z
UID:10001486-1702144800-1702164600@hinterhalt.de
SUMMARY:Geschlossene Gesellschaft
DESCRIPTION:Lukas
URL:https://hinterhalt.de/veranstaltung/geschlossene-gesellschaft-92/
LOCATION:Hinterhalt II\, Leitenstrasse 40\, Geretsried-Gelting\, Bayern\, 82538\, Deutschland
CATEGORIES:Geschlossene Gesellschaft
END:VEVENT
BEGIN:VEVENT
DTSTART;TZID=Europe/Berlin:20231111T180000
DTEND;TZID=Europe/Berlin:20231111T233000
DTSTAMP:20260423T022232
CREATED:20231024T135918Z
LAST-MODIFIED:20231024T135920Z
UID:10001490-1699725600-1699745400@hinterhalt.de
SUMMARY:Geschlossene Gesellschaft
DESCRIPTION:Vali & Dimi
URL:https://hinterhalt.de/veranstaltung/geschlossene-gesellschaft-95/
LOCATION:Hinterhalt II\, Leitenstrasse 40\, Geretsried-Gelting\, Bayern\, 82538\, Deutschland
CATEGORIES:Geschlossene Gesellschaft
END:VEVENT
BEGIN:VEVENT
DTSTART;TZID=Europe/Berlin:20231104T180000
DTEND;TZID=Europe/Berlin:20231104T233000
DTSTAMP:20260423T022232
CREATED:20230919T164317Z
LAST-MODIFIED:20230919T164320Z
UID:10001482-1699120800-1699140600@hinterhalt.de
SUMMARY:Geschlossene Veranstaltung
DESCRIPTION:Valentin
URL:https://hinterhalt.de/veranstaltung/geschlossene-veranstaltung-7/
LOCATION:Hinterhalt II\, Leitenstrasse 40\, Geretsried-Gelting\, Bayern\, 82538\, Deutschland
CATEGORIES:Geschlossene Gesellschaft
END:VEVENT
BEGIN:VEVENT
DTSTART;TZID=Europe/Berlin:20231103T180000
DTEND;TZID=Europe/Berlin:20231103T233000
DTSTAMP:20260423T022232
CREATED:20230919T164639Z
LAST-MODIFIED:20230919T164641Z
UID:10001483-1699034400-1699054200@hinterhalt.de
SUMMARY:Geschlossene Veranstaltung
DESCRIPTION:Christina
URL:https://hinterhalt.de/veranstaltung/geschlossene-veranstaltung-8/
LOCATION:Hinterhalt II\, Leitenstrasse 40\, Geretsried-Gelting\, Bayern\, 82538\, Deutschland
CATEGORIES:Geschlossene Gesellschaft
END:VEVENT
BEGIN:VEVENT
DTSTART;TZID=Europe/Berlin:20231014T080000
DTEND;TZID=Europe/Berlin:20231014T170000
DTSTAMP:20260423T022232
CREATED:20230323T123718Z
LAST-MODIFIED:20230323T123850Z
UID:10001390-1697270400-1697302800@hinterhalt.de
SUMMARY:Geschlossene Gesellschaft
DESCRIPTION:Doris
URL:https://hinterhalt.de/veranstaltung/geschlossene-gesellschaft-69/
LOCATION:Hinterhalt II\, Leitenstrasse 40\, Geretsried-Gelting\, Bayern\, 82538\, Deutschland
CATEGORIES:Geschlossene Gesellschaft
END:VEVENT
BEGIN:VEVENT
DTSTART;TZID=Europe/Berlin:20230923T180000
DTEND;TZID=Europe/Berlin:20230923T233000
DTSTAMP:20260423T022232
CREATED:20230811T194510Z
LAST-MODIFIED:20230811T194636Z
UID:10001466-1695492000-1695511800@hinterhalt.de
SUMMARY:Geschlossene Gesellschaft
DESCRIPTION:Eduard
URL:https://hinterhalt.de/veranstaltung/geschlossene-gesellschaft-86/
LOCATION:Hinterhalt II\, Leitenstrasse 40\, Geretsried-Gelting\, Bayern\, 82538\, Deutschland
CATEGORIES:Geschlossene Gesellschaft
END:VEVENT
BEGIN:VEVENT
DTSTART;TZID=Europe/Berlin:20230811T190000
DTEND;TZID=Europe/Berlin:20230811T230000
DTSTAMP:20260423T022232
CREATED:20230104T184541Z
LAST-MODIFIED:20230104T184617Z
UID:10001342-1691780400-1691794800@hinterhalt.de
SUMMARY:Geschlossene Gesellschaft
DESCRIPTION:
URL:https://hinterhalt.de/veranstaltung/geschlossene-gesellschaft-57/
LOCATION:Hinterhalt II\, Leitenstrasse 40\, Geretsried-Gelting\, Bayern\, 82538\, Deutschland
CATEGORIES:Geschlossene Gesellschaft
END:VEVENT
BEGIN:VEVENT
DTSTART;TZID=Europe/Berlin:20230708T080000
DTEND;TZID=Europe/Berlin:20230708T235959
DTSTAMP:20260423T022232
CREATED:20230206T073209Z
LAST-MODIFIED:20230206T073247Z
UID:10001364-1688803200-1688860799@hinterhalt.de
SUMMARY:Geschlossene Veranstaltung
DESCRIPTION:Kathrin
URL:https://hinterhalt.de/veranstaltung/geschlossene-veranstaltung-2/
LOCATION:Hinterhalt II\, Leitenstrasse 40\, Geretsried-Gelting\, Bayern\, 82538\, Deutschland
CATEGORIES:Geschlossene Gesellschaft
END:VEVENT
BEGIN:VEVENT
DTSTART;TZID=Europe/Berlin:20230701T150000
DTEND;TZID=Europe/Berlin:20230702T150000
DTSTAMP:20260423T022232
CREATED:20230512T111011Z
LAST-MODIFIED:20230512T111013Z
UID:10001410-1688223600-1688310000@hinterhalt.de
SUMMARY:Geschlossene Veranstaltung
DESCRIPTION:Hac
URL:https://hinterhalt.de/veranstaltung/geschlossene-veranstaltung-6/
LOCATION:Hinterhalt II\, Leitenstrasse 40\, Geretsried-Gelting\, Bayern\, 82538\, Deutschland
CATEGORIES:Geschlossene Gesellschaft
END:VEVENT
BEGIN:VEVENT
DTSTART;TZID=Europe/Berlin:20230422T190000
DTEND;TZID=Europe/Berlin:20230422T233000
DTSTAMP:20260423T022232
CREATED:20230108T164928Z
LAST-MODIFIED:20230411T174129Z
UID:10001344-1682190000-1682206200@hinterhalt.de
SUMMARY:Geschlossene Veranstaltung
DESCRIPTION:(Volkmar)
URL:https://hinterhalt.de/veranstaltung/5666/
LOCATION:Hinterhalt II\, Leitenstrasse 40\, Geretsried-Gelting\, Bayern\, 82538\, Deutschland
CATEGORIES:Geschlossene Gesellschaft
END:VEVENT
BEGIN:VEVENT
DTSTART;TZID=Europe/Berlin:20230421T180000
DTEND;TZID=Europe/Berlin:20230421T230000
DTSTAMP:20260423T022232
CREATED:20230317T075705Z
LAST-MODIFIED:20230317T075751Z
UID:10001386-1682100000-1682118000@hinterhalt.de
SUMMARY:Geschlossene Gesellschaft
DESCRIPTION:Gabriel
URL:https://hinterhalt.de/veranstaltung/geschlossene-gesellschaft-68/
LOCATION:Hinterhalt II\, Leitenstrasse 40\, Geretsried-Gelting\, Bayern\, 82538\, Deutschland
CATEGORIES:Geschlossene Gesellschaft
END:VEVENT
BEGIN:VEVENT
DTSTART;TZID=Europe/Berlin:20230421T000000
DTEND;TZID=Europe/Berlin:20230421T235959
DTSTAMP:20260423T022232
CREATED:20230302T130045Z
LAST-MODIFIED:20230321T161922Z
UID:10001375-1682035200-1682121599@hinterhalt.de
SUMMARY:Geschlossene Veranstaltung
DESCRIPTION:Gabriel
URL:https://hinterhalt.de/veranstaltung/geschlossene-veranstaltung-4/
LOCATION:Hinterhalt II\, Leitenstrasse 40\, Geretsried-Gelting\, Bayern\, 82538\, Deutschland
CATEGORIES:Geschlossene Gesellschaft
END:VEVENT
BEGIN:VEVENT
DTSTART;TZID=Europe/Berlin:20230408T200000
DTEND;TZID=Europe/Berlin:20230408T233000
DTSTAMP:20260423T022232
CREATED:20221208T200715Z
LAST-MODIFIED:20221208T200718Z
UID:10001199-1680984000-1680996600@hinterhalt.de
SUMMARY:Geschlossene Gesellschaft
DESCRIPTION:
URL:https://hinterhalt.de/veranstaltung/geschlossene-gesellschaft-50/
LOCATION:Hinterhalt II\, Leitenstrasse 40\, Geretsried-Gelting\, Bayern\, 82538\, Deutschland
CATEGORIES:Geschlossene Gesellschaft
END:VEVENT
BEGIN:VEVENT
DTSTART;TZID=Europe/Berlin:20230407T200000
DTEND;TZID=Europe/Berlin:20230407T233000
DTSTAMP:20260423T022232
CREATED:20221208T200836Z
LAST-MODIFIED:20221208T200839Z
UID:10001200-1680897600-1680910200@hinterhalt.de
SUMMARY:Geschlossene Gesellschaft
DESCRIPTION:
URL:https://hinterhalt.de/veranstaltung/geschlossene-gesellschaft-51/
LOCATION:Hinterhalt II\, Leitenstrasse 40\, Geretsried-Gelting\, Bayern\, 82538\, Deutschland
CATEGORIES:Geschlossene Gesellschaft
END:VEVENT
BEGIN:VEVENT
DTSTART;TZID=Europe/Berlin:20230331T080000
DTEND;TZID=Europe/Berlin:20230331T170000
DTSTAMP:20260423T022232
CREATED:20230305T121518Z
LAST-MODIFIED:20230305T121537Z
UID:10001376-1680249600-1680282000@hinterhalt.de
SUMMARY:Geschlossene Gesellschaft
DESCRIPTION:Tobi
URL:https://hinterhalt.de/veranstaltung/geschlossene-gesellschaft-65/
LOCATION:Hinterhalt II\, Leitenstrasse 40\, Geretsried-Gelting\, Bayern\, 82538\, Deutschland
CATEGORIES:Geschlossene Gesellschaft
END:VEVENT
BEGIN:VEVENT
DTSTART;TZID=Europe/Berlin:20230325T180000
DTEND;TZID=Europe/Berlin:20230325T233000
DTSTAMP:20260423T022232
CREATED:20230307T072935Z
LAST-MODIFIED:20230307T073025Z
UID:10001381-1679767200-1679787000@hinterhalt.de
SUMMARY:Geschlossene Gesellschaft
DESCRIPTION:Nada
URL:https://hinterhalt.de/veranstaltung/geschlossene-gesellschaft-66/
LOCATION:Hinterhalt II\, Leitenstrasse 40\, Geretsried-Gelting\, Bayern\, 82538\, Deutschland
CATEGORIES:Geschlossene Gesellschaft
END:VEVENT
BEGIN:VEVENT
DTSTART;TZID=Europe/Berlin:20230324T180000
DTEND;TZID=Europe/Berlin:20230324T233000
DTSTAMP:20260423T022232
CREATED:20230131T103552Z
LAST-MODIFIED:20230131T103556Z
UID:10001358-1679680800-1679700600@hinterhalt.de
SUMMARY:Geschlossene Gesellschaft
DESCRIPTION:Luc
URL:https://hinterhalt.de/veranstaltung/geschlossene-gesellschaft-63/
LOCATION:Hinterhalt II\, Leitenstrasse 40\, Geretsried-Gelting\, Bayern\, 82538\, Deutschland
CATEGORIES:Geschlossene Gesellschaft
END:VEVENT
END:VCALENDAR